BEGIN:VCALENDAR
VERSION:2.0
PRODID:-//The Center of Peace, Center for Spiritual Living - ECPv6.15.11//NONSGML v1.0//EN
CALSCALE:GREGORIAN
METHOD:PUBLISH
X-WR-CALNAME:The Center of Peace, Center for Spiritual Living
X-ORIGINAL-URL:https://thecenterofpeace.org
X-WR-CALDESC:Events for The Center of Peace, Center for Spiritual Living
REFRESH-INTERVAL;VALUE=DURATION:PT1H
X-Robots-Tag:noindex
X-PUBLISHED-TTL:PT1H
BEGIN:VTIMEZONE
TZID:America/New_York
BEGIN:DAYLIGHT
TZOFFSETFROM:-0500
TZOFFSETTO:-0400
TZNAME:EDT
DTSTART:20240310T070000
END:DAYLIGHT
BEGIN:STANDARD
TZOFFSETFROM:-0400
TZOFFSETTO:-0500
TZNAME:EST
DTSTART:20241103T060000
END:STANDARD
BEGIN:DAYLIGHT
TZOFFSETFROM:-0500
TZOFFSETTO:-0400
TZNAME:EDT
DTSTART:20250309T070000
END:DAYLIGHT
BEGIN:STANDARD
TZOFFSETFROM:-0400
TZOFFSETTO:-0500
TZNAME:EST
DTSTART:20251102T060000
END:STANDARD
BEGIN:DAYLIGHT
TZOFFSETFROM:-0500
TZOFFSETTO:-0400
TZNAME:EDT
DTSTART:20260308T070000
END:DAYLIGHT
BEGIN:STANDARD
TZOFFSETFROM:-0400
TZOFFSETTO:-0500
TZNAME:EST
DTSTART:20261101T060000
END:STANDARD
END:VTIMEZONE
BEGIN:VEVENT
DTSTART;VALUE=DATE:20250922
DTEND;VALUE=DATE:20251101
DTSTAMP:20260423T193500
CREATED:20250825T182617Z
LAST-MODIFIED:20250913T021155Z
UID:10003137-1758499200-1761955199@thecenterofpeace.org
SUMMARY:40-Days - Powerfully Creating Abundance
DESCRIPTION:REGISTER NOW
URL:https://thecenterofpeace.org/events/40-days-powerfully-creating-abundance-2025/
LOCATION:VIRTUAL\, PA\, United States
CATEGORIES:EVENT CALENDAR
ATTACH;FMTTYPE=image/png:https://thecenterofpeace.org/wp-content/uploads/2025/08/Powerfully-Creating-Abundance-40-Days.png
END:VEVENT
BEGIN:VEVENT
DTSTART;TZID=America/New_York:20251001T200000
DTEND;TZID=America/New_York:20251001T210000
DTSTAMP:20260423T193500
CREATED:20250416T032854Z
LAST-MODIFIED:20250416T032854Z
UID:10002856-1759348800-1759352400@thecenterofpeace.org
SUMMARY:Virtual Meditation with Calista
DESCRIPTION:Take this mid-week breather and join us in Calista’s Virtual Meditation every Wednesday evening. \nJoin Calista every Wednesday evening at 8pm on Microsoft Teams for a virtual meditation. Connect with your inner wisdom and bring forth that sense of clarity and stillness. Learning to dance with your thoughts versus fighting the impulses. \n\nMake a promise to yourself this week…try a 30-minute meditation and learn to observe your thinking.\nAllow yourself to unwind and enter into more clarity.\nFocus on your breath and learn to feel the rhythm of your body.\n\n  \nJoin Now \n  \nIf you already have Microsoft Teams on your computer or mobile device: Click here to join the meeting \nIf you do not have Microsoft Teams downloaded onto your computer or mobile device: Join on the web\, then enter the Meeting ID and Passcode below. \nMeeting ID: 299 382 379 670 | Passcode: McCeLN \nDownload Teams | Learn More | Meeting options
URL:https://thecenterofpeace.org/events/virtual-meditation-with-calista/2025-10-01/
LOCATION:PA
CATEGORIES:EVENT CALENDAR
ATTACH;FMTTYPE=image/png:https://thecenterofpeace.org/wp-content/uploads/2024/02/Screenshot-2024-02-03-124350.png
END:VEVENT
BEGIN:VEVENT
DTSTART;TZID=America/New_York:20251002T193000
DTEND;TZID=America/New_York:20251002T203000
DTSTAMP:20260423T193500
CREATED:20250910T214931Z
LAST-MODIFIED:20250910T215306Z
UID:10003163-1759433400-1759437000@thecenterofpeace.org
SUMMARY:A Course In Miracles Study Group
DESCRIPTION:Facilitators: Zulma González\, RScP and Cynthia Banks\, RScP\n\nCLICK TO JOIN THE STUDY GROUP  \nMeeting ID:  215 805 2506\nPasscode: LOVE
URL:https://thecenterofpeace.org/events/a-course-in-miracles-study-group/2025-10-02/
LOCATION:VIRTUAL\, PA\, United States
CATEGORIES:A Course In Miracles,Care Circles,EVENT CALENDAR,Study Groups
ATTACH;FMTTYPE=image/png:https://thecenterofpeace.org/wp-content/uploads/2025/09/A-Course-of-Miracles-1.png
ORGANIZER;CN="Zulma Gonzalez%2C RScP":MAILTO:miracles@thecenterofpeace.org
END:VEVENT
BEGIN:VEVENT
DTSTART;TZID=America/New_York:20251004T100000
DTEND;TZID=America/New_York:20251004T110000
DTSTAMP:20260423T193500
CREATED:20250828T210300Z
LAST-MODIFIED:20250830T023734Z
UID:10003151-1759572000-1759575600@thecenterofpeace.org
SUMMARY:Coffee with Rev Twana (October 2025)
DESCRIPTION:Come out to have a casual conversation and coffee with our senior minister\, Twana Malone on Oct 4 and Nov 5\, 2025 at 10am. \nBoth events will be located at The Green Line Cafe at 4239 Baltimore Avenue\, located in University City. Limited seating. Availability is on a first-come\, first-serve basis. \nClick the link below to RSVP for the November 5 event.  \nRSVP HERE!
URL:https://thecenterofpeace.org/events/coffee-with-rev-twana-oct-2025/
LOCATION:Green Line Cafe\, 4239 Baltimore Avenue\, Philadelphia\, 19104
CATEGORIES:Beyond The Four Walls,EVENT CALENDAR
ATTACH;FMTTYPE=image/png:https://thecenterofpeace.org/wp-content/uploads/2025/08/Coffee-with-Rev-Fall-2025-Oct-Nov.png
ORGANIZER;CN="TCP Marketing (Ayenda Lambert)":MAILTO:marketing@thecenterofpeace.org
END:VEVENT
BEGIN:VEVENT
DTSTART;TZID=America/New_York:20251005T110000
DTEND;TZID=America/New_York:20251005T123000
DTSTAMP:20260423T193500
CREATED:20250702T171558Z
LAST-MODIFIED:20250902T235448Z
UID:10002930-1759662000-1759667400@thecenterofpeace.org
SUMMARY:Sunday Celebration Services (October 2025)
DESCRIPTION:Sunday Celebration Services – LIVE\n\n\n\nJoin us to experience our dynamic Sunday Celebration Services (and bring your entire family!)\nas we celebrate the Divinity Within. \nWe are located at: \n5712-14 Greene Street\, Philadelphia\, PA 19144\n(near Greene & Chelten Sts.) \n\n\nThe location is wheelchair accessible and there’s plenty of space for everyone to enjoy themselves.\n\n\nThere will be lots of love\, hugs\, and available parking. Oh\, did we mention hugs??\n\n—————————-\n\nUNABLE TO ATTEND IN-PERSON?\n\nWatch us live on our Facebook page or YouTube channel:\n\n\n\n\n\n\n\n\n\n\n\n\n\n\n\n– OR –
URL:https://thecenterofpeace.org/events/sunday-celebration-services-october-2025/2025-10-05/
LOCATION:TCP Home – Greene Street\, 5712-14 Greene Street\, Philadelphia\, PA\, 19144\, United States
CATEGORIES:EVENT CALENDAR,Sunday Celebration Service
ATTACH;FMTTYPE=image/png:https://thecenterofpeace.org/wp-content/uploads/2025/07/October-2025-Theme-Image-1920-x-1080.png
END:VEVENT
BEGIN:VEVENT
DTSTART;TZID=America/New_York:20251007T180000
DTEND;TZID=America/New_York:20251007T203000
DTSTAMP:20260423T193500
CREATED:20250804T191827Z
LAST-MODIFIED:20250924T013118Z
UID:10003131-1759860000-1759869000@thecenterofpeace.org
SUMMARY:FALL 2025 - Journey of the Soul
DESCRIPTION:Journey of the Soul offers the Principles of Science of Mind with the emphasis on daily meditation\, emotional healing\, practical application\, self-love\, soul presence\, and life direction.  \n  \nCombining the integrative principles and techniques from spiritual psychology with the power of Science of Mind offers a dynamic training opportunity for students.  \n  \nJourney of the Soul includes six modules: \n\nModule One: The Soul\nModule Two: Identity as Soul\nModule Three: Growing Expression of the Soul\nModule Four: Healing the Feeling\nModule Five: Soul Expression in the Body and Life\nModule Six: Soul Purpose\n\n  \nWhen: Tuesdays at 6-8:30pm\, beginning October 7 through November 11 (6 weeks) \n  \nFacilitator(s): Rita Naylor\, RScP\, Deborah Ford\, RScP/Emerita  \n  \nInvestment: $240 ($200 tuition; $40 registration fee) \n  \nRequired Reading: \n\nThe Magic of the Soul\, Peak Publications\, Harbula\, Patrick J. – ISBN-13:9780971556508\n\n  \nPrerequisite: Foundations of Science of Mind \n  \nQuestions: Please email the Education Care Circle at education@thecenterofpeace.org or contact 215-385-0313. \n  \n  \nREGISTER NOW \n  \n  \nPLEASE NOTE: REGISTER BY SEPTEMBER 30\, 2025. You must pay the registration fee prior to the class start date. Credit for this course is not issued until tuition has been paid in full. If tuition is not paid in full you cannot take any additional courses.
URL:https://thecenterofpeace.org/events/fall-2025-journey-of-the-soul/
LOCATION:VIRTUAL\, PA\, United States
CATEGORIES:Care Circles,Education Care Circle,EVENT CALENDAR
ATTACH;FMTTYPE=image/png:https://thecenterofpeace.org/wp-content/uploads/2025/08/Journey-of-the-Soul.png
ORGANIZER;CN="Education Care Circle":MAILTO:education@thecenterofpeace.org
END:VEVENT
BEGIN:VEVENT
DTSTART;TZID=America/New_York:20251008T200000
DTEND;TZID=America/New_York:20251008T210000
DTSTAMP:20260423T193500
CREATED:20250416T032854Z
LAST-MODIFIED:20250416T032854Z
UID:10002857-1759953600-1759957200@thecenterofpeace.org
SUMMARY:Virtual Meditation with Calista
DESCRIPTION:Take this mid-week breather and join us in Calista’s Virtual Meditation every Wednesday evening. \nJoin Calista every Wednesday evening at 8pm on Microsoft Teams for a virtual meditation. Connect with your inner wisdom and bring forth that sense of clarity and stillness. Learning to dance with your thoughts versus fighting the impulses. \n\nMake a promise to yourself this week…try a 30-minute meditation and learn to observe your thinking.\nAllow yourself to unwind and enter into more clarity.\nFocus on your breath and learn to feel the rhythm of your body.\n\n  \nJoin Now \n  \nIf you already have Microsoft Teams on your computer or mobile device: Click here to join the meeting \nIf you do not have Microsoft Teams downloaded onto your computer or mobile device: Join on the web\, then enter the Meeting ID and Passcode below. \nMeeting ID: 299 382 379 670 | Passcode: McCeLN \nDownload Teams | Learn More | Meeting options
URL:https://thecenterofpeace.org/events/virtual-meditation-with-calista/2025-10-08/
LOCATION:PA
CATEGORIES:EVENT CALENDAR
ATTACH;FMTTYPE=image/png:https://thecenterofpeace.org/wp-content/uploads/2024/02/Screenshot-2024-02-03-124350.png
END:VEVENT
BEGIN:VEVENT
DTSTART;TZID=America/New_York:20251009T190000
DTEND;TZID=America/New_York:20251009T200000
DTSTAMP:20260423T193500
CREATED:20250910T135430Z
LAST-MODIFIED:20250915T130416Z
UID:10003153-1760036400-1760040000@thecenterofpeace.org
SUMMARY:Bi-Annual Meeting 2025
DESCRIPTION:Get ready for TCP’s upcoming bi-annual meeting on Thursday\, October 9 at 7pm. \nThis important virtual event allows our Board of Trustees to share the latest updates on the\nbusiness side of our spiritual community. \nIt’s your chance to stay informed and get engaged! \n  \nJOIN MEETING NOW
URL:https://thecenterofpeace.org/events/bi-annual-meeting-2025/
LOCATION:VIRTUAL\, PA\, United States
CATEGORIES:EVENT CALENDAR,TCP Board of Trustees
ATTACH;FMTTYPE=image/png:https://thecenterofpeace.org/wp-content/uploads/2025/09/Bi-Annual-Meeting-2025-1920-x-1080-2.png
ORGANIZER;CN="TCP Board of Trustees":MAILTO:TCPboard@thecenterofpeace.org
END:VEVENT
BEGIN:VEVENT
DTSTART;TZID=America/New_York:20251009T193000
DTEND;TZID=America/New_York:20251009T203000
DTSTAMP:20260423T193500
CREATED:20250910T214931Z
LAST-MODIFIED:20250910T215306Z
UID:10003164-1760038200-1760041800@thecenterofpeace.org
SUMMARY:A Course In Miracles Study Group
DESCRIPTION:Facilitators: Zulma González\, RScP and Cynthia Banks\, RScP\n\nCLICK TO JOIN THE STUDY GROUP  \nMeeting ID:  215 805 2506\nPasscode: LOVE
URL:https://thecenterofpeace.org/events/a-course-in-miracles-study-group/2025-10-09/
LOCATION:VIRTUAL\, PA\, United States
CATEGORIES:A Course In Miracles,Care Circles,EVENT CALENDAR,Study Groups
ATTACH;FMTTYPE=image/png:https://thecenterofpeace.org/wp-content/uploads/2025/09/A-Course-of-Miracles-1.png
ORGANIZER;CN="Zulma Gonzalez%2C RScP":MAILTO:miracles@thecenterofpeace.org
END:VEVENT
BEGIN:VEVENT
DTSTART;TZID=America/New_York:20251012T110000
DTEND;TZID=America/New_York:20251012T123000
DTSTAMP:20260423T193500
CREATED:20250702T171558Z
LAST-MODIFIED:20250902T235448Z
UID:10002931-1760266800-1760272200@thecenterofpeace.org
SUMMARY:Sunday Celebration Services (October 2025)
DESCRIPTION:Sunday Celebration Services – LIVE\n\n\n\nJoin us to experience our dynamic Sunday Celebration Services (and bring your entire family!)\nas we celebrate the Divinity Within. \nWe are located at: \n5712-14 Greene Street\, Philadelphia\, PA 19144\n(near Greene & Chelten Sts.) \n\n\nThe location is wheelchair accessible and there’s plenty of space for everyone to enjoy themselves.\n\n\nThere will be lots of love\, hugs\, and available parking. Oh\, did we mention hugs??\n\n—————————-\n\nUNABLE TO ATTEND IN-PERSON?\n\nWatch us live on our Facebook page or YouTube channel:\n\n\n\n\n\n\n\n\n\n\n\n\n\n\n\n– OR –
URL:https://thecenterofpeace.org/events/sunday-celebration-services-october-2025/2025-10-12/
LOCATION:TCP Home – Greene Street\, 5712-14 Greene Street\, Philadelphia\, PA\, 19144\, United States
CATEGORIES:EVENT CALENDAR,Sunday Celebration Service
ATTACH;FMTTYPE=image/png:https://thecenterofpeace.org/wp-content/uploads/2025/07/October-2025-Theme-Image-1920-x-1080.png
END:VEVENT
BEGIN:VEVENT
DTSTART;TZID=America/New_York:20251012T110000
DTEND;TZID=America/New_York:20251012T133000
DTSTAMP:20260423T193500
CREATED:20250205T022618Z
LAST-MODIFIED:20250924T012956Z
UID:10003559-1760266800-1760275800@thecenterofpeace.org
SUMMARY:Belief In Action (2nd Sunday)
DESCRIPTION:BELIEF IN ACTION\nInterested in saying “yes” to sharing your Belief In Action? Your opportunity to share is every 2nd and 4th Sunday during Sunday Celebration Service. \nContact Calista Dorsey at (215) 512-5282. \n 
URL:https://thecenterofpeace.org/events/belief-in-action/2025-10-12/
LOCATION:TCP Home – Greene Street\, 5712-14 Greene Street\, Philadelphia\, PA\, 19144\, United States
CATEGORIES:EVENT CALENDAR,Sunday Celebration Service
ATTACH;FMTTYPE=image/jpeg:https://thecenterofpeace.org/wp-content/uploads/2024/11/gratitude.jpg
END:VEVENT
BEGIN:VEVENT
DTSTART;TZID=America/New_York:20251015T200000
DTEND;TZID=America/New_York:20251015T210000
DTSTAMP:20260423T193500
CREATED:20250416T032854Z
LAST-MODIFIED:20250416T032854Z
UID:10002858-1760558400-1760562000@thecenterofpeace.org
SUMMARY:Virtual Meditation with Calista
DESCRIPTION:Take this mid-week breather and join us in Calista’s Virtual Meditation every Wednesday evening. \nJoin Calista every Wednesday evening at 8pm on Microsoft Teams for a virtual meditation. Connect with your inner wisdom and bring forth that sense of clarity and stillness. Learning to dance with your thoughts versus fighting the impulses. \n\nMake a promise to yourself this week…try a 30-minute meditation and learn to observe your thinking.\nAllow yourself to unwind and enter into more clarity.\nFocus on your breath and learn to feel the rhythm of your body.\n\n  \nJoin Now \n  \nIf you already have Microsoft Teams on your computer or mobile device: Click here to join the meeting \nIf you do not have Microsoft Teams downloaded onto your computer or mobile device: Join on the web\, then enter the Meeting ID and Passcode below. \nMeeting ID: 299 382 379 670 | Passcode: McCeLN \nDownload Teams | Learn More | Meeting options
URL:https://thecenterofpeace.org/events/virtual-meditation-with-calista/2025-10-15/
LOCATION:PA
CATEGORIES:EVENT CALENDAR
ATTACH;FMTTYPE=image/png:https://thecenterofpeace.org/wp-content/uploads/2024/02/Screenshot-2024-02-03-124350.png
END:VEVENT
BEGIN:VEVENT
DTSTART;TZID=America/New_York:20251016T193000
DTEND;TZID=America/New_York:20251016T203000
DTSTAMP:20260423T193500
CREATED:20250910T214931Z
LAST-MODIFIED:20250910T215306Z
UID:10003165-1760643000-1760646600@thecenterofpeace.org
SUMMARY:A Course In Miracles Study Group
DESCRIPTION:Facilitators: Zulma González\, RScP and Cynthia Banks\, RScP\n\nCLICK TO JOIN THE STUDY GROUP  \nMeeting ID:  215 805 2506\nPasscode: LOVE
URL:https://thecenterofpeace.org/events/a-course-in-miracles-study-group/2025-10-16/
LOCATION:VIRTUAL\, PA\, United States
CATEGORIES:A Course In Miracles,Care Circles,EVENT CALENDAR,Study Groups
ATTACH;FMTTYPE=image/png:https://thecenterofpeace.org/wp-content/uploads/2025/09/A-Course-of-Miracles-1.png
ORGANIZER;CN="Zulma Gonzalez%2C RScP":MAILTO:miracles@thecenterofpeace.org
END:VEVENT
BEGIN:VEVENT
DTSTART;TZID=America/New_York:20251019T110000
DTEND;TZID=America/New_York:20251019T123000
DTSTAMP:20260423T193500
CREATED:20250702T171558Z
LAST-MODIFIED:20250902T235448Z
UID:10002932-1760871600-1760877000@thecenterofpeace.org
SUMMARY:Sunday Celebration Services (October 2025)
DESCRIPTION:Sunday Celebration Services – LIVE\n\n\n\nJoin us to experience our dynamic Sunday Celebration Services (and bring your entire family!)\nas we celebrate the Divinity Within. \nWe are located at: \n5712-14 Greene Street\, Philadelphia\, PA 19144\n(near Greene & Chelten Sts.) \n\n\nThe location is wheelchair accessible and there’s plenty of space for everyone to enjoy themselves.\n\n\nThere will be lots of love\, hugs\, and available parking. Oh\, did we mention hugs??\n\n—————————-\n\nUNABLE TO ATTEND IN-PERSON?\n\nWatch us live on our Facebook page or YouTube channel:\n\n\n\n\n\n\n\n\n\n\n\n\n\n\n\n– OR –
URL:https://thecenterofpeace.org/events/sunday-celebration-services-october-2025/2025-10-19/
LOCATION:TCP Home – Greene Street\, 5712-14 Greene Street\, Philadelphia\, PA\, 19144\, United States
CATEGORIES:EVENT CALENDAR,Sunday Celebration Service
ATTACH;FMTTYPE=image/png:https://thecenterofpeace.org/wp-content/uploads/2025/07/October-2025-Theme-Image-1920-x-1080.png
END:VEVENT
BEGIN:VEVENT
DTSTART;TZID=America/New_York:20251022T190000
DTEND;TZID=America/New_York:20251022T203000
DTSTAMP:20260423T193500
CREATED:20250913T024612Z
LAST-MODIFIED:20250913T034012Z
UID:10003482-1761159600-1761165000@thecenterofpeace.org
SUMMARY:Spiritual Living Circle Study Group
DESCRIPTION:JOIN SLC NOW \n\n\nMeeting ID:  215 805 2506\nPasscode: LOVE
URL:https://thecenterofpeace.org/events/spiritual-living-circle/2025-10-22/
LOCATION:VIRTUAL\, PA\, United States
CATEGORIES:Care Circles,EVENT CALENDAR,Spiritual Living Circle,Study Groups
ATTACH;FMTTYPE=image/png:https://thecenterofpeace.org/wp-content/uploads/2025/09/Spiritual-Living-Circle-1920-x-1080-2.png
ORGANIZER;CN="Zulma Gonzalez%2C RScP":MAILTO:miracles@thecenterofpeace.org
END:VEVENT
BEGIN:VEVENT
DTSTART;TZID=America/New_York:20251022T200000
DTEND;TZID=America/New_York:20251022T210000
DTSTAMP:20260423T193500
CREATED:20250416T032854Z
LAST-MODIFIED:20250416T032854Z
UID:10002859-1761163200-1761166800@thecenterofpeace.org
SUMMARY:Virtual Meditation with Calista
DESCRIPTION:Take this mid-week breather and join us in Calista’s Virtual Meditation every Wednesday evening. \nJoin Calista every Wednesday evening at 8pm on Microsoft Teams for a virtual meditation. Connect with your inner wisdom and bring forth that sense of clarity and stillness. Learning to dance with your thoughts versus fighting the impulses. \n\nMake a promise to yourself this week…try a 30-minute meditation and learn to observe your thinking.\nAllow yourself to unwind and enter into more clarity.\nFocus on your breath and learn to feel the rhythm of your body.\n\n  \nJoin Now \n  \nIf you already have Microsoft Teams on your computer or mobile device: Click here to join the meeting \nIf you do not have Microsoft Teams downloaded onto your computer or mobile device: Join on the web\, then enter the Meeting ID and Passcode below. \nMeeting ID: 299 382 379 670 | Passcode: McCeLN \nDownload Teams | Learn More | Meeting options
URL:https://thecenterofpeace.org/events/virtual-meditation-with-calista/2025-10-22/
LOCATION:PA
CATEGORIES:EVENT CALENDAR
ATTACH;FMTTYPE=image/png:https://thecenterofpeace.org/wp-content/uploads/2024/02/Screenshot-2024-02-03-124350.png
END:VEVENT
BEGIN:VEVENT
DTSTART;TZID=America/New_York:20251023T193000
DTEND;TZID=America/New_York:20251023T203000
DTSTAMP:20260423T193500
CREATED:20250910T214931Z
LAST-MODIFIED:20250910T215306Z
UID:10003166-1761247800-1761251400@thecenterofpeace.org
SUMMARY:A Course In Miracles Study Group
DESCRIPTION:Facilitators: Zulma González\, RScP and Cynthia Banks\, RScP\n\nCLICK TO JOIN THE STUDY GROUP  \nMeeting ID:  215 805 2506\nPasscode: LOVE
URL:https://thecenterofpeace.org/events/a-course-in-miracles-study-group/2025-10-23/
LOCATION:VIRTUAL\, PA\, United States
CATEGORIES:A Course In Miracles,Care Circles,EVENT CALENDAR,Study Groups
ATTACH;FMTTYPE=image/png:https://thecenterofpeace.org/wp-content/uploads/2025/09/A-Course-of-Miracles-1.png
ORGANIZER;CN="Zulma Gonzalez%2C RScP":MAILTO:miracles@thecenterofpeace.org
END:VEVENT
BEGIN:VEVENT
DTSTART;TZID=America/New_York:20251026T110000
DTEND;TZID=America/New_York:20251026T123000
DTSTAMP:20260423T193500
CREATED:20250205T022425Z
LAST-MODIFIED:20250924T012914Z
UID:10003550-1761476400-1761481800@thecenterofpeace.org
SUMMARY:Belief in Action (4th Sunday)
DESCRIPTION:BELIEF IN ACTION\nInterested in saying “yes” to sharing your Belief In Action? Your opportunity to share is every 2nd and 4th Sunday during Sunday Celebration Service. \nContact Calista Dorsey at (215) 512-5282. \n 
URL:https://thecenterofpeace.org/events/belief-in-action-4-2/2025-10-26/
LOCATION:TCP Home – Greene Street\, 5712-14 Greene Street\, Philadelphia\, PA\, 19144\, United States
CATEGORIES:EVENT CALENDAR,Sunday Celebration Service
ATTACH;FMTTYPE=image/jpeg:https://thecenterofpeace.org/wp-content/uploads/2024/11/gratitude.jpg
END:VEVENT
BEGIN:VEVENT
DTSTART;TZID=America/New_York:20251026T110000
DTEND;TZID=America/New_York:20251026T123000
DTSTAMP:20260423T193500
CREATED:20250702T171558Z
LAST-MODIFIED:20250902T235448Z
UID:10002933-1761476400-1761481800@thecenterofpeace.org
SUMMARY:Sunday Celebration Services (October 2025)
DESCRIPTION:Sunday Celebration Services – LIVE\n\n\n\nJoin us to experience our dynamic Sunday Celebration Services (and bring your entire family!)\nas we celebrate the Divinity Within. \nWe are located at: \n5712-14 Greene Street\, Philadelphia\, PA 19144\n(near Greene & Chelten Sts.) \n\n\nThe location is wheelchair accessible and there’s plenty of space for everyone to enjoy themselves.\n\n\nThere will be lots of love\, hugs\, and available parking. Oh\, did we mention hugs??\n\n—————————-\n\nUNABLE TO ATTEND IN-PERSON?\n\nWatch us live on our Facebook page or YouTube channel:\n\n\n\n\n\n\n\n\n\n\n\n\n\n\n\n– OR –
URL:https://thecenterofpeace.org/events/sunday-celebration-services-october-2025/2025-10-26/
LOCATION:TCP Home – Greene Street\, 5712-14 Greene Street\, Philadelphia\, PA\, 19144\, United States
CATEGORIES:EVENT CALENDAR,Sunday Celebration Service
ATTACH;FMTTYPE=image/png:https://thecenterofpeace.org/wp-content/uploads/2025/07/October-2025-Theme-Image-1920-x-1080.png
END:VEVENT
BEGIN:VEVENT
DTSTART;TZID=America/New_York:20251026T130000
DTEND;TZID=America/New_York:20251026T140000
DTSTAMP:20260423T193500
CREATED:20250923T232354Z
LAST-MODIFIED:20250924T000809Z
UID:10003541-1761483600-1761487200@thecenterofpeace.org
SUMMARY:Remembering Our Beloved Companions
DESCRIPTION:We warmly invite anyone and everyone who has experienced the love and companionship of a cherished pet or animal friend who has transitioned. \nIf you carry them in your heart and still think of them with love\, this is a celebration you don’t want to miss. Join us as we honor and remember these beloved spirits who have touched our lives with unconditional love and companionship. \nDetails: \n📍 After Sunday Service \n🙏 Bring a keepsake or photo of your beloved companion to place on the altar. \nRSVP HERE \n  \nFacilitators: Rev Twana Malone\, Karen Divine\, Aisha Lloyd \n 
URL:https://thecenterofpeace.org/events/remembering-our-beloved-companions/
LOCATION:TCP Home – Greene Street\, 5712-14 Greene Street\, Philadelphia\, PA\, 19144\, United States
CATEGORIES:EVENT CALENDAR
ATTACH;FMTTYPE=image/png:https://thecenterofpeace.org/wp-content/uploads/2025/09/Remembering-Our-Beloved-Companions-1920-x-1080.png
END:VEVENT
BEGIN:VEVENT
DTSTART;TZID=America/New_York:20251029T190000
DTEND;TZID=America/New_York:20251029T203000
DTSTAMP:20260423T193500
CREATED:20250924T010454Z
LAST-MODIFIED:20250924T011951Z
UID:10003542-1761764400-1761769800@thecenterofpeace.org
SUMMARY:Completing the Circle 2025 - Online Experience
DESCRIPTION:Completing the Circle is how The Center of Peace receives feedback from the congregation on how we are experiencing or various ministries. \nOur next small circle on Wednesday\, October 29\, 2025 from 7-8:30pm\, will be centered on our Online Experience. If you attend Sunday Service online or watch any of the recordings online\, please join us to share your experiences. \nThis small circle will be held online only. Please register as soon as possible. A thank you gift card will be given to each participant! \nRSVP HERE
URL:https://thecenterofpeace.org/events/completing-the-circle-2025-online-experience/
LOCATION:VIRTUAL\, PA\, United States
CATEGORIES:Completing The Circle,EVENT CALENDAR
ATTACH;FMTTYPE=image/png:https://thecenterofpeace.org/wp-content/uploads/2025/09/CTC-1920-x-1080.png
ORGANIZER;CN="Completing The Circle CC":MAILTO:completingthecircle@thecenterofpeace.org
END:VEVENT
BEGIN:VEVENT
DTSTART;TZID=America/New_York:20251029T200000
DTEND;TZID=America/New_York:20251029T210000
DTSTAMP:20260423T193500
CREATED:20250416T032854Z
LAST-MODIFIED:20250416T032854Z
UID:10002860-1761768000-1761771600@thecenterofpeace.org
SUMMARY:Virtual Meditation with Calista
DESCRIPTION:Take this mid-week breather and join us in Calista’s Virtual Meditation every Wednesday evening. \nJoin Calista every Wednesday evening at 8pm on Microsoft Teams for a virtual meditation. Connect with your inner wisdom and bring forth that sense of clarity and stillness. Learning to dance with your thoughts versus fighting the impulses. \n\nMake a promise to yourself this week…try a 30-minute meditation and learn to observe your thinking.\nAllow yourself to unwind and enter into more clarity.\nFocus on your breath and learn to feel the rhythm of your body.\n\n  \nJoin Now \n  \nIf you already have Microsoft Teams on your computer or mobile device: Click here to join the meeting \nIf you do not have Microsoft Teams downloaded onto your computer or mobile device: Join on the web\, then enter the Meeting ID and Passcode below. \nMeeting ID: 299 382 379 670 | Passcode: McCeLN \nDownload Teams | Learn More | Meeting options
URL:https://thecenterofpeace.org/events/virtual-meditation-with-calista/2025-10-29/
LOCATION:PA
CATEGORIES:EVENT CALENDAR
ATTACH;FMTTYPE=image/png:https://thecenterofpeace.org/wp-content/uploads/2024/02/Screenshot-2024-02-03-124350.png
END:VEVENT
BEGIN:VEVENT
DTSTART;TZID=America/New_York:20251030T193000
DTEND;TZID=America/New_York:20251030T203000
DTSTAMP:20260423T193500
CREATED:20250910T214931Z
LAST-MODIFIED:20250910T215306Z
UID:10003167-1761852600-1761856200@thecenterofpeace.org
SUMMARY:A Course In Miracles Study Group
DESCRIPTION:Facilitators: Zulma González\, RScP and Cynthia Banks\, RScP\n\nCLICK TO JOIN THE STUDY GROUP  \nMeeting ID:  215 805 2506\nPasscode: LOVE
URL:https://thecenterofpeace.org/events/a-course-in-miracles-study-group/2025-10-30/
LOCATION:VIRTUAL\, PA\, United States
CATEGORIES:A Course In Miracles,Care Circles,EVENT CALENDAR,Study Groups
ATTACH;FMTTYPE=image/png:https://thecenterofpeace.org/wp-content/uploads/2025/09/A-Course-of-Miracles-1.png
ORGANIZER;CN="Zulma Gonzalez%2C RScP":MAILTO:miracles@thecenterofpeace.org
END:VEVENT
END:VCALENDAR