BEGIN:VCALENDAR
VERSION:2.0
PRODID:-//The Center of Peace, Center for Spiritual Living - ECPv6.15.11//NONSGML v1.0//EN
CALSCALE:GREGORIAN
METHOD:PUBLISH
X-WR-CALNAME:The Center of Peace, Center for Spiritual Living
X-ORIGINAL-URL:https://thecenterofpeace.org
X-WR-CALDESC:Events for The Center of Peace, Center for Spiritual Living
REFRESH-INTERVAL;VALUE=DURATION:PT1H
X-Robots-Tag:noindex
X-PUBLISHED-TTL:PT1H
BEGIN:VTIMEZONE
TZID:America/New_York
BEGIN:DAYLIGHT
TZOFFSETFROM:-0500
TZOFFSETTO:-0400
TZNAME:EDT
DTSTART:20250309T070000
END:DAYLIGHT
BEGIN:STANDARD
TZOFFSETFROM:-0400
TZOFFSETTO:-0500
TZNAME:EST
DTSTART:20251102T060000
END:STANDARD
BEGIN:DAYLIGHT
TZOFFSETFROM:-0500
TZOFFSETTO:-0400
TZNAME:EDT
DTSTART:20260308T070000
END:DAYLIGHT
BEGIN:STANDARD
TZOFFSETFROM:-0400
TZOFFSETTO:-0500
TZNAME:EST
DTSTART:20261101T060000
END:STANDARD
BEGIN:DAYLIGHT
TZOFFSETFROM:-0500
TZOFFSETTO:-0400
TZNAME:EDT
DTSTART:20270314T070000
END:DAYLIGHT
BEGIN:STANDARD
TZOFFSETFROM:-0400
TZOFFSETTO:-0500
TZNAME:EST
DTSTART:20271107T060000
END:STANDARD
END:VTIMEZONE
BEGIN:VEVENT
DTSTART;TZID=America/New_York:20260715T100000
DTEND;TZID=America/New_York:20260715T150000
DTSTAMP:20260423T182657
CREATED:20250910T171807Z
LAST-MODIFIED:20250910T171807Z
UID:10003156-1784109600-1784127600@thecenterofpeace.org
SUMMARY:Beach Days 2026
DESCRIPTION:“Creating Community Beyond the Four Walls” series \nThis is an opportunity for us to come together in fellowship\, spiritual practice\, and fun! \nStarting June 17\, we will be coming together once a month on a Wednesday to enjoy a quiet\, relaxing day at Ocean City Beach in New Jersey. \nNO RSVP is required to go. Children must be accompanied by adults. \nWe just want you to show up and have fun! \nPlease read the detailed information about our outing below. \n\n\n\n\n\n\n\n\n\n\nDates \n& \nTimes \n\n\nAll dates listed fall on a Wednesday: \n\nJune 17 (Rain Date: June 24)\nJuly 15 (Rain Date: July 22)\nAugust 12 (Rain Date: August 19)\n\n  \nWe will meet at 10am on each day. We begin leaving at 3pm or later. \n\n\n\n\n\n\n\n\n\n\nMeeting Point \n& \nParking \n\n\nMEETING POINT: \nWe will meet at the large seating area between 5th & 6th Street on the Boardwalk. It is located just outside of the newly renovated public restrooms and Gillian’s Wonderland. \n  \nNote to GPS users: Add “Ocean City High School (OCHS)” as the destination point in your GPS. It will lead you to the two surrounding parking lots listed below. They are located on each side of the school.  \n  \nPARKING: \nFoxtrot Lot: On 5th Street is a municipal parking lot located directly behind the OCHS. The exact name and address of the parking lot (this address can also be used as a destination point in your GPS) is Foxtrot Lot is 907 5th Street\, OCNJ\, 08226. Parking: $20.  \n  \nThere is a privately-owned parking lot located directly behind Gillians Wonderland’s Ferris Wheel AND behind the school on the corner of 6th & Wayne (it has a white picket fence).  \nParking: $20. \n  \nMETERED PARKING: \nThere is metered street parking (up to 4-hrs) available along the side of the school. Be sure to download the app called\, “MeterUp” to pay. \n\n\n\n\n\n\n\n\n\n\nBeach \nFees & Costs \n\n\nTolls: $13-15 (roundtrip). Be sure to bring $2.10 in loose change if you get off Exit 30 (Somers Point/Ocean City) for the Garden State Parkway toll. \n  \nBeach tags are required (CASH ONLY) to enter the beach: \n\nDaily tags: $10\nWeekly tags: $20\nSeasonal tags: $35 ($30 if purchased by May 31)\nVeterans only: FREE (Please bring your military ID) \nActive members\, spouses\, and children up to 23 y/o: FREE.\n\n  \nFor more info on obtaining a free seasonal pass for members of the military\, visit: Welcome to Ocean City\, New Jersey\, America’s Greatest Family Resort – Beach Tags (ocnj.us) \n  \nUmbrella rentals: $10-15 (CASH ONLY) \nOCNJ FAQs: https://www.ocnj.us/beach-faqs \n\n\n\n\n\n\n\n\n\n\nMisc Info \n\n\nPlease be sure to pack a lunch and/or snacks. For more information on where to eat in OCNJ\, please click here. \n  \nFor more information about Ocean City\, please visit their vacation website at Visit Ocean City\, New Jersey: America’s Favorite Family Vacation (oceancityvacation.com) \n  \nLooking to get a head start or extend your stay? \nAtlantic City is just 10-15 minutes away from Ocean City. There are many hotels to choose from. \n  \nBased on past experiences\, the two recommended hotels are Courtyard Atlantic City Beach Block and the pet-friendly Sheraton Atlantic City Convention Center Hotel. \n\n\n\n\n\n\n\n\n\n\nContact \n\n\nAny questions\, please contact Ayenda at (267) 255-5339 or marketing@thecenterofpeace.org.
URL:https://thecenterofpeace.org/events/beach-days-2026/2026-07-15/
CATEGORIES:Beyond The Four Walls,EVENT CALENDAR
ATTACH;FMTTYPE=image/png:https://thecenterofpeace.org/wp-content/uploads/2025/03/BTFW-Beach-Days-1920-×-1080.png
ORGANIZER;CN="TCP Marketing (Ayenda Lambert)":MAILTO:marketing@thecenterofpeace.org
END:VEVENT
END:VCALENDAR