BEGIN:VCALENDAR
VERSION:2.0
PRODID:-//The Center of Peace, Center for Spiritual Living - ECPv6.15.11//NONSGML v1.0//EN
CALSCALE:GREGORIAN
METHOD:PUBLISH
X-ORIGINAL-URL:https://thecenterofpeace.org
X-WR-CALDESC:Events for The Center of Peace, Center for Spiritual Living
REFRESH-INTERVAL;VALUE=DURATION:PT1H
X-Robots-Tag:noindex
X-PUBLISHED-TTL:PT1H
BEGIN:VTIMEZONE
TZID:America/New_York
BEGIN:DAYLIGHT
TZOFFSETFROM:-0500
TZOFFSETTO:-0400
TZNAME:EDT
DTSTART:20250309T070000
END:DAYLIGHT
BEGIN:STANDARD
TZOFFSETFROM:-0400
TZOFFSETTO:-0500
TZNAME:EST
DTSTART:20251102T060000
END:STANDARD
BEGIN:DAYLIGHT
TZOFFSETFROM:-0500
TZOFFSETTO:-0400
TZNAME:EDT
DTSTART:20260308T070000
END:DAYLIGHT
BEGIN:STANDARD
TZOFFSETFROM:-0400
TZOFFSETTO:-0500
TZNAME:EST
DTSTART:20261101T060000
END:STANDARD
BEGIN:DAYLIGHT
TZOFFSETFROM:-0500
TZOFFSETTO:-0400
TZNAME:EDT
DTSTART:20270314T070000
END:DAYLIGHT
BEGIN:STANDARD
TZOFFSETFROM:-0400
TZOFFSETTO:-0500
TZNAME:EST
DTSTART:20271107T060000
END:STANDARD
END:VTIMEZONE
BEGIN:VEVENT
DTSTART;TZID=America/New_York:20260307T100000
DTEND;TZID=America/New_York:20260307T110000
DTSTAMP:20260423T162959
CREATED:20260119T213827Z
LAST-MODIFIED:20260203T233845Z
UID:10003582-1772877600-1772881200@thecenterofpeace.org
SUMMARY:Coffee with Rev Twana (March 2026)
DESCRIPTION:Come out to have a casual conversation and coffee with our senior minister\, Twana Malone either on: \nSaturday\, March 7\, 2026 at 10am – Panera Bread\, 3900 City Ave \nor  \nWednesday\, April 15\, 2025 at 10am – Ultimo Coffee\, 5901 Wayne Ave \nLimited seating. Availability is on a first-come\, first-served basis. \nClick the link below to RSVP for one of the two gatherings.  \nRSVP HERE!
URL:https://thecenterofpeace.org/events/coffee-with-rev-twana-march-2026/
LOCATION:Panera Bread\, 3900 City Avenue\, Philadelphia\, 19131\, United States
CATEGORIES:Beyond The Four Walls,EVENT CALENDAR
ATTACH;FMTTYPE=image/png:https://thecenterofpeace.org/wp-content/uploads/2025/08/Coffee-with-Rev-Fall-2025-Oct-Nov.png
ORGANIZER;CN="TCP Marketing (Ayenda Lambert)":MAILTO:marketing@thecenterofpeace.org
END:VEVENT
END:VCALENDAR