BEGIN:VCALENDAR
VERSION:2.0
PRODID:-//The Center of Peace, Center for Spiritual Living - ECPv6.15.11//NONSGML v1.0//EN
CALSCALE:GREGORIAN
METHOD:PUBLISH
X-ORIGINAL-URL:https://thecenterofpeace.org
X-WR-CALDESC:Events for The Center of Peace, Center for Spiritual Living
REFRESH-INTERVAL;VALUE=DURATION:PT1H
X-Robots-Tag:noindex
X-PUBLISHED-TTL:PT1H
BEGIN:VTIMEZONE
TZID:America/New_York
BEGIN:DAYLIGHT
TZOFFSETFROM:-0500
TZOFFSETTO:-0400
TZNAME:EDT
DTSTART:20250309T070000
END:DAYLIGHT
BEGIN:STANDARD
TZOFFSETFROM:-0400
TZOFFSETTO:-0500
TZNAME:EST
DTSTART:20251102T060000
END:STANDARD
BEGIN:DAYLIGHT
TZOFFSETFROM:-0500
TZOFFSETTO:-0400
TZNAME:EDT
DTSTART:20260308T070000
END:DAYLIGHT
BEGIN:STANDARD
TZOFFSETFROM:-0400
TZOFFSETTO:-0500
TZNAME:EST
DTSTART:20261101T060000
END:STANDARD
BEGIN:DAYLIGHT
TZOFFSETFROM:-0500
TZOFFSETTO:-0400
TZNAME:EDT
DTSTART:20270314T070000
END:DAYLIGHT
BEGIN:STANDARD
TZOFFSETFROM:-0400
TZOFFSETTO:-0500
TZNAME:EST
DTSTART:20271107T060000
END:STANDARD
END:VTIMEZONE
BEGIN:VEVENT
DTSTART;TZID=America/New_York:20260207T190000
DTEND;TZID=America/New_York:20260207T190000
DTSTAMP:20260423T201238
CREATED:20251020T231944Z
LAST-MODIFIED:20260107T210955Z
UID:10003564-1770490800-1770490800@thecenterofpeace.org
SUMMARY:Step Afrika! Evolution Tour 2026
DESCRIPTION:“Beyond the Four Walls” series\nAn opportunity for us to come together in fellowship\, spiritual practice\, and fun! \n—————————— \nStep Afrika! blends percussive dance styles practiced by historically African-American fraternities and sororities; traditional African dances; and an array of contemporary dance and art forms into a cohesive\, compelling artistic experience. Performances are much more than dance shows; they integrate songs\, storytelling\, humor\, and audience participation. The blend of technique\, agility\, and pure energy makes each performance unique and leaves the audience with their hearts pounding!  \nThe world’s leading authority on the art form of stepping\, Step Afrika! is critically-acclaimed for its efforts to promote an understanding of the appreciation for stepping and the dance tradition’s use as an educational tool for young people worldwide.  In stepping\, the body is used as an instrument to create intricate rhythms and sounds through a combination of footsteps\, claps\, and spoken word. Step Afrika! has taken this art to new heights\, using intricate footwork\, synchronized movements\, and percussion to create a mesmerizing spectacle.  \n—————————— \nWHEN:  \nFriday\, February 7\, 2025 at 7pm EST \n  \nLOCATION: \nMiller Theater \n250 South Broad Street \nPhiladelphia\, PA 19102 \n  \nPARKING: \nClick HERE for DIRECTIONS and PARKING \n  \nTICKET INFO: \nTickets will be given out on January 25 and February 1\, after Sunday Service \n  \nSALES: \nTicket sales begin on Monday\, December 1\, 2025. \n  \nPRICE: \n$40 per person; all tickets are non-refundable. \n  \n——————————- \nTickets are available on a first-come\, first-served basis. \nThe full amount is expected at the time of purchase. \nTickets will be available for disbursement two to three (2-3) weeks prior to the event. See above for dates. \nAnnouncements will be made in advance. \n  \n——————————- \nAccepted methods of payment: \n• CASH (exact change please) \n• Personal check – NOTE: Please make checks out to: “The Center of Peace” or “TCP”\, write “Cirque Dream Holidaze” in the memo. \n• Breeze – NOTE: Select “Beyond The Four Walls” or “BTFW”. Write the event name\, “Cirque Dream Holidaze” in the comment. All fees are the responsibility of the ticket purchaser/congregant. \n  \nPURCHASE TICKETS NOW!  \n  \n——————————- \nTICKET DONATIONS AND DISCOUNTS: \nOur goal is to ensure that everyone has the opportunity to experience the Arts and Theater within their spiritual community. To achieve this\, we need your support. \nWe are offering members and congregants the chance to purchase additional tickets to donate or to make financial contributions that will help reduce ticket prices for those interested in attending but unable to afford the full price. \nMembers and congregants will also have the opportunity to receive donated or discounted tickets\, which will be distributed on a first-come\, first-served basis. Interested individuals are encouraged to email TCP’s general email address at info@thecenterofpeace.org to be placed on the list. \nPotential recipients will be notified via email once ticket sales have concluded. If\, for any reason\, you are unable to attend\, we kindly ask that you inform us as soon as possible so we can offer the ticket(s) to someone else. \n  \n——————————- \nFAQs\n  \nWhat date is the event? \nFriday\, February 7\, 2026 \n  \nWhat time does the event begin? \nIt begins promptly at 7 pm \n  \nHow much are the tickets? \nTickets are $40 each. \n  \nWhat forms of payment are accepted? \nCash (exact change) \nPersonal Check \nBreeze \n  \nWhat if Ayenda is not available to accept payment before/after the Sunday Celebration Service? \nCalista Dorsey\, RScP will be available to accept cash payments. Please bring exact change. \n  \nWhat forms of payment are NOT accepted? \nCash app\, Zelle\, Apple Pay\, Google Pay\, Venmo \n  \nWhere is the Miller Theater (formerly Merriam Theater) located? \nThe Miller Theater is located at 250 South Broad Street\, Philadelphia\, PA 19102\, near the southwest corner of Broad & Locust Sts. It is also located next door to the Academy of Music. \n  \nCan I make partial payments for the tickets or place them on hold? \nBased on the high demand for this theater production\, tickets are available on a first-come\, first-served basis. \n  \nIs there parking available? \nIn addition to on-the-street parking\, there are many parking garages in the surrounding area to choose from. Please click the link above to learn more. \n  \nWhat if I am unable to attend the event? \nTickets are non-refundable. It will be the responsibility of the ticket purchaser to resell the tickets. \n  \nWhen can I get my tickets? \nTickets will be available for distribution on January 25 and February 1\, 2025. \n  \nWhat if I lose my ticket(s)? \nPlease contact Ayenda Lambert at marketing@thecenterofpeace.org or call/text at (267) 255-5339 so\, she can request a copy(ies). It/They will be left at Will Call in the ticket purchaser’s name. \n  \nWhat if I am unavailable to receive my tickets on the day of disbursement? \nTickets that were not collected will be left at Will Call in the name of the person who purchased the ticket(s). \n  \nCan I request specific seating (e.g.\, aisle seating\, front row\, etc.)? \nYou are welcome to inquire about specific seating. However\, we cannot guarantee it. \nTickets are sold on a first-come\, first-served basis and based on keeping the number of people in their party seated together. Meaning\, if someone orders three tickets\, the priority is to keep the party of three together. \n  \nCan I purchase additional tickets later? \nIf there are available tickets to be sold\, yes. However\, there is no guarantee that seating will be together. \n  \nWhere are the seats located? \nTCP has reserved full-view seating in the Center Front Balcony section. \n  \nAre there any wheelchair-accessible seats available? \nThere are no wheelchair-accessible seats available in the sections that TCP has reserved. \nPlease contact Ayenda Lambert at (267) 255-5339 if you are interested in attending and require wheelchair access. \n  \nCONTACT: \nPlease contact Ayenda Lambert at marketing@thecenterofpeace.org or call/text at (267) 255-5339 if you have any questions. \n  \nPLEASE NOTE: \nPlease make all inquiries by end of day on February 6\, 2026. Calls will not be accepted; emails will not be checked on the day of the performance.
URL:https://thecenterofpeace.org/events/step-afrika-evolution-tour-2026/
LOCATION:Miller Theater\, 250 S. Broad Street\, Philadelphia\, PA\, 19102\, United States
CATEGORIES:Beyond The Four Walls,EVENT CALENDAR
ATTACH;FMTTYPE=image/png:https://thecenterofpeace.org/wp-content/uploads/2025/10/Step-Afrika-1920-x-1040-1.png
END:VEVENT
END:VCALENDAR