BEGIN:VCALENDAR
VERSION:2.0
PRODID:-//The Center of Peace, Center for Spiritual Living - ECPv6.15.11//NONSGML v1.0//EN
CALSCALE:GREGORIAN
METHOD:PUBLISH
X-ORIGINAL-URL:https://thecenterofpeace.org
X-WR-CALDESC:Events for The Center of Peace, Center for Spiritual Living
REFRESH-INTERVAL;VALUE=DURATION:PT1H
X-Robots-Tag:noindex
X-PUBLISHED-TTL:PT1H
BEGIN:VTIMEZONE
TZID:America/New_York
BEGIN:DAYLIGHT
TZOFFSETFROM:-0500
TZOFFSETTO:-0400
TZNAME:EDT
DTSTART:20240310T070000
END:DAYLIGHT
BEGIN:STANDARD
TZOFFSETFROM:-0400
TZOFFSETTO:-0500
TZNAME:EST
DTSTART:20241103T060000
END:STANDARD
BEGIN:DAYLIGHT
TZOFFSETFROM:-0500
TZOFFSETTO:-0400
TZNAME:EDT
DTSTART:20250309T070000
END:DAYLIGHT
BEGIN:STANDARD
TZOFFSETFROM:-0400
TZOFFSETTO:-0500
TZNAME:EST
DTSTART:20251102T060000
END:STANDARD
BEGIN:DAYLIGHT
TZOFFSETFROM:-0500
TZOFFSETTO:-0400
TZNAME:EDT
DTSTART:20260308T070000
END:DAYLIGHT
BEGIN:STANDARD
TZOFFSETFROM:-0400
TZOFFSETTO:-0500
TZNAME:EST
DTSTART:20261101T060000
END:STANDARD
END:VTIMEZONE
BEGIN:VEVENT
DTSTART;TZID=America/New_York:20251223T170000
DTEND;TZID=America/New_York:20251223T181500
DTSTAMP:20260423T182230
CREATED:20251020T183515Z
LAST-MODIFIED:20251130T222542Z
UID:10003563-1766509200-1766513700@thecenterofpeace.org
SUMMARY:Cirque Dream Holidaze 2025
DESCRIPTION:“Beyond the Four Walls” series\nAn opportunity for us to come together in fellowship\, spiritual practice\, and fun!\n—————————— \n\nCirque Dreams Holidaze dazzles with a brilliantly breathtaking holiday spectacular for the whole family. \n\n\nAs the original cirque holiday theatrical event\, this annual tradition wraps a Broadway-style production around awe-inspiring contemporary circus arts. Guests will be on the edge of their seats as a cast of holiday characters come to life\, captivating audiences while defying gravity. Broadway World exclaims “Lose yourself for 90 minutes and go back to those wonderful dreams you had as a kid.”  \nEnchanting and fun for children to seniors and everyone in between\, Cirque Dreams Holidaze features a world-renowned cast of performers including an ensemble of aerial circus arts\, sleight-of-hand jugglers\, fun-loving skippers\, eye-popping acrobatics\, and much more. Singers\, dancers\, toy soldiers\, and reindeer invoke the dreams behind a child’s eye on the most magical of nights. Reimagined for 2025\, Cirque Dreams Holidaze features original music\, fresh twists on beloved holiday favorites sung live\, new sets\, dazzling scenery\, and stunning costumes – making it the ultimate holiday gift!  \n\nWHEN:\nTuesday\, December 23\, 2025 at 5pm EST \nLOCATION:\nMiller Theater\n250 South Broad Street\nPhiladelphia\, PA 19102 \nPARKING:\nClick HERE for DIRECTIONS and PARKING \nTICKET INFO:\nTickets will be given out on December 7 and 14\, after Sunday Service \nSALES:\nTicket sales begin on Friday\, October 24\, 2025. \nPRICE:\n$70 per person; all tickets are non-refundable. \n——————————- \nTickets are available on a first-come\, first-served basis.\nThe full amount is expected at the time of purchase.\nTickets will be available for disbursement two to three (2-3) weeks prior to the event. See above for dates.\nAnnouncements will be made in advance. \n——————————- \nAccepted methods of payment:\n• CASH (exact change please)\n• Personal check – NOTE: Please make checks out to: “The Center of Peace” or “TCP”\, write “Cirque Dream Holidaze” in the memo.\n• Breeze – NOTE: Select “Beyond The Four Walls” or “BTFW”. Write the event name\, “Cirque Dream Holidaze” in the comment. All fees are the responsibility of the ticket purchaser/congregant. \n\n——————————- \nTICKET DONATIONS AND DISCOUNTS:\nOur goal is to ensure that everyone has the opportunity to experience the Arts and Theater within their spiritual community. To achieve this\, we need your support. \n  \nWe are offering members and congregants the chance to purchase additional tickets to donate or to make financial contributions that will help reduce ticket prices for those interested in attending but unable to afford the full price. \nMembers and congregants will also have the opportunity to receive donated or discounted tickets\, which will be distributed on a first-come\, first-served basis. Interested individuals are encouraged to email TCP’s general email address at info@thecenterofpeace.org to be placed on the list. \n  \nPotential recipients will be notified via email once ticket sales have concluded. If\, for any reason\, you are unable to attend\, we kindly ask that you inform us as soon as possible so we can offer the ticket(s) to someone else. \n——————————-\nFAQs\nWhat date is the event?\nTuesday\, December 23\, 2025 \nWhat time does the event begin?\nIt begins promptly at 5 pm \nHow much are the tickets?\nTickets are $70 each. \nHow long is the performance?\nThe run time is 75 minutes\, no intermission. \nWhat forms of payment are accepted?\nCash (exact change)\nPersonal Check\nBreeze \nWhat’s the deadline for purchasing tickets?\nTicket sales end on Friday\, November 21\, 2025. \nWhat if Ayenda is not available to accept payment before/after the Sunday Celebration Service?\nCalista Dorsey\, RScP will be available to accept cash payments. Please bring exact change. \nWhat forms of payment are NOT accepted?\nCash app\, Zelle\, Apple Pay\, Google Pay\, Venmo \nWhere is the Miller Theater (formerly Merriam Theater) located?\nThe Miller Theater is located at 250 South Broad Street\, Philadelphia\, PA 19102\, near the southwest corner of Broad & Locust Sts. It is also located next door to the Academy of Music. \nCan I make partial payments for the tickets or place them on hold?\nBased on the high demand for this theater production\, tickets are available on a first-come\, first-served basis. \nIs there parking available?\nIn addition to on-the-street parking\, there are many parking garages in the surrounding area to choose from. Please click the link above to learn more. \nWhat if I am unable to attend the event?\nTickets are non-refundable. It will be the responsibility of the ticket purchaser to resell the tickets. \nWhen can I get my tickets?\nTickets will be available for distribution on December 7\, and 14\, 2025. \nWhat if I lose my ticket(s)?\nPlease contact Ayenda Lambert at marketing@thecenterofpeace.org or call/text at (267) 255-5339 so\, she can request a copy(ies). It/They will be left at Will Call in the ticket purchaser’s name. \nWhat if I am unavailable to receive my tickets on the day of disbursement?\nTickets that were not collected will be left at Will Call in the name of the person who purchased the ticket(s). \nCan I request specific seating (e.g.\, aisle seating\, front row\, etc.)?\nYou are welcome to inquire about specific seating. However\, we cannot guarantee it.\nTickets are sold on a first-come\, first-served basis and based on keeping the number of people in their party seated together. Meaning\, if someone orders three tickets\, the priority is to keep the party of three together. \nCan I purchase additional tickets later?\nIf there are available tickets to be sold\, yes. However\, there is no guarantee that seating will be together. \nWhere are the seats located?\nTCP has reserved full-view seating in the Center Balcony section. \nAre there any wheelchair-accessible seats available?\nThere are no wheelchair-accessible seats available in the sections that TCP has reserved.\nPlease contact Ayenda Lambert at (267) 255-5339 if you are interested in attending and require wheelchair access. \nCONTACT:\nPlease contact Ayenda Lambert at marketing@thecenterofpeace.org or call/text at (267) 255-5339 if you have any questions. \nPLEASE NOTE:\nPlease make all inquiries by end of day on December 22\, 2025. Calls will not be accepted; emails will not be checked on the day of the performance.
URL:https://thecenterofpeace.org/events/cirque-dream-holidaze-2025/
LOCATION:Miller Theater\, 250 S. Broad Street\, Philadelphia\, PA\, 19102\, United States
CATEGORIES:Beyond The Four Walls,EVENT CALENDAR
ATTACH;FMTTYPE=image/png:https://thecenterofpeace.org/wp-content/uploads/2025/10/Cirque-Dreams-Holidaze-2025-1920-x-1080.png
ORGANIZER;CN="TCP Marketing (Ayenda Lambert)":MAILTO:marketing@thecenterofpeace.org
END:VEVENT
END:VCALENDAR