BEGIN:VCALENDAR
VERSION:2.0
PRODID:-//The Center of Peace, Center for Spiritual Living - ECPv6.15.11//NONSGML v1.0//EN
CALSCALE:GREGORIAN
METHOD:PUBLISH
X-ORIGINAL-URL:https://thecenterofpeace.org
X-WR-CALDESC:Events for The Center of Peace, Center for Spiritual Living
REFRESH-INTERVAL;VALUE=DURATION:PT1H
X-Robots-Tag:noindex
X-PUBLISHED-TTL:PT1H
BEGIN:VTIMEZONE
TZID:America/New_York
BEGIN:DAYLIGHT
TZOFFSETFROM:-0500
TZOFFSETTO:-0400
TZNAME:EDT
DTSTART:20240310T070000
END:DAYLIGHT
BEGIN:STANDARD
TZOFFSETFROM:-0400
TZOFFSETTO:-0500
TZNAME:EST
DTSTART:20241103T060000
END:STANDARD
BEGIN:DAYLIGHT
TZOFFSETFROM:-0500
TZOFFSETTO:-0400
TZNAME:EDT
DTSTART:20250309T070000
END:DAYLIGHT
BEGIN:STANDARD
TZOFFSETFROM:-0400
TZOFFSETTO:-0500
TZNAME:EST
DTSTART:20251102T060000
END:STANDARD
BEGIN:DAYLIGHT
TZOFFSETFROM:-0500
TZOFFSETTO:-0400
TZNAME:EDT
DTSTART:20260308T070000
END:DAYLIGHT
BEGIN:STANDARD
TZOFFSETFROM:-0400
TZOFFSETTO:-0500
TZNAME:EST
DTSTART:20261101T060000
END:STANDARD
END:VTIMEZONE
BEGIN:VEVENT
DTSTART;TZID=America/New_York:20251231T190000
DTEND;TZID=America/New_York:20251231T203000
DTSTAMP:20260423T162935
CREATED:20251126T202429Z
LAST-MODIFIED:20251126T203443Z
UID:10003572-1767207600-1767213000@thecenterofpeace.org
SUMMARY:NYE Silent Meditation 2025
DESCRIPTION:You are invited to join us on New Year’s Eve as we experience sacred silence. Experience the peace of guided meditations\, contemplative journaling\, and inner devotion\, all from the comfort of your home. Everyone is welcome to join\, and please share this uplifting event with family and friends. \nWednesday\, December 31\, 2025 – 8:00-9:30pm ADT\, 7:00-8:30pm\, EDT\, 6:00-7:30pm CDT – 5:00-6:30pm MDT and 4:00-5:30pm PDT  \nCLICK HERE TO JOIN \nMeeting ID: 988 410 1358\nPasscode: music \nItems needed: A journal book and pen\, one white candle to light\, chocolate\, and something that represents Love\, along with an open heart and willingness to be Present! \nLove and light\, \nAliyma Alsaadhl-Boyd\, RScP\nCynthia Banks\, RScP\nCalista J. Dorsey\, RScP\nDeborah E. Ford\, RScP/Emeritus\nPatricia Watson\, RScP/Emeritus
URL:https://thecenterofpeace.org/events/nye-silent-meditation-2025/
LOCATION:VIRTUAL\, PA\, United States
CATEGORIES:Care Circles,EVENT CALENDAR,TCP Practitioners Care Circle
ATTACH;FMTTYPE=image/png:https://thecenterofpeace.org/wp-content/uploads/2025/11/New-Years-Eve-Meditation-2025-1920-x-1080.png
END:VEVENT
END:VCALENDAR