BEGIN:VCALENDAR
VERSION:2.0
PRODID:-//The Center of Peace, Center for Spiritual Living - ECPv6.15.11//NONSGML v1.0//EN
CALSCALE:GREGORIAN
METHOD:PUBLISH
X-WR-CALNAME:The Center of Peace, Center for Spiritual Living
X-ORIGINAL-URL:https://thecenterofpeace.org
X-WR-CALDESC:Events for The Center of Peace, Center for Spiritual Living
REFRESH-INTERVAL;VALUE=DURATION:PT1H
X-Robots-Tag:noindex
X-PUBLISHED-TTL:PT1H
BEGIN:VTIMEZONE
TZID:America/New_York
BEGIN:DAYLIGHT
TZOFFSETFROM:-0500
TZOFFSETTO:-0400
TZNAME:EDT
DTSTART:20250309T070000
END:DAYLIGHT
BEGIN:STANDARD
TZOFFSETFROM:-0400
TZOFFSETTO:-0500
TZNAME:EST
DTSTART:20251102T060000
END:STANDARD
BEGIN:DAYLIGHT
TZOFFSETFROM:-0500
TZOFFSETTO:-0400
TZNAME:EDT
DTSTART:20260308T070000
END:DAYLIGHT
BEGIN:STANDARD
TZOFFSETFROM:-0400
TZOFFSETTO:-0500
TZNAME:EST
DTSTART:20261101T060000
END:STANDARD
BEGIN:DAYLIGHT
TZOFFSETFROM:-0500
TZOFFSETTO:-0400
TZNAME:EDT
DTSTART:20270314T070000
END:DAYLIGHT
BEGIN:STANDARD
TZOFFSETFROM:-0400
TZOFFSETTO:-0500
TZNAME:EST
DTSTART:20271107T060000
END:STANDARD
END:VTIMEZONE
BEGIN:VEVENT
DTSTART;TZID=America/New_York:20260113T183000
DTEND;TZID=America/New_York:20260113T203000
DTSTAMP:20260423T162909
CREATED:20251201T020936Z
LAST-MODIFIED:20251201T022706Z
UID:10003574-1768329000-1768336200@thecenterofpeace.org
SUMMARY:WINTER 2026 - Effective Communication
DESCRIPTION:An excellent opportunity for students to improve communication skills and learn to have a greater reverence and respect for each other. This class offers a context and opportunity for a group to gather and share their lives. Both students and the facilitator receive the same workbook and the group has a cooperative experience of exploring these ideas together. \nWhen: Tuesdays at 6:30-8:30pm\, beginning January 13 through February 17\, 2026 (6 wks) \nFacilitators: Sandra Forrest\, RScP and Mara Davis\, RScP \nInvestment: $120 \nRequired Readings: “Mind Over Medicine”\, by Lissa Rankin; “Science of Mind” by Ernest Holmes. \nRegister by: January 6\, 2026 \nREGISTER HERE \n  \nQuestions: Please email the Education Care Circle at education@thecenterofpeace.org or contact 215-385-0313. \nPLEASE NOTE: You must pay the registration fee prior to the class start date. If tuition is not paid in full you cannot take any additional courses.
URL:https://thecenterofpeace.org/events/winter-2026-effective-communication/
LOCATION:VIRTUAL\, PA\, United States
CATEGORIES:Care Circles,Education Care Circle,EVENT CALENDAR
ATTACH;FMTTYPE=image/png:https://thecenterofpeace.org/wp-content/uploads/2025/11/Effective-Communication-1920-x-1080.png
ORGANIZER;CN="Education Care Circle":MAILTO:education@thecenterofpeace.org
END:VEVENT
END:VCALENDAR