BEGIN:VCALENDAR
VERSION:2.0
PRODID:-//The Center of Peace, Center for Spiritual Living - ECPv6.15.11//NONSGML v1.0//EN
CALSCALE:GREGORIAN
METHOD:PUBLISH
X-WR-CALNAME:The Center of Peace, Center for Spiritual Living
X-ORIGINAL-URL:https://thecenterofpeace.org
X-WR-CALDESC:Events for The Center of Peace, Center for Spiritual Living
REFRESH-INTERVAL;VALUE=DURATION:PT1H
X-Robots-Tag:noindex
X-PUBLISHED-TTL:PT1H
BEGIN:VTIMEZONE
TZID:America/New_York
BEGIN:DAYLIGHT
TZOFFSETFROM:-0500
TZOFFSETTO:-0400
TZNAME:EDT
DTSTART:20250309T070000
END:DAYLIGHT
BEGIN:STANDARD
TZOFFSETFROM:-0400
TZOFFSETTO:-0500
TZNAME:EST
DTSTART:20251102T060000
END:STANDARD
BEGIN:DAYLIGHT
TZOFFSETFROM:-0500
TZOFFSETTO:-0400
TZNAME:EDT
DTSTART:20260308T070000
END:DAYLIGHT
BEGIN:STANDARD
TZOFFSETFROM:-0400
TZOFFSETTO:-0500
TZNAME:EST
DTSTART:20261101T060000
END:STANDARD
BEGIN:DAYLIGHT
TZOFFSETFROM:-0500
TZOFFSETTO:-0400
TZNAME:EDT
DTSTART:20270314T070000
END:DAYLIGHT
BEGIN:STANDARD
TZOFFSETFROM:-0400
TZOFFSETTO:-0500
TZNAME:EST
DTSTART:20271107T060000
END:STANDARD
END:VTIMEZONE
BEGIN:VEVENT
DTSTART;TZID=America/New_York:20260124T130000
DTEND;TZID=America/New_York:20260124T163000
DTSTAMP:20260423T162826
CREATED:20251201T164248Z
LAST-MODIFIED:20260119T215436Z
UID:10003576-1769259600-1769272200@thecenterofpeace.org
SUMMARY:Stress\, Environment\, Spirituality\, and Health Workshop 2026
DESCRIPTION:Workshop description:\nPart 1: What stress is\, and how it works.\nPart 2: How stress and environmental pollution affect your health.\nPart 3: Why enriching your spirituality may be the best thing you can do for your health. \nFacilitator: Jane Ellen Clougherty\, MSc ScD\, RScP \nDr. Clougherty is a Licensed Professional Practitioner of Science of Mind\, and a tenured Professor of Environmental and Occupational Health at Drexel University Dornsife School of Public Health. Her research is in environmental and climate justice\, with an emphasis on how chronic stress affects susceptibility to environmental pollution. \nREGISTER HERE
URL:https://thecenterofpeace.org/events/stress-environment-spirituality-and-health-workshop-2026/
LOCATION:TCP Home – Greene Street\, 5712-14 Greene Street\, Philadelphia\, PA\, 19144\, United States
CATEGORIES:Care Circles,EVENT CALENDAR,TCP Practitioners Care Circle
ATTACH;FMTTYPE=image/png:https://thecenterofpeace.org/wp-content/uploads/2025/12/Stress-Workshop-1920-x-1080.png
ORGANIZER;CN="Jane Clougherty%2C RScP":MAILTO:jec373@drexel.edu
END:VEVENT
END:VCALENDAR