BEGIN:VCALENDAR
VERSION:2.0
PRODID:-//The Center of Peace, Center for Spiritual Living - ECPv6.15.11//NONSGML v1.0//EN
CALSCALE:GREGORIAN
METHOD:PUBLISH
X-ORIGINAL-URL:https://thecenterofpeace.org
X-WR-CALDESC:Events for The Center of Peace, Center for Spiritual Living
REFRESH-INTERVAL;VALUE=DURATION:PT1H
X-Robots-Tag:noindex
X-PUBLISHED-TTL:PT1H
BEGIN:VTIMEZONE
TZID:America/New_York
BEGIN:DAYLIGHT
TZOFFSETFROM:-0500
TZOFFSETTO:-0400
TZNAME:EDT
DTSTART:20250309T070000
END:DAYLIGHT
BEGIN:STANDARD
TZOFFSETFROM:-0400
TZOFFSETTO:-0500
TZNAME:EST
DTSTART:20251102T060000
END:STANDARD
BEGIN:DAYLIGHT
TZOFFSETFROM:-0500
TZOFFSETTO:-0400
TZNAME:EDT
DTSTART:20260308T070000
END:DAYLIGHT
BEGIN:STANDARD
TZOFFSETFROM:-0400
TZOFFSETTO:-0500
TZNAME:EST
DTSTART:20261101T060000
END:STANDARD
BEGIN:DAYLIGHT
TZOFFSETFROM:-0500
TZOFFSETTO:-0400
TZNAME:EDT
DTSTART:20270314T070000
END:DAYLIGHT
BEGIN:STANDARD
TZOFFSETFROM:-0400
TZOFFSETTO:-0500
TZNAME:EST
DTSTART:20271107T060000
END:STANDARD
END:VTIMEZONE
BEGIN:VEVENT
DTSTART;TZID=America/New_York:20260405T100000
DTEND;TZID=America/New_York:20260405T130000
DTSTAMP:20260423T115906
CREATED:20260324T215202Z
LAST-MODIFIED:20260325T124329Z
UID:10003722-1775383200-1775394000@thecenterofpeace.org
SUMMARY:Spring and Summer Clothing Drive 2026
DESCRIPTION:During the month of April\, The Social Justice Care Circle will be collecting Spring and Summer clothing and shoes for men and women at The Behavioral Wellness Center at Girard.   \nWe are asking you to donate new or slightly worn and clean clothing/shoes for men and women to wear during the approaching spring and summer seasons. As you review and thin out your wardrobe\, please remember our brothers and sisters at The Behavioral Wellness Center\, who are deeply grateful for our past donations.  \n\nClothing and shoes for men and women should be new or slightly worn and clean.\n\n\nDonations should be in a large plastic bag or in a large shopping bag. \n\n\nPlease bring your donations to The Center of Peace on Sundays\, before 11am or after 1pm. \n\n\nDonations will be received on the following Sundays:  April 5\, 12\, 19\, and 26. \n\n\nAll donations will be removed after service every Sunday.\n\nIf you have questions regarding this event\, contact Donna A Brown – socialjustice@thecenterofpeace.org / 267-476-4751.  \nThank you for your continued support.  
URL:https://thecenterofpeace.org/events/spring-and-summer-clothing-drive-2026/2026-04-05/
LOCATION:TCP Home – Greene Street\, 5712-14 Greene Street\, Philadelphia\, PA\, 19144\, United States
CATEGORIES:Care Circles,EVENT CALENDAR,Social Justice
ATTACH;FMTTYPE=image/png:https://thecenterofpeace.org/wp-content/uploads/2026/03/SpringSummer-Clothing-Drive-2026-1920-x-1080-1.png
ORGANIZER;CN="Social Justice Care Circle":MAILTO:socialjustice@thecenterofpeace.org
END:VEVENT
BEGIN:VEVENT
DTSTART;TZID=America/New_York:20260405T110000
DTEND;TZID=America/New_York:20260405T123000
DTSTAMP:20260423T115906
CREATED:20260321T135406Z
LAST-MODIFIED:20260322T012616Z
UID:10003714-1775386800-1775392200@thecenterofpeace.org
SUMMARY:Sunday Celebration Services (April 2026)
DESCRIPTION:SANKOFA SONG: The Resurrection Paradigm\nA New Negro Spiritual with Warren B. Cooper\n \nA SANKOFA SONG is a Song of the Soul that sings in past\, present and future tense simultaneously.  The Resurrection Paradigm is the ‘space\, place and time’ where our True Self can be brought back to Life through the recognition that It is already One with The Divine. \nWarren is a member of The Center of Peace who serves humanity as a Sound Healing Practitioner\, Music Minister\, Teaching Artist\, and Peace Protagonist.  These elements are uniquely blended in this presentation and cast through the lens of the Negro Spiritual to shed light on a Vision for the way forward into True Freedom. \nCome be moved\, uplifted\, and renewed. \nAll are welcome! \n\n\n\n\nWe are located at: \n5712-14 Greene Street\, Philadelphia\, PA 19144\n(near Greene & Chelten Sts.) \n\n\nThe location is wheelchair accessible and there’s plenty of space for everyone to enjoy themselves.\n\n\nThere will be lots of love\, hugs\, and available parking. Oh\, did we mention hugs??\n\n—————————-\n\nUNABLE TO ATTEND IN-PERSON?\n\nWatch us live on our Facebook page or YouTube channel:\n\n\n\n\n\n\n\n\n\n\n\n\n\n\n– OR –
URL:https://thecenterofpeace.org/events/sunday-celebration-services-april-2026-2/
LOCATION:TCP Home – Greene Street\, 5712-14 Greene Street\, Philadelphia\, PA\, 19144\, United States
CATEGORIES:EVENT CALENDAR,Sunday Celebration Service
ATTACH;FMTTYPE=image/png:https://thecenterofpeace.org/wp-content/uploads/2026/03/Sankofa-Song-The-Resurrection-Paradigm-1920-x-1080-1.png
ORGANIZER;CN="TCP Marketing (Ayenda Lambert)":MAILTO:marketing@thecenterofpeace.org
END:VEVENT
END:VCALENDAR