BEGIN:VCALENDAR
VERSION:2.0
PRODID:-//The Center of Peace, Center for Spiritual Living - ECPv6.15.11//NONSGML v1.0//EN
CALSCALE:GREGORIAN
METHOD:PUBLISH
X-WR-CALNAME:The Center of Peace, Center for Spiritual Living
X-ORIGINAL-URL:https://thecenterofpeace.org
X-WR-CALDESC:Events for The Center of Peace, Center for Spiritual Living
REFRESH-INTERVAL;VALUE=DURATION:PT1H
X-Robots-Tag:noindex
X-PUBLISHED-TTL:PT1H
BEGIN:VTIMEZONE
TZID:America/New_York
BEGIN:DAYLIGHT
TZOFFSETFROM:-0500
TZOFFSETTO:-0400
TZNAME:EDT
DTSTART:20250309T070000
END:DAYLIGHT
BEGIN:STANDARD
TZOFFSETFROM:-0400
TZOFFSETTO:-0500
TZNAME:EST
DTSTART:20251102T060000
END:STANDARD
BEGIN:DAYLIGHT
TZOFFSETFROM:-0500
TZOFFSETTO:-0400
TZNAME:EDT
DTSTART:20260308T070000
END:DAYLIGHT
BEGIN:STANDARD
TZOFFSETFROM:-0400
TZOFFSETTO:-0500
TZNAME:EST
DTSTART:20261101T060000
END:STANDARD
BEGIN:DAYLIGHT
TZOFFSETFROM:-0500
TZOFFSETTO:-0400
TZNAME:EDT
DTSTART:20270314T070000
END:DAYLIGHT
BEGIN:STANDARD
TZOFFSETFROM:-0400
TZOFFSETTO:-0500
TZNAME:EST
DTSTART:20271107T060000
END:STANDARD
END:VTIMEZONE
BEGIN:VEVENT
DTSTART;TZID=America/New_York:20260408T200000
DTEND;TZID=America/New_York:20260408T210000
DTSTAMP:20260423T115831
CREATED:20260120T000513Z
LAST-MODIFIED:20260120T000757Z
UID:10003631-1775678400-1775682000@thecenterofpeace.org
SUMMARY:Virtual Meditation with Calista
DESCRIPTION:Take this mid-week breather and join us in Calista’s Virtual Meditation every Wednesday evening. \nJoin Calista every Wednesday evening at 8pm on Microsoft Teams for a virtual meditation. Connect with your inner wisdom and bring forth that sense of clarity and stillness. Learning to dance with your thoughts versus fighting the impulses. \n\nMake a promise to yourself this week…try a 30-minute meditation and learn to observe your thinking.\nAllow yourself to unwind and enter into more clarity.\nFocus on your breath and learn to feel the rhythm of your body.\n\n  \nJoin Now \n  \nIf you already have Microsoft Teams on your computer or mobile device: Click here to join the meeting \nIf you do not have Microsoft Teams downloaded onto your computer or mobile device: Join on the web\, then enter the Meeting ID and Passcode below. \nMeeting ID: 299 382 379 670 | Passcode: McCeLN \nDownload Teams | Learn More | Meeting options
URL:https://thecenterofpeace.org/events/virtual-meditation-with-calista-2/2026-04-08/
LOCATION:VIRTUAL\, PA\, United States
CATEGORIES:EVENT CALENDAR
ATTACH;FMTTYPE=image/png:https://thecenterofpeace.org/wp-content/uploads/2024/02/Screenshot-2024-02-03-124350.png
ORGANIZER;CN="Serenity Care Circle":MAILTO:serenity@thecenterofpeace.org
END:VEVENT
END:VCALENDAR