BEGIN:VCALENDAR
VERSION:2.0
PRODID:-//The Center of Peace, Center for Spiritual Living - ECPv6.15.11//NONSGML v1.0//EN
CALSCALE:GREGORIAN
METHOD:PUBLISH
X-WR-CALNAME:The Center of Peace, Center for Spiritual Living
X-ORIGINAL-URL:https://thecenterofpeace.org
X-WR-CALDESC:Events for The Center of Peace, Center for Spiritual Living
REFRESH-INTERVAL;VALUE=DURATION:PT1H
X-Robots-Tag:noindex
X-PUBLISHED-TTL:PT1H
BEGIN:VTIMEZONE
TZID:America/New_York
BEGIN:DAYLIGHT
TZOFFSETFROM:-0500
TZOFFSETTO:-0400
TZNAME:EDT
DTSTART:20270314T070000
END:DAYLIGHT
BEGIN:STANDARD
TZOFFSETFROM:-0400
TZOFFSETTO:-0500
TZNAME:EST
DTSTART:20271107T060000
END:STANDARD
BEGIN:DAYLIGHT
TZOFFSETFROM:-0500
TZOFFSETTO:-0400
TZNAME:EDT
DTSTART:20280312T070000
END:DAYLIGHT
BEGIN:STANDARD
TZOFFSETFROM:-0400
TZOFFSETTO:-0500
TZNAME:EST
DTSTART:20281105T060000
END:STANDARD
BEGIN:DAYLIGHT
TZOFFSETFROM:-0500
TZOFFSETTO:-0400
TZNAME:EDT
DTSTART:20290311T070000
END:DAYLIGHT
BEGIN:STANDARD
TZOFFSETFROM:-0400
TZOFFSETTO:-0500
TZNAME:EST
DTSTART:20291104T060000
END:STANDARD
END:VTIMEZONE
BEGIN:VEVENT
DTSTART;TZID=America/New_York:20280628T190000
DTEND;TZID=America/New_York:20280628T203000
DTSTAMP:20260425T062916
CREATED:20250913T024612Z
LAST-MODIFIED:20250913T034012Z
UID:10003514-1845831600-1845837000@thecenterofpeace.org
SUMMARY:Spiritual Living Circle Study Group
DESCRIPTION:JOIN SLC NOW \n\n\nMeeting ID:  215 805 2506\nPasscode: LOVE
URL:https://thecenterofpeace.org/events/spiritual-living-circle/2028-06-28/
LOCATION:VIRTUAL\, PA\, United States
CATEGORIES:Care Circles,EVENT CALENDAR,Spiritual Living Circle,Study Groups
ATTACH;FMTTYPE=image/png:https://thecenterofpeace.org/wp-content/uploads/2025/09/Spiritual-Living-Circle-1920-x-1080-2.png
ORGANIZER;CN="Zulma Gonzalez%2C RScP":MAILTO:miracles@thecenterofpeace.org
END:VEVENT
BEGIN:VEVENT
DTSTART;TZID=America/New_York:20280629T193000
DTEND;TZID=America/New_York:20280629T203000
DTSTAMP:20260425T062916
CREATED:20250910T214931Z
LAST-MODIFIED:20250910T215306Z
UID:10003306-1845919800-1845923400@thecenterofpeace.org
SUMMARY:A Course In Miracles Study Group
DESCRIPTION:Facilitators: Zulma González\, RScP and Cynthia Banks\, RScP\n\nCLICK TO JOIN THE STUDY GROUP  \nMeeting ID:  215 805 2506\nPasscode: LOVE
URL:https://thecenterofpeace.org/events/a-course-in-miracles-study-group/2028-06-29/
LOCATION:VIRTUAL\, PA\, United States
CATEGORIES:A Course In Miracles,Care Circles,EVENT CALENDAR,Study Groups
ATTACH;FMTTYPE=image/png:https://thecenterofpeace.org/wp-content/uploads/2025/09/A-Course-of-Miracles-1.png
ORGANIZER;CN="Zulma Gonzalez%2C RScP":MAILTO:miracles@thecenterofpeace.org
END:VEVENT
BEGIN:VEVENT
DTSTART;TZID=America/New_York:20280706T193000
DTEND;TZID=America/New_York:20280706T203000
DTSTAMP:20260425T062916
CREATED:20250910T214931Z
LAST-MODIFIED:20250910T215306Z
UID:10003307-1846524600-1846528200@thecenterofpeace.org
SUMMARY:A Course In Miracles Study Group
DESCRIPTION:Facilitators: Zulma González\, RScP and Cynthia Banks\, RScP\n\nCLICK TO JOIN THE STUDY GROUP  \nMeeting ID:  215 805 2506\nPasscode: LOVE
URL:https://thecenterofpeace.org/events/a-course-in-miracles-study-group/2028-07-06/
LOCATION:VIRTUAL\, PA\, United States
CATEGORIES:A Course In Miracles,Care Circles,EVENT CALENDAR,Study Groups
ATTACH;FMTTYPE=image/png:https://thecenterofpeace.org/wp-content/uploads/2025/09/A-Course-of-Miracles-1.png
ORGANIZER;CN="Zulma Gonzalez%2C RScP":MAILTO:miracles@thecenterofpeace.org
END:VEVENT
BEGIN:VEVENT
DTSTART;TZID=America/New_York:20280713T193000
DTEND;TZID=America/New_York:20280713T203000
DTSTAMP:20260425T062916
CREATED:20250910T214931Z
LAST-MODIFIED:20250910T215306Z
UID:10003308-1847129400-1847133000@thecenterofpeace.org
SUMMARY:A Course In Miracles Study Group
DESCRIPTION:Facilitators: Zulma González\, RScP and Cynthia Banks\, RScP\n\nCLICK TO JOIN THE STUDY GROUP  \nMeeting ID:  215 805 2506\nPasscode: LOVE
URL:https://thecenterofpeace.org/events/a-course-in-miracles-study-group/2028-07-13/
LOCATION:VIRTUAL\, PA\, United States
CATEGORIES:A Course In Miracles,Care Circles,EVENT CALENDAR,Study Groups
ATTACH;FMTTYPE=image/png:https://thecenterofpeace.org/wp-content/uploads/2025/09/A-Course-of-Miracles-1.png
ORGANIZER;CN="Zulma Gonzalez%2C RScP":MAILTO:miracles@thecenterofpeace.org
END:VEVENT
BEGIN:VEVENT
DTSTART;TZID=America/New_York:20280720T193000
DTEND;TZID=America/New_York:20280720T203000
DTSTAMP:20260425T062916
CREATED:20250910T214931Z
LAST-MODIFIED:20250910T215306Z
UID:10003309-1847734200-1847737800@thecenterofpeace.org
SUMMARY:A Course In Miracles Study Group
DESCRIPTION:Facilitators: Zulma González\, RScP and Cynthia Banks\, RScP\n\nCLICK TO JOIN THE STUDY GROUP  \nMeeting ID:  215 805 2506\nPasscode: LOVE
URL:https://thecenterofpeace.org/events/a-course-in-miracles-study-group/2028-07-20/
LOCATION:VIRTUAL\, PA\, United States
CATEGORIES:A Course In Miracles,Care Circles,EVENT CALENDAR,Study Groups
ATTACH;FMTTYPE=image/png:https://thecenterofpeace.org/wp-content/uploads/2025/09/A-Course-of-Miracles-1.png
ORGANIZER;CN="Zulma Gonzalez%2C RScP":MAILTO:miracles@thecenterofpeace.org
END:VEVENT
BEGIN:VEVENT
DTSTART;TZID=America/New_York:20280726T190000
DTEND;TZID=America/New_York:20280726T203000
DTSTAMP:20260425T062916
CREATED:20250913T024612Z
LAST-MODIFIED:20250913T034012Z
UID:10003515-1848250800-1848256200@thecenterofpeace.org
SUMMARY:Spiritual Living Circle Study Group
DESCRIPTION:JOIN SLC NOW \n\n\nMeeting ID:  215 805 2506\nPasscode: LOVE
URL:https://thecenterofpeace.org/events/spiritual-living-circle/2028-07-26/
LOCATION:VIRTUAL\, PA\, United States
CATEGORIES:Care Circles,EVENT CALENDAR,Spiritual Living Circle,Study Groups
ATTACH;FMTTYPE=image/png:https://thecenterofpeace.org/wp-content/uploads/2025/09/Spiritual-Living-Circle-1920-x-1080-2.png
ORGANIZER;CN="Zulma Gonzalez%2C RScP":MAILTO:miracles@thecenterofpeace.org
END:VEVENT
BEGIN:VEVENT
DTSTART;TZID=America/New_York:20280727T193000
DTEND;TZID=America/New_York:20280727T203000
DTSTAMP:20260425T062916
CREATED:20250910T214931Z
LAST-MODIFIED:20250910T215306Z
UID:10003310-1848339000-1848342600@thecenterofpeace.org
SUMMARY:A Course In Miracles Study Group
DESCRIPTION:Facilitators: Zulma González\, RScP and Cynthia Banks\, RScP\n\nCLICK TO JOIN THE STUDY GROUP  \nMeeting ID:  215 805 2506\nPasscode: LOVE
URL:https://thecenterofpeace.org/events/a-course-in-miracles-study-group/2028-07-27/
LOCATION:VIRTUAL\, PA\, United States
CATEGORIES:A Course In Miracles,Care Circles,EVENT CALENDAR,Study Groups
ATTACH;FMTTYPE=image/png:https://thecenterofpeace.org/wp-content/uploads/2025/09/A-Course-of-Miracles-1.png
ORGANIZER;CN="Zulma Gonzalez%2C RScP":MAILTO:miracles@thecenterofpeace.org
END:VEVENT
BEGIN:VEVENT
DTSTART;TZID=America/New_York:20280803T193000
DTEND;TZID=America/New_York:20280803T203000
DTSTAMP:20260425T062916
CREATED:20250910T214931Z
LAST-MODIFIED:20250910T215306Z
UID:10003311-1848943800-1848947400@thecenterofpeace.org
SUMMARY:A Course In Miracles Study Group
DESCRIPTION:Facilitators: Zulma González\, RScP and Cynthia Banks\, RScP\n\nCLICK TO JOIN THE STUDY GROUP  \nMeeting ID:  215 805 2506\nPasscode: LOVE
URL:https://thecenterofpeace.org/events/a-course-in-miracles-study-group/2028-08-03/
LOCATION:VIRTUAL\, PA\, United States
CATEGORIES:A Course In Miracles,Care Circles,EVENT CALENDAR,Study Groups
ATTACH;FMTTYPE=image/png:https://thecenterofpeace.org/wp-content/uploads/2025/09/A-Course-of-Miracles-1.png
ORGANIZER;CN="Zulma Gonzalez%2C RScP":MAILTO:miracles@thecenterofpeace.org
END:VEVENT
BEGIN:VEVENT
DTSTART;TZID=America/New_York:20280810T193000
DTEND;TZID=America/New_York:20280810T203000
DTSTAMP:20260425T062916
CREATED:20250910T214931Z
LAST-MODIFIED:20250910T215306Z
UID:10003312-1849548600-1849552200@thecenterofpeace.org
SUMMARY:A Course In Miracles Study Group
DESCRIPTION:Facilitators: Zulma González\, RScP and Cynthia Banks\, RScP\n\nCLICK TO JOIN THE STUDY GROUP  \nMeeting ID:  215 805 2506\nPasscode: LOVE
URL:https://thecenterofpeace.org/events/a-course-in-miracles-study-group/2028-08-10/
LOCATION:VIRTUAL\, PA\, United States
CATEGORIES:A Course In Miracles,Care Circles,EVENT CALENDAR,Study Groups
ATTACH;FMTTYPE=image/png:https://thecenterofpeace.org/wp-content/uploads/2025/09/A-Course-of-Miracles-1.png
ORGANIZER;CN="Zulma Gonzalez%2C RScP":MAILTO:miracles@thecenterofpeace.org
END:VEVENT
BEGIN:VEVENT
DTSTART;TZID=America/New_York:20280817T193000
DTEND;TZID=America/New_York:20280817T203000
DTSTAMP:20260425T062916
CREATED:20250910T214931Z
LAST-MODIFIED:20250910T215306Z
UID:10003313-1850153400-1850157000@thecenterofpeace.org
SUMMARY:A Course In Miracles Study Group
DESCRIPTION:Facilitators: Zulma González\, RScP and Cynthia Banks\, RScP\n\nCLICK TO JOIN THE STUDY GROUP  \nMeeting ID:  215 805 2506\nPasscode: LOVE
URL:https://thecenterofpeace.org/events/a-course-in-miracles-study-group/2028-08-17/
LOCATION:VIRTUAL\, PA\, United States
CATEGORIES:A Course In Miracles,Care Circles,EVENT CALENDAR,Study Groups
ATTACH;FMTTYPE=image/png:https://thecenterofpeace.org/wp-content/uploads/2025/09/A-Course-of-Miracles-1.png
ORGANIZER;CN="Zulma Gonzalez%2C RScP":MAILTO:miracles@thecenterofpeace.org
END:VEVENT
BEGIN:VEVENT
DTSTART;TZID=America/New_York:20280823T190000
DTEND;TZID=America/New_York:20280823T203000
DTSTAMP:20260425T062916
CREATED:20250913T024612Z
LAST-MODIFIED:20250913T034012Z
UID:10003516-1850670000-1850675400@thecenterofpeace.org
SUMMARY:Spiritual Living Circle Study Group
DESCRIPTION:JOIN SLC NOW \n\n\nMeeting ID:  215 805 2506\nPasscode: LOVE
URL:https://thecenterofpeace.org/events/spiritual-living-circle/2028-08-23/
LOCATION:VIRTUAL\, PA\, United States
CATEGORIES:Care Circles,EVENT CALENDAR,Spiritual Living Circle,Study Groups
ATTACH;FMTTYPE=image/png:https://thecenterofpeace.org/wp-content/uploads/2025/09/Spiritual-Living-Circle-1920-x-1080-2.png
ORGANIZER;CN="Zulma Gonzalez%2C RScP":MAILTO:miracles@thecenterofpeace.org
END:VEVENT
BEGIN:VEVENT
DTSTART;TZID=America/New_York:20280824T193000
DTEND;TZID=America/New_York:20280824T203000
DTSTAMP:20260425T062916
CREATED:20250910T214931Z
LAST-MODIFIED:20250910T215306Z
UID:10003314-1850758200-1850761800@thecenterofpeace.org
SUMMARY:A Course In Miracles Study Group
DESCRIPTION:Facilitators: Zulma González\, RScP and Cynthia Banks\, RScP\n\nCLICK TO JOIN THE STUDY GROUP  \nMeeting ID:  215 805 2506\nPasscode: LOVE
URL:https://thecenterofpeace.org/events/a-course-in-miracles-study-group/2028-08-24/
LOCATION:VIRTUAL\, PA\, United States
CATEGORIES:A Course In Miracles,Care Circles,EVENT CALENDAR,Study Groups
ATTACH;FMTTYPE=image/png:https://thecenterofpeace.org/wp-content/uploads/2025/09/A-Course-of-Miracles-1.png
ORGANIZER;CN="Zulma Gonzalez%2C RScP":MAILTO:miracles@thecenterofpeace.org
END:VEVENT
BEGIN:VEVENT
DTSTART;TZID=America/New_York:20280831T193000
DTEND;TZID=America/New_York:20280831T203000
DTSTAMP:20260425T062916
CREATED:20250910T214931Z
LAST-MODIFIED:20250910T215306Z
UID:10003315-1851363000-1851366600@thecenterofpeace.org
SUMMARY:A Course In Miracles Study Group
DESCRIPTION:Facilitators: Zulma González\, RScP and Cynthia Banks\, RScP\n\nCLICK TO JOIN THE STUDY GROUP  \nMeeting ID:  215 805 2506\nPasscode: LOVE
URL:https://thecenterofpeace.org/events/a-course-in-miracles-study-group/2028-08-31/
LOCATION:VIRTUAL\, PA\, United States
CATEGORIES:A Course In Miracles,Care Circles,EVENT CALENDAR,Study Groups
ATTACH;FMTTYPE=image/png:https://thecenterofpeace.org/wp-content/uploads/2025/09/A-Course-of-Miracles-1.png
ORGANIZER;CN="Zulma Gonzalez%2C RScP":MAILTO:miracles@thecenterofpeace.org
END:VEVENT
BEGIN:VEVENT
DTSTART;TZID=America/New_York:20280907T193000
DTEND;TZID=America/New_York:20280907T203000
DTSTAMP:20260425T062916
CREATED:20250910T214931Z
LAST-MODIFIED:20250910T215306Z
UID:10003316-1851967800-1851971400@thecenterofpeace.org
SUMMARY:A Course In Miracles Study Group
DESCRIPTION:Facilitators: Zulma González\, RScP and Cynthia Banks\, RScP\n\nCLICK TO JOIN THE STUDY GROUP  \nMeeting ID:  215 805 2506\nPasscode: LOVE
URL:https://thecenterofpeace.org/events/a-course-in-miracles-study-group/2028-09-07/
LOCATION:VIRTUAL\, PA\, United States
CATEGORIES:A Course In Miracles,Care Circles,EVENT CALENDAR,Study Groups
ATTACH;FMTTYPE=image/png:https://thecenterofpeace.org/wp-content/uploads/2025/09/A-Course-of-Miracles-1.png
ORGANIZER;CN="Zulma Gonzalez%2C RScP":MAILTO:miracles@thecenterofpeace.org
END:VEVENT
BEGIN:VEVENT
DTSTART;TZID=America/New_York:20280914T193000
DTEND;TZID=America/New_York:20280914T203000
DTSTAMP:20260425T062916
CREATED:20250910T214931Z
LAST-MODIFIED:20250910T215306Z
UID:10003317-1852572600-1852576200@thecenterofpeace.org
SUMMARY:A Course In Miracles Study Group
DESCRIPTION:Facilitators: Zulma González\, RScP and Cynthia Banks\, RScP\n\nCLICK TO JOIN THE STUDY GROUP  \nMeeting ID:  215 805 2506\nPasscode: LOVE
URL:https://thecenterofpeace.org/events/a-course-in-miracles-study-group/2028-09-14/
LOCATION:VIRTUAL\, PA\, United States
CATEGORIES:A Course In Miracles,Care Circles,EVENT CALENDAR,Study Groups
ATTACH;FMTTYPE=image/png:https://thecenterofpeace.org/wp-content/uploads/2025/09/A-Course-of-Miracles-1.png
ORGANIZER;CN="Zulma Gonzalez%2C RScP":MAILTO:miracles@thecenterofpeace.org
END:VEVENT
BEGIN:VEVENT
DTSTART;TZID=America/New_York:20280921T193000
DTEND;TZID=America/New_York:20280921T203000
DTSTAMP:20260425T062916
CREATED:20250910T214931Z
LAST-MODIFIED:20250910T215306Z
UID:10003318-1853177400-1853181000@thecenterofpeace.org
SUMMARY:A Course In Miracles Study Group
DESCRIPTION:Facilitators: Zulma González\, RScP and Cynthia Banks\, RScP\n\nCLICK TO JOIN THE STUDY GROUP  \nMeeting ID:  215 805 2506\nPasscode: LOVE
URL:https://thecenterofpeace.org/events/a-course-in-miracles-study-group/2028-09-21/
LOCATION:VIRTUAL\, PA\, United States
CATEGORIES:A Course In Miracles,Care Circles,EVENT CALENDAR,Study Groups
ATTACH;FMTTYPE=image/png:https://thecenterofpeace.org/wp-content/uploads/2025/09/A-Course-of-Miracles-1.png
ORGANIZER;CN="Zulma Gonzalez%2C RScP":MAILTO:miracles@thecenterofpeace.org
END:VEVENT
BEGIN:VEVENT
DTSTART;TZID=America/New_York:20280927T190000
DTEND;TZID=America/New_York:20280927T203000
DTSTAMP:20260425T062916
CREATED:20250913T024612Z
LAST-MODIFIED:20250913T034012Z
UID:10003517-1853694000-1853699400@thecenterofpeace.org
SUMMARY:Spiritual Living Circle Study Group
DESCRIPTION:JOIN SLC NOW \n\n\nMeeting ID:  215 805 2506\nPasscode: LOVE
URL:https://thecenterofpeace.org/events/spiritual-living-circle/2028-09-27/
LOCATION:VIRTUAL\, PA\, United States
CATEGORIES:Care Circles,EVENT CALENDAR,Spiritual Living Circle,Study Groups
ATTACH;FMTTYPE=image/png:https://thecenterofpeace.org/wp-content/uploads/2025/09/Spiritual-Living-Circle-1920-x-1080-2.png
ORGANIZER;CN="Zulma Gonzalez%2C RScP":MAILTO:miracles@thecenterofpeace.org
END:VEVENT
BEGIN:VEVENT
DTSTART;TZID=America/New_York:20280928T193000
DTEND;TZID=America/New_York:20280928T203000
DTSTAMP:20260425T062917
CREATED:20250910T214931Z
LAST-MODIFIED:20250910T215306Z
UID:10003319-1853782200-1853785800@thecenterofpeace.org
SUMMARY:A Course In Miracles Study Group
DESCRIPTION:Facilitators: Zulma González\, RScP and Cynthia Banks\, RScP\n\nCLICK TO JOIN THE STUDY GROUP  \nMeeting ID:  215 805 2506\nPasscode: LOVE
URL:https://thecenterofpeace.org/events/a-course-in-miracles-study-group/2028-09-28/
LOCATION:VIRTUAL\, PA\, United States
CATEGORIES:A Course In Miracles,Care Circles,EVENT CALENDAR,Study Groups
ATTACH;FMTTYPE=image/png:https://thecenterofpeace.org/wp-content/uploads/2025/09/A-Course-of-Miracles-1.png
ORGANIZER;CN="Zulma Gonzalez%2C RScP":MAILTO:miracles@thecenterofpeace.org
END:VEVENT
BEGIN:VEVENT
DTSTART;TZID=America/New_York:20281005T193000
DTEND;TZID=America/New_York:20281005T203000
DTSTAMP:20260425T062917
CREATED:20250910T214931Z
LAST-MODIFIED:20250910T215306Z
UID:10003320-1854387000-1854390600@thecenterofpeace.org
SUMMARY:A Course In Miracles Study Group
DESCRIPTION:Facilitators: Zulma González\, RScP and Cynthia Banks\, RScP\n\nCLICK TO JOIN THE STUDY GROUP  \nMeeting ID:  215 805 2506\nPasscode: LOVE
URL:https://thecenterofpeace.org/events/a-course-in-miracles-study-group/2028-10-05/
LOCATION:VIRTUAL\, PA\, United States
CATEGORIES:A Course In Miracles,Care Circles,EVENT CALENDAR,Study Groups
ATTACH;FMTTYPE=image/png:https://thecenterofpeace.org/wp-content/uploads/2025/09/A-Course-of-Miracles-1.png
ORGANIZER;CN="Zulma Gonzalez%2C RScP":MAILTO:miracles@thecenterofpeace.org
END:VEVENT
BEGIN:VEVENT
DTSTART;TZID=America/New_York:20281012T193000
DTEND;TZID=America/New_York:20281012T203000
DTSTAMP:20260425T062917
CREATED:20250910T214931Z
LAST-MODIFIED:20250910T215306Z
UID:10003321-1854991800-1854995400@thecenterofpeace.org
SUMMARY:A Course In Miracles Study Group
DESCRIPTION:Facilitators: Zulma González\, RScP and Cynthia Banks\, RScP\n\nCLICK TO JOIN THE STUDY GROUP  \nMeeting ID:  215 805 2506\nPasscode: LOVE
URL:https://thecenterofpeace.org/events/a-course-in-miracles-study-group/2028-10-12/
LOCATION:VIRTUAL\, PA\, United States
CATEGORIES:A Course In Miracles,Care Circles,EVENT CALENDAR,Study Groups
ATTACH;FMTTYPE=image/png:https://thecenterofpeace.org/wp-content/uploads/2025/09/A-Course-of-Miracles-1.png
ORGANIZER;CN="Zulma Gonzalez%2C RScP":MAILTO:miracles@thecenterofpeace.org
END:VEVENT
BEGIN:VEVENT
DTSTART;TZID=America/New_York:20281019T193000
DTEND;TZID=America/New_York:20281019T203000
DTSTAMP:20260425T062917
CREATED:20250910T214931Z
LAST-MODIFIED:20250910T215306Z
UID:10003322-1855596600-1855600200@thecenterofpeace.org
SUMMARY:A Course In Miracles Study Group
DESCRIPTION:Facilitators: Zulma González\, RScP and Cynthia Banks\, RScP\n\nCLICK TO JOIN THE STUDY GROUP  \nMeeting ID:  215 805 2506\nPasscode: LOVE
URL:https://thecenterofpeace.org/events/a-course-in-miracles-study-group/2028-10-19/
LOCATION:VIRTUAL\, PA\, United States
CATEGORIES:A Course In Miracles,Care Circles,EVENT CALENDAR,Study Groups
ATTACH;FMTTYPE=image/png:https://thecenterofpeace.org/wp-content/uploads/2025/09/A-Course-of-Miracles-1.png
ORGANIZER;CN="Zulma Gonzalez%2C RScP":MAILTO:miracles@thecenterofpeace.org
END:VEVENT
BEGIN:VEVENT
DTSTART;TZID=America/New_York:20281025T190000
DTEND;TZID=America/New_York:20281025T203000
DTSTAMP:20260425T062917
CREATED:20250913T024612Z
LAST-MODIFIED:20250913T034012Z
UID:10003518-1856113200-1856118600@thecenterofpeace.org
SUMMARY:Spiritual Living Circle Study Group
DESCRIPTION:JOIN SLC NOW \n\n\nMeeting ID:  215 805 2506\nPasscode: LOVE
URL:https://thecenterofpeace.org/events/spiritual-living-circle/2028-10-25/
LOCATION:VIRTUAL\, PA\, United States
CATEGORIES:Care Circles,EVENT CALENDAR,Spiritual Living Circle,Study Groups
ATTACH;FMTTYPE=image/png:https://thecenterofpeace.org/wp-content/uploads/2025/09/Spiritual-Living-Circle-1920-x-1080-2.png
ORGANIZER;CN="Zulma Gonzalez%2C RScP":MAILTO:miracles@thecenterofpeace.org
END:VEVENT
BEGIN:VEVENT
DTSTART;TZID=America/New_York:20281026T193000
DTEND;TZID=America/New_York:20281026T203000
DTSTAMP:20260425T062917
CREATED:20250910T214931Z
LAST-MODIFIED:20250910T215306Z
UID:10003323-1856201400-1856205000@thecenterofpeace.org
SUMMARY:A Course In Miracles Study Group
DESCRIPTION:Facilitators: Zulma González\, RScP and Cynthia Banks\, RScP\n\nCLICK TO JOIN THE STUDY GROUP  \nMeeting ID:  215 805 2506\nPasscode: LOVE
URL:https://thecenterofpeace.org/events/a-course-in-miracles-study-group/2028-10-26/
LOCATION:VIRTUAL\, PA\, United States
CATEGORIES:A Course In Miracles,Care Circles,EVENT CALENDAR,Study Groups
ATTACH;FMTTYPE=image/png:https://thecenterofpeace.org/wp-content/uploads/2025/09/A-Course-of-Miracles-1.png
ORGANIZER;CN="Zulma Gonzalez%2C RScP":MAILTO:miracles@thecenterofpeace.org
END:VEVENT
BEGIN:VEVENT
DTSTART;TZID=America/New_York:20281102T193000
DTEND;TZID=America/New_York:20281102T203000
DTSTAMP:20260425T062917
CREATED:20250910T214931Z
LAST-MODIFIED:20250910T215306Z
UID:10003324-1856806200-1856809800@thecenterofpeace.org
SUMMARY:A Course In Miracles Study Group
DESCRIPTION:Facilitators: Zulma González\, RScP and Cynthia Banks\, RScP\n\nCLICK TO JOIN THE STUDY GROUP  \nMeeting ID:  215 805 2506\nPasscode: LOVE
URL:https://thecenterofpeace.org/events/a-course-in-miracles-study-group/2028-11-02/
LOCATION:VIRTUAL\, PA\, United States
CATEGORIES:A Course In Miracles,Care Circles,EVENT CALENDAR,Study Groups
ATTACH;FMTTYPE=image/png:https://thecenterofpeace.org/wp-content/uploads/2025/09/A-Course-of-Miracles-1.png
ORGANIZER;CN="Zulma Gonzalez%2C RScP":MAILTO:miracles@thecenterofpeace.org
END:VEVENT
BEGIN:VEVENT
DTSTART;TZID=America/New_York:20281109T193000
DTEND;TZID=America/New_York:20281109T203000
DTSTAMP:20260425T062917
CREATED:20250910T214931Z
LAST-MODIFIED:20250910T215306Z
UID:10003325-1857411000-1857414600@thecenterofpeace.org
SUMMARY:A Course In Miracles Study Group
DESCRIPTION:Facilitators: Zulma González\, RScP and Cynthia Banks\, RScP\n\nCLICK TO JOIN THE STUDY GROUP  \nMeeting ID:  215 805 2506\nPasscode: LOVE
URL:https://thecenterofpeace.org/events/a-course-in-miracles-study-group/2028-11-09/
LOCATION:VIRTUAL\, PA\, United States
CATEGORIES:A Course In Miracles,Care Circles,EVENT CALENDAR,Study Groups
ATTACH;FMTTYPE=image/png:https://thecenterofpeace.org/wp-content/uploads/2025/09/A-Course-of-Miracles-1.png
ORGANIZER;CN="Zulma Gonzalez%2C RScP":MAILTO:miracles@thecenterofpeace.org
END:VEVENT
BEGIN:VEVENT
DTSTART;TZID=America/New_York:20281116T193000
DTEND;TZID=America/New_York:20281116T203000
DTSTAMP:20260425T062917
CREATED:20250910T214931Z
LAST-MODIFIED:20250910T215306Z
UID:10003326-1858015800-1858019400@thecenterofpeace.org
SUMMARY:A Course In Miracles Study Group
DESCRIPTION:Facilitators: Zulma González\, RScP and Cynthia Banks\, RScP\n\nCLICK TO JOIN THE STUDY GROUP  \nMeeting ID:  215 805 2506\nPasscode: LOVE
URL:https://thecenterofpeace.org/events/a-course-in-miracles-study-group/2028-11-16/
LOCATION:VIRTUAL\, PA\, United States
CATEGORIES:A Course In Miracles,Care Circles,EVENT CALENDAR,Study Groups
ATTACH;FMTTYPE=image/png:https://thecenterofpeace.org/wp-content/uploads/2025/09/A-Course-of-Miracles-1.png
ORGANIZER;CN="Zulma Gonzalez%2C RScP":MAILTO:miracles@thecenterofpeace.org
END:VEVENT
BEGIN:VEVENT
DTSTART;TZID=America/New_York:20281122T190000
DTEND;TZID=America/New_York:20281122T203000
DTSTAMP:20260425T062917
CREATED:20250913T024612Z
LAST-MODIFIED:20250913T034012Z
UID:10003519-1858532400-1858537800@thecenterofpeace.org
SUMMARY:Spiritual Living Circle Study Group
DESCRIPTION:JOIN SLC NOW \n\n\nMeeting ID:  215 805 2506\nPasscode: LOVE
URL:https://thecenterofpeace.org/events/spiritual-living-circle/2028-11-22/
LOCATION:VIRTUAL\, PA\, United States
CATEGORIES:Care Circles,EVENT CALENDAR,Spiritual Living Circle,Study Groups
ATTACH;FMTTYPE=image/png:https://thecenterofpeace.org/wp-content/uploads/2025/09/Spiritual-Living-Circle-1920-x-1080-2.png
ORGANIZER;CN="Zulma Gonzalez%2C RScP":MAILTO:miracles@thecenterofpeace.org
END:VEVENT
BEGIN:VEVENT
DTSTART;TZID=America/New_York:20281123T193000
DTEND;TZID=America/New_York:20281123T203000
DTSTAMP:20260425T062917
CREATED:20250910T214931Z
LAST-MODIFIED:20250910T215306Z
UID:10003327-1858620600-1858624200@thecenterofpeace.org
SUMMARY:A Course In Miracles Study Group
DESCRIPTION:Facilitators: Zulma González\, RScP and Cynthia Banks\, RScP\n\nCLICK TO JOIN THE STUDY GROUP  \nMeeting ID:  215 805 2506\nPasscode: LOVE
URL:https://thecenterofpeace.org/events/a-course-in-miracles-study-group/2028-11-23/
LOCATION:VIRTUAL\, PA\, United States
CATEGORIES:A Course In Miracles,Care Circles,EVENT CALENDAR,Study Groups
ATTACH;FMTTYPE=image/png:https://thecenterofpeace.org/wp-content/uploads/2025/09/A-Course-of-Miracles-1.png
ORGANIZER;CN="Zulma Gonzalez%2C RScP":MAILTO:miracles@thecenterofpeace.org
END:VEVENT
BEGIN:VEVENT
DTSTART;TZID=America/New_York:20281130T193000
DTEND;TZID=America/New_York:20281130T203000
DTSTAMP:20260425T062917
CREATED:20250910T214931Z
LAST-MODIFIED:20250910T215306Z
UID:10003328-1859225400-1859229000@thecenterofpeace.org
SUMMARY:A Course In Miracles Study Group
DESCRIPTION:Facilitators: Zulma González\, RScP and Cynthia Banks\, RScP\n\nCLICK TO JOIN THE STUDY GROUP  \nMeeting ID:  215 805 2506\nPasscode: LOVE
URL:https://thecenterofpeace.org/events/a-course-in-miracles-study-group/2028-11-30/
LOCATION:VIRTUAL\, PA\, United States
CATEGORIES:A Course In Miracles,Care Circles,EVENT CALENDAR,Study Groups
ATTACH;FMTTYPE=image/png:https://thecenterofpeace.org/wp-content/uploads/2025/09/A-Course-of-Miracles-1.png
ORGANIZER;CN="Zulma Gonzalez%2C RScP":MAILTO:miracles@thecenterofpeace.org
END:VEVENT
BEGIN:VEVENT
DTSTART;TZID=America/New_York:20281207T193000
DTEND;TZID=America/New_York:20281207T203000
DTSTAMP:20260425T062917
CREATED:20250910T214931Z
LAST-MODIFIED:20250910T215306Z
UID:10003329-1859830200-1859833800@thecenterofpeace.org
SUMMARY:A Course In Miracles Study Group
DESCRIPTION:Facilitators: Zulma González\, RScP and Cynthia Banks\, RScP\n\nCLICK TO JOIN THE STUDY GROUP  \nMeeting ID:  215 805 2506\nPasscode: LOVE
URL:https://thecenterofpeace.org/events/a-course-in-miracles-study-group/2028-12-07/
LOCATION:VIRTUAL\, PA\, United States
CATEGORIES:A Course In Miracles,Care Circles,EVENT CALENDAR,Study Groups
ATTACH;FMTTYPE=image/png:https://thecenterofpeace.org/wp-content/uploads/2025/09/A-Course-of-Miracles-1.png
ORGANIZER;CN="Zulma Gonzalez%2C RScP":MAILTO:miracles@thecenterofpeace.org
END:VEVENT
END:VCALENDAR