BEGIN:VCALENDAR
VERSION:2.0
PRODID:-//The Center of Peace, Center for Spiritual Living - ECPv6.15.11//NONSGML v1.0//EN
CALSCALE:GREGORIAN
METHOD:PUBLISH
X-ORIGINAL-URL:https://thecenterofpeace.org
X-WR-CALDESC:Events for The Center of Peace, Center for Spiritual Living
REFRESH-INTERVAL;VALUE=DURATION:PT1H
X-Robots-Tag:noindex
X-PUBLISHED-TTL:PT1H
BEGIN:VTIMEZONE
TZID:America/New_York
BEGIN:DAYLIGHT
TZOFFSETFROM:-0500
TZOFFSETTO:-0400
TZNAME:EDT
DTSTART:20250309T070000
END:DAYLIGHT
BEGIN:STANDARD
TZOFFSETFROM:-0400
TZOFFSETTO:-0500
TZNAME:EST
DTSTART:20251102T060000
END:STANDARD
BEGIN:DAYLIGHT
TZOFFSETFROM:-0500
TZOFFSETTO:-0400
TZNAME:EDT
DTSTART:20260308T070000
END:DAYLIGHT
BEGIN:STANDARD
TZOFFSETFROM:-0400
TZOFFSETTO:-0500
TZNAME:EST
DTSTART:20261101T060000
END:STANDARD
BEGIN:DAYLIGHT
TZOFFSETFROM:-0500
TZOFFSETTO:-0400
TZNAME:EDT
DTSTART:20270314T070000
END:DAYLIGHT
BEGIN:STANDARD
TZOFFSETFROM:-0400
TZOFFSETTO:-0500
TZNAME:EST
DTSTART:20271107T060000
END:STANDARD
BEGIN:DAYLIGHT
TZOFFSETFROM:-0500
TZOFFSETTO:-0400
TZNAME:EDT
DTSTART:20280312T070000
END:DAYLIGHT
BEGIN:STANDARD
TZOFFSETFROM:-0400
TZOFFSETTO:-0500
TZNAME:EST
DTSTART:20281105T060000
END:STANDARD
END:VTIMEZONE
BEGIN:VEVENT
DTSTART;TZID=America/New_York:20261210T193000
DTEND;TZID=America/New_York:20261210T203000
DTSTAMP:20260424T115046
CREATED:20250910T214931Z
LAST-MODIFIED:20250910T215306Z
UID:10003225-1796931000-1796934600@thecenterofpeace.org
SUMMARY:A Course In Miracles Study Group
DESCRIPTION:Facilitators: Zulma González\, RScP and Cynthia Banks\, RScP\n\nCLICK TO JOIN THE STUDY GROUP  \nMeeting ID:  215 805 2506\nPasscode: LOVE
URL:https://thecenterofpeace.org/events/a-course-in-miracles-study-group/2026-12-10/
LOCATION:VIRTUAL\, PA\, United States
CATEGORIES:A Course In Miracles,Care Circles,EVENT CALENDAR,Study Groups
ATTACH;FMTTYPE=image/png:https://thecenterofpeace.org/wp-content/uploads/2025/09/A-Course-of-Miracles-1.png
ORGANIZER;CN="Zulma Gonzalez%2C RScP":MAILTO:miracles@thecenterofpeace.org
END:VEVENT
BEGIN:VEVENT
DTSTART;TZID=America/New_York:20261216T200000
DTEND;TZID=America/New_York:20261216T210000
DTSTAMP:20260424T115046
CREATED:20260120T000513Z
LAST-MODIFIED:20260120T000757Z
UID:10003667-1797451200-1797454800@thecenterofpeace.org
SUMMARY:Virtual Meditation with Calista
DESCRIPTION:Take this mid-week breather and join us in Calista’s Virtual Meditation every Wednesday evening. \nJoin Calista every Wednesday evening at 8pm on Microsoft Teams for a virtual meditation. Connect with your inner wisdom and bring forth that sense of clarity and stillness. Learning to dance with your thoughts versus fighting the impulses. \n\nMake a promise to yourself this week…try a 30-minute meditation and learn to observe your thinking.\nAllow yourself to unwind and enter into more clarity.\nFocus on your breath and learn to feel the rhythm of your body.\n\n  \nJoin Now \n  \nIf you already have Microsoft Teams on your computer or mobile device: Click here to join the meeting \nIf you do not have Microsoft Teams downloaded onto your computer or mobile device: Join on the web\, then enter the Meeting ID and Passcode below. \nMeeting ID: 299 382 379 670 | Passcode: McCeLN \nDownload Teams | Learn More | Meeting options
URL:https://thecenterofpeace.org/events/virtual-meditation-with-calista-2/2026-12-16/
LOCATION:VIRTUAL\, PA\, United States
CATEGORIES:EVENT CALENDAR
ATTACH;FMTTYPE=image/png:https://thecenterofpeace.org/wp-content/uploads/2024/02/Screenshot-2024-02-03-124350.png
ORGANIZER;CN="Serenity Care Circle":MAILTO:serenity@thecenterofpeace.org
END:VEVENT
BEGIN:VEVENT
DTSTART;TZID=America/New_York:20261217T193000
DTEND;TZID=America/New_York:20261217T203000
DTSTAMP:20260424T115046
CREATED:20250910T214931Z
LAST-MODIFIED:20250910T215306Z
UID:10003226-1797535800-1797539400@thecenterofpeace.org
SUMMARY:A Course In Miracles Study Group
DESCRIPTION:Facilitators: Zulma González\, RScP and Cynthia Banks\, RScP\n\nCLICK TO JOIN THE STUDY GROUP  \nMeeting ID:  215 805 2506\nPasscode: LOVE
URL:https://thecenterofpeace.org/events/a-course-in-miracles-study-group/2026-12-17/
LOCATION:VIRTUAL\, PA\, United States
CATEGORIES:A Course In Miracles,Care Circles,EVENT CALENDAR,Study Groups
ATTACH;FMTTYPE=image/png:https://thecenterofpeace.org/wp-content/uploads/2025/09/A-Course-of-Miracles-1.png
ORGANIZER;CN="Zulma Gonzalez%2C RScP":MAILTO:miracles@thecenterofpeace.org
END:VEVENT
BEGIN:VEVENT
DTSTART;TZID=America/New_York:20261223T190000
DTEND;TZID=America/New_York:20261223T203000
DTSTAMP:20260424T115046
CREATED:20250913T024612Z
LAST-MODIFIED:20250913T034012Z
UID:10003496-1798052400-1798057800@thecenterofpeace.org
SUMMARY:Spiritual Living Circle Study Group
DESCRIPTION:JOIN SLC NOW \n\n\nMeeting ID:  215 805 2506\nPasscode: LOVE
URL:https://thecenterofpeace.org/events/spiritual-living-circle/2026-12-23/
LOCATION:VIRTUAL\, PA\, United States
CATEGORIES:Care Circles,EVENT CALENDAR,Spiritual Living Circle,Study Groups
ATTACH;FMTTYPE=image/png:https://thecenterofpeace.org/wp-content/uploads/2025/09/Spiritual-Living-Circle-1920-x-1080-2.png
ORGANIZER;CN="Zulma Gonzalez%2C RScP":MAILTO:miracles@thecenterofpeace.org
END:VEVENT
BEGIN:VEVENT
DTSTART;TZID=America/New_York:20261223T200000
DTEND;TZID=America/New_York:20261223T210000
DTSTAMP:20260424T115046
CREATED:20260120T000513Z
LAST-MODIFIED:20260120T000757Z
UID:10003668-1798056000-1798059600@thecenterofpeace.org
SUMMARY:Virtual Meditation with Calista
DESCRIPTION:Take this mid-week breather and join us in Calista’s Virtual Meditation every Wednesday evening. \nJoin Calista every Wednesday evening at 8pm on Microsoft Teams for a virtual meditation. Connect with your inner wisdom and bring forth that sense of clarity and stillness. Learning to dance with your thoughts versus fighting the impulses. \n\nMake a promise to yourself this week…try a 30-minute meditation and learn to observe your thinking.\nAllow yourself to unwind and enter into more clarity.\nFocus on your breath and learn to feel the rhythm of your body.\n\n  \nJoin Now \n  \nIf you already have Microsoft Teams on your computer or mobile device: Click here to join the meeting \nIf you do not have Microsoft Teams downloaded onto your computer or mobile device: Join on the web\, then enter the Meeting ID and Passcode below. \nMeeting ID: 299 382 379 670 | Passcode: McCeLN \nDownload Teams | Learn More | Meeting options
URL:https://thecenterofpeace.org/events/virtual-meditation-with-calista-2/2026-12-23/
LOCATION:VIRTUAL\, PA\, United States
CATEGORIES:EVENT CALENDAR
ATTACH;FMTTYPE=image/png:https://thecenterofpeace.org/wp-content/uploads/2024/02/Screenshot-2024-02-03-124350.png
ORGANIZER;CN="Serenity Care Circle":MAILTO:serenity@thecenterofpeace.org
END:VEVENT
BEGIN:VEVENT
DTSTART;TZID=America/New_York:20261224T193000
DTEND;TZID=America/New_York:20261224T203000
DTSTAMP:20260424T115046
CREATED:20250910T214931Z
LAST-MODIFIED:20250910T215306Z
UID:10003227-1798140600-1798144200@thecenterofpeace.org
SUMMARY:A Course In Miracles Study Group
DESCRIPTION:Facilitators: Zulma González\, RScP and Cynthia Banks\, RScP\n\nCLICK TO JOIN THE STUDY GROUP  \nMeeting ID:  215 805 2506\nPasscode: LOVE
URL:https://thecenterofpeace.org/events/a-course-in-miracles-study-group/2026-12-24/
LOCATION:VIRTUAL\, PA\, United States
CATEGORIES:A Course In Miracles,Care Circles,EVENT CALENDAR,Study Groups
ATTACH;FMTTYPE=image/png:https://thecenterofpeace.org/wp-content/uploads/2025/09/A-Course-of-Miracles-1.png
ORGANIZER;CN="Zulma Gonzalez%2C RScP":MAILTO:miracles@thecenterofpeace.org
END:VEVENT
BEGIN:VEVENT
DTSTART;TZID=America/New_York:20261230T200000
DTEND;TZID=America/New_York:20261230T210000
DTSTAMP:20260424T115046
CREATED:20260120T000513Z
LAST-MODIFIED:20260120T000757Z
UID:10003669-1798660800-1798664400@thecenterofpeace.org
SUMMARY:Virtual Meditation with Calista
DESCRIPTION:Take this mid-week breather and join us in Calista’s Virtual Meditation every Wednesday evening. \nJoin Calista every Wednesday evening at 8pm on Microsoft Teams for a virtual meditation. Connect with your inner wisdom and bring forth that sense of clarity and stillness. Learning to dance with your thoughts versus fighting the impulses. \n\nMake a promise to yourself this week…try a 30-minute meditation and learn to observe your thinking.\nAllow yourself to unwind and enter into more clarity.\nFocus on your breath and learn to feel the rhythm of your body.\n\n  \nJoin Now \n  \nIf you already have Microsoft Teams on your computer or mobile device: Click here to join the meeting \nIf you do not have Microsoft Teams downloaded onto your computer or mobile device: Join on the web\, then enter the Meeting ID and Passcode below. \nMeeting ID: 299 382 379 670 | Passcode: McCeLN \nDownload Teams | Learn More | Meeting options
URL:https://thecenterofpeace.org/events/virtual-meditation-with-calista-2/2026-12-30/
LOCATION:VIRTUAL\, PA\, United States
CATEGORIES:EVENT CALENDAR
ATTACH;FMTTYPE=image/png:https://thecenterofpeace.org/wp-content/uploads/2024/02/Screenshot-2024-02-03-124350.png
ORGANIZER;CN="Serenity Care Circle":MAILTO:serenity@thecenterofpeace.org
END:VEVENT
BEGIN:VEVENT
DTSTART;TZID=America/New_York:20261231T193000
DTEND;TZID=America/New_York:20261231T203000
DTSTAMP:20260424T115046
CREATED:20250910T214931Z
LAST-MODIFIED:20250910T215306Z
UID:10003228-1798745400-1798749000@thecenterofpeace.org
SUMMARY:A Course In Miracles Study Group
DESCRIPTION:Facilitators: Zulma González\, RScP and Cynthia Banks\, RScP\n\nCLICK TO JOIN THE STUDY GROUP  \nMeeting ID:  215 805 2506\nPasscode: LOVE
URL:https://thecenterofpeace.org/events/a-course-in-miracles-study-group/2026-12-31/
LOCATION:VIRTUAL\, PA\, United States
CATEGORIES:A Course In Miracles,Care Circles,EVENT CALENDAR,Study Groups
ATTACH;FMTTYPE=image/png:https://thecenterofpeace.org/wp-content/uploads/2025/09/A-Course-of-Miracles-1.png
ORGANIZER;CN="Zulma Gonzalez%2C RScP":MAILTO:miracles@thecenterofpeace.org
END:VEVENT
BEGIN:VEVENT
DTSTART;TZID=America/New_York:20270107T193000
DTEND;TZID=America/New_York:20270107T203000
DTSTAMP:20260424T115046
CREATED:20250910T214931Z
LAST-MODIFIED:20250910T215306Z
UID:10003229-1799350200-1799353800@thecenterofpeace.org
SUMMARY:A Course In Miracles Study Group
DESCRIPTION:Facilitators: Zulma González\, RScP and Cynthia Banks\, RScP\n\nCLICK TO JOIN THE STUDY GROUP  \nMeeting ID:  215 805 2506\nPasscode: LOVE
URL:https://thecenterofpeace.org/events/a-course-in-miracles-study-group/2027-01-07/
LOCATION:VIRTUAL\, PA\, United States
CATEGORIES:A Course In Miracles,Care Circles,EVENT CALENDAR,Study Groups
ATTACH;FMTTYPE=image/png:https://thecenterofpeace.org/wp-content/uploads/2025/09/A-Course-of-Miracles-1.png
ORGANIZER;CN="Zulma Gonzalez%2C RScP":MAILTO:miracles@thecenterofpeace.org
END:VEVENT
BEGIN:VEVENT
DTSTART;TZID=America/New_York:20270114T193000
DTEND;TZID=America/New_York:20270114T203000
DTSTAMP:20260424T115046
CREATED:20250910T214931Z
LAST-MODIFIED:20250910T215306Z
UID:10003230-1799955000-1799958600@thecenterofpeace.org
SUMMARY:A Course In Miracles Study Group
DESCRIPTION:Facilitators: Zulma González\, RScP and Cynthia Banks\, RScP\n\nCLICK TO JOIN THE STUDY GROUP  \nMeeting ID:  215 805 2506\nPasscode: LOVE
URL:https://thecenterofpeace.org/events/a-course-in-miracles-study-group/2027-01-14/
LOCATION:VIRTUAL\, PA\, United States
CATEGORIES:A Course In Miracles,Care Circles,EVENT CALENDAR,Study Groups
ATTACH;FMTTYPE=image/png:https://thecenterofpeace.org/wp-content/uploads/2025/09/A-Course-of-Miracles-1.png
ORGANIZER;CN="Zulma Gonzalez%2C RScP":MAILTO:miracles@thecenterofpeace.org
END:VEVENT
BEGIN:VEVENT
DTSTART;TZID=America/New_York:20270121T193000
DTEND;TZID=America/New_York:20270121T203000
DTSTAMP:20260424T115046
CREATED:20250910T214931Z
LAST-MODIFIED:20250910T215306Z
UID:10003231-1800559800-1800563400@thecenterofpeace.org
SUMMARY:A Course In Miracles Study Group
DESCRIPTION:Facilitators: Zulma González\, RScP and Cynthia Banks\, RScP\n\nCLICK TO JOIN THE STUDY GROUP  \nMeeting ID:  215 805 2506\nPasscode: LOVE
URL:https://thecenterofpeace.org/events/a-course-in-miracles-study-group/2027-01-21/
LOCATION:VIRTUAL\, PA\, United States
CATEGORIES:A Course In Miracles,Care Circles,EVENT CALENDAR,Study Groups
ATTACH;FMTTYPE=image/png:https://thecenterofpeace.org/wp-content/uploads/2025/09/A-Course-of-Miracles-1.png
ORGANIZER;CN="Zulma Gonzalez%2C RScP":MAILTO:miracles@thecenterofpeace.org
END:VEVENT
BEGIN:VEVENT
DTSTART;TZID=America/New_York:20270127T190000
DTEND;TZID=America/New_York:20270127T203000
DTSTAMP:20260424T115046
CREATED:20250913T024612Z
LAST-MODIFIED:20250913T034012Z
UID:10003497-1801076400-1801081800@thecenterofpeace.org
SUMMARY:Spiritual Living Circle Study Group
DESCRIPTION:JOIN SLC NOW \n\n\nMeeting ID:  215 805 2506\nPasscode: LOVE
URL:https://thecenterofpeace.org/events/spiritual-living-circle/2027-01-27/
LOCATION:VIRTUAL\, PA\, United States
CATEGORIES:Care Circles,EVENT CALENDAR,Spiritual Living Circle,Study Groups
ATTACH;FMTTYPE=image/png:https://thecenterofpeace.org/wp-content/uploads/2025/09/Spiritual-Living-Circle-1920-x-1080-2.png
ORGANIZER;CN="Zulma Gonzalez%2C RScP":MAILTO:miracles@thecenterofpeace.org
END:VEVENT
BEGIN:VEVENT
DTSTART;TZID=America/New_York:20270128T193000
DTEND;TZID=America/New_York:20270128T203000
DTSTAMP:20260424T115046
CREATED:20250910T214931Z
LAST-MODIFIED:20250910T215306Z
UID:10003232-1801164600-1801168200@thecenterofpeace.org
SUMMARY:A Course In Miracles Study Group
DESCRIPTION:Facilitators: Zulma González\, RScP and Cynthia Banks\, RScP\n\nCLICK TO JOIN THE STUDY GROUP  \nMeeting ID:  215 805 2506\nPasscode: LOVE
URL:https://thecenterofpeace.org/events/a-course-in-miracles-study-group/2027-01-28/
LOCATION:VIRTUAL\, PA\, United States
CATEGORIES:A Course In Miracles,Care Circles,EVENT CALENDAR,Study Groups
ATTACH;FMTTYPE=image/png:https://thecenterofpeace.org/wp-content/uploads/2025/09/A-Course-of-Miracles-1.png
ORGANIZER;CN="Zulma Gonzalez%2C RScP":MAILTO:miracles@thecenterofpeace.org
END:VEVENT
BEGIN:VEVENT
DTSTART;TZID=America/New_York:20270204T193000
DTEND;TZID=America/New_York:20270204T203000
DTSTAMP:20260424T115046
CREATED:20250910T214931Z
LAST-MODIFIED:20250910T215306Z
UID:10003233-1801769400-1801773000@thecenterofpeace.org
SUMMARY:A Course In Miracles Study Group
DESCRIPTION:Facilitators: Zulma González\, RScP and Cynthia Banks\, RScP\n\nCLICK TO JOIN THE STUDY GROUP  \nMeeting ID:  215 805 2506\nPasscode: LOVE
URL:https://thecenterofpeace.org/events/a-course-in-miracles-study-group/2027-02-04/
LOCATION:VIRTUAL\, PA\, United States
CATEGORIES:A Course In Miracles,Care Circles,EVENT CALENDAR,Study Groups
ATTACH;FMTTYPE=image/png:https://thecenterofpeace.org/wp-content/uploads/2025/09/A-Course-of-Miracles-1.png
ORGANIZER;CN="Zulma Gonzalez%2C RScP":MAILTO:miracles@thecenterofpeace.org
END:VEVENT
BEGIN:VEVENT
DTSTART;TZID=America/New_York:20270211T193000
DTEND;TZID=America/New_York:20270211T203000
DTSTAMP:20260424T115046
CREATED:20250910T214931Z
LAST-MODIFIED:20250910T215306Z
UID:10003234-1802374200-1802377800@thecenterofpeace.org
SUMMARY:A Course In Miracles Study Group
DESCRIPTION:Facilitators: Zulma González\, RScP and Cynthia Banks\, RScP\n\nCLICK TO JOIN THE STUDY GROUP  \nMeeting ID:  215 805 2506\nPasscode: LOVE
URL:https://thecenterofpeace.org/events/a-course-in-miracles-study-group/2027-02-11/
LOCATION:VIRTUAL\, PA\, United States
CATEGORIES:A Course In Miracles,Care Circles,EVENT CALENDAR,Study Groups
ATTACH;FMTTYPE=image/png:https://thecenterofpeace.org/wp-content/uploads/2025/09/A-Course-of-Miracles-1.png
ORGANIZER;CN="Zulma Gonzalez%2C RScP":MAILTO:miracles@thecenterofpeace.org
END:VEVENT
BEGIN:VEVENT
DTSTART;TZID=America/New_York:20270218T193000
DTEND;TZID=America/New_York:20270218T203000
DTSTAMP:20260424T115046
CREATED:20250910T214931Z
LAST-MODIFIED:20250910T215306Z
UID:10003235-1802979000-1802982600@thecenterofpeace.org
SUMMARY:A Course In Miracles Study Group
DESCRIPTION:Facilitators: Zulma González\, RScP and Cynthia Banks\, RScP\n\nCLICK TO JOIN THE STUDY GROUP  \nMeeting ID:  215 805 2506\nPasscode: LOVE
URL:https://thecenterofpeace.org/events/a-course-in-miracles-study-group/2027-02-18/
LOCATION:VIRTUAL\, PA\, United States
CATEGORIES:A Course In Miracles,Care Circles,EVENT CALENDAR,Study Groups
ATTACH;FMTTYPE=image/png:https://thecenterofpeace.org/wp-content/uploads/2025/09/A-Course-of-Miracles-1.png
ORGANIZER;CN="Zulma Gonzalez%2C RScP":MAILTO:miracles@thecenterofpeace.org
END:VEVENT
BEGIN:VEVENT
DTSTART;TZID=America/New_York:20270224T190000
DTEND;TZID=America/New_York:20270224T203000
DTSTAMP:20260424T115046
CREATED:20250913T024612Z
LAST-MODIFIED:20250913T034012Z
UID:10003498-1803495600-1803501000@thecenterofpeace.org
SUMMARY:Spiritual Living Circle Study Group
DESCRIPTION:JOIN SLC NOW \n\n\nMeeting ID:  215 805 2506\nPasscode: LOVE
URL:https://thecenterofpeace.org/events/spiritual-living-circle/2027-02-24/
LOCATION:VIRTUAL\, PA\, United States
CATEGORIES:Care Circles,EVENT CALENDAR,Spiritual Living Circle,Study Groups
ATTACH;FMTTYPE=image/png:https://thecenterofpeace.org/wp-content/uploads/2025/09/Spiritual-Living-Circle-1920-x-1080-2.png
ORGANIZER;CN="Zulma Gonzalez%2C RScP":MAILTO:miracles@thecenterofpeace.org
END:VEVENT
BEGIN:VEVENT
DTSTART;TZID=America/New_York:20270225T193000
DTEND;TZID=America/New_York:20270225T203000
DTSTAMP:20260424T115046
CREATED:20250910T214931Z
LAST-MODIFIED:20250910T215306Z
UID:10003236-1803583800-1803587400@thecenterofpeace.org
SUMMARY:A Course In Miracles Study Group
DESCRIPTION:Facilitators: Zulma González\, RScP and Cynthia Banks\, RScP\n\nCLICK TO JOIN THE STUDY GROUP  \nMeeting ID:  215 805 2506\nPasscode: LOVE
URL:https://thecenterofpeace.org/events/a-course-in-miracles-study-group/2027-02-25/
LOCATION:VIRTUAL\, PA\, United States
CATEGORIES:A Course In Miracles,Care Circles,EVENT CALENDAR,Study Groups
ATTACH;FMTTYPE=image/png:https://thecenterofpeace.org/wp-content/uploads/2025/09/A-Course-of-Miracles-1.png
ORGANIZER;CN="Zulma Gonzalez%2C RScP":MAILTO:miracles@thecenterofpeace.org
END:VEVENT
BEGIN:VEVENT
DTSTART;TZID=America/New_York:20270304T193000
DTEND;TZID=America/New_York:20270304T203000
DTSTAMP:20260424T115046
CREATED:20250910T214931Z
LAST-MODIFIED:20250910T215306Z
UID:10003237-1804188600-1804192200@thecenterofpeace.org
SUMMARY:A Course In Miracles Study Group
DESCRIPTION:Facilitators: Zulma González\, RScP and Cynthia Banks\, RScP\n\nCLICK TO JOIN THE STUDY GROUP  \nMeeting ID:  215 805 2506\nPasscode: LOVE
URL:https://thecenterofpeace.org/events/a-course-in-miracles-study-group/2027-03-04/
LOCATION:VIRTUAL\, PA\, United States
CATEGORIES:A Course In Miracles,Care Circles,EVENT CALENDAR,Study Groups
ATTACH;FMTTYPE=image/png:https://thecenterofpeace.org/wp-content/uploads/2025/09/A-Course-of-Miracles-1.png
ORGANIZER;CN="Zulma Gonzalez%2C RScP":MAILTO:miracles@thecenterofpeace.org
END:VEVENT
BEGIN:VEVENT
DTSTART;TZID=America/New_York:20270311T193000
DTEND;TZID=America/New_York:20270311T203000
DTSTAMP:20260424T115046
CREATED:20250910T214931Z
LAST-MODIFIED:20250910T215306Z
UID:10003238-1804793400-1804797000@thecenterofpeace.org
SUMMARY:A Course In Miracles Study Group
DESCRIPTION:Facilitators: Zulma González\, RScP and Cynthia Banks\, RScP\n\nCLICK TO JOIN THE STUDY GROUP  \nMeeting ID:  215 805 2506\nPasscode: LOVE
URL:https://thecenterofpeace.org/events/a-course-in-miracles-study-group/2027-03-11/
LOCATION:VIRTUAL\, PA\, United States
CATEGORIES:A Course In Miracles,Care Circles,EVENT CALENDAR,Study Groups
ATTACH;FMTTYPE=image/png:https://thecenterofpeace.org/wp-content/uploads/2025/09/A-Course-of-Miracles-1.png
ORGANIZER;CN="Zulma Gonzalez%2C RScP":MAILTO:miracles@thecenterofpeace.org
END:VEVENT
BEGIN:VEVENT
DTSTART;TZID=America/New_York:20270318T193000
DTEND;TZID=America/New_York:20270318T203000
DTSTAMP:20260424T115046
CREATED:20250910T214931Z
LAST-MODIFIED:20250910T215306Z
UID:10003239-1805398200-1805401800@thecenterofpeace.org
SUMMARY:A Course In Miracles Study Group
DESCRIPTION:Facilitators: Zulma González\, RScP and Cynthia Banks\, RScP\n\nCLICK TO JOIN THE STUDY GROUP  \nMeeting ID:  215 805 2506\nPasscode: LOVE
URL:https://thecenterofpeace.org/events/a-course-in-miracles-study-group/2027-03-18/
LOCATION:VIRTUAL\, PA\, United States
CATEGORIES:A Course In Miracles,Care Circles,EVENT CALENDAR,Study Groups
ATTACH;FMTTYPE=image/png:https://thecenterofpeace.org/wp-content/uploads/2025/09/A-Course-of-Miracles-1.png
ORGANIZER;CN="Zulma Gonzalez%2C RScP":MAILTO:miracles@thecenterofpeace.org
END:VEVENT
BEGIN:VEVENT
DTSTART;TZID=America/New_York:20270324T190000
DTEND;TZID=America/New_York:20270324T203000
DTSTAMP:20260424T115046
CREATED:20250913T024612Z
LAST-MODIFIED:20250913T034012Z
UID:10003499-1805914800-1805920200@thecenterofpeace.org
SUMMARY:Spiritual Living Circle Study Group
DESCRIPTION:JOIN SLC NOW \n\n\nMeeting ID:  215 805 2506\nPasscode: LOVE
URL:https://thecenterofpeace.org/events/spiritual-living-circle/2027-03-24/
LOCATION:VIRTUAL\, PA\, United States
CATEGORIES:Care Circles,EVENT CALENDAR,Spiritual Living Circle,Study Groups
ATTACH;FMTTYPE=image/png:https://thecenterofpeace.org/wp-content/uploads/2025/09/Spiritual-Living-Circle-1920-x-1080-2.png
ORGANIZER;CN="Zulma Gonzalez%2C RScP":MAILTO:miracles@thecenterofpeace.org
END:VEVENT
BEGIN:VEVENT
DTSTART;TZID=America/New_York:20270325T193000
DTEND;TZID=America/New_York:20270325T203000
DTSTAMP:20260424T115046
CREATED:20250910T214931Z
LAST-MODIFIED:20250910T215306Z
UID:10003240-1806003000-1806006600@thecenterofpeace.org
SUMMARY:A Course In Miracles Study Group
DESCRIPTION:Facilitators: Zulma González\, RScP and Cynthia Banks\, RScP\n\nCLICK TO JOIN THE STUDY GROUP  \nMeeting ID:  215 805 2506\nPasscode: LOVE
URL:https://thecenterofpeace.org/events/a-course-in-miracles-study-group/2027-03-25/
LOCATION:VIRTUAL\, PA\, United States
CATEGORIES:A Course In Miracles,Care Circles,EVENT CALENDAR,Study Groups
ATTACH;FMTTYPE=image/png:https://thecenterofpeace.org/wp-content/uploads/2025/09/A-Course-of-Miracles-1.png
ORGANIZER;CN="Zulma Gonzalez%2C RScP":MAILTO:miracles@thecenterofpeace.org
END:VEVENT
BEGIN:VEVENT
DTSTART;TZID=America/New_York:20270401T193000
DTEND;TZID=America/New_York:20270401T203000
DTSTAMP:20260424T115046
CREATED:20250910T214931Z
LAST-MODIFIED:20250910T215306Z
UID:10003241-1806607800-1806611400@thecenterofpeace.org
SUMMARY:A Course In Miracles Study Group
DESCRIPTION:Facilitators: Zulma González\, RScP and Cynthia Banks\, RScP\n\nCLICK TO JOIN THE STUDY GROUP  \nMeeting ID:  215 805 2506\nPasscode: LOVE
URL:https://thecenterofpeace.org/events/a-course-in-miracles-study-group/2027-04-01/
LOCATION:VIRTUAL\, PA\, United States
CATEGORIES:A Course In Miracles,Care Circles,EVENT CALENDAR,Study Groups
ATTACH;FMTTYPE=image/png:https://thecenterofpeace.org/wp-content/uploads/2025/09/A-Course-of-Miracles-1.png
ORGANIZER;CN="Zulma Gonzalez%2C RScP":MAILTO:miracles@thecenterofpeace.org
END:VEVENT
BEGIN:VEVENT
DTSTART;TZID=America/New_York:20270408T193000
DTEND;TZID=America/New_York:20270408T203000
DTSTAMP:20260424T115046
CREATED:20250910T214931Z
LAST-MODIFIED:20250910T215306Z
UID:10003242-1807212600-1807216200@thecenterofpeace.org
SUMMARY:A Course In Miracles Study Group
DESCRIPTION:Facilitators: Zulma González\, RScP and Cynthia Banks\, RScP\n\nCLICK TO JOIN THE STUDY GROUP  \nMeeting ID:  215 805 2506\nPasscode: LOVE
URL:https://thecenterofpeace.org/events/a-course-in-miracles-study-group/2027-04-08/
LOCATION:VIRTUAL\, PA\, United States
CATEGORIES:A Course In Miracles,Care Circles,EVENT CALENDAR,Study Groups
ATTACH;FMTTYPE=image/png:https://thecenterofpeace.org/wp-content/uploads/2025/09/A-Course-of-Miracles-1.png
ORGANIZER;CN="Zulma Gonzalez%2C RScP":MAILTO:miracles@thecenterofpeace.org
END:VEVENT
BEGIN:VEVENT
DTSTART;TZID=America/New_York:20270415T193000
DTEND;TZID=America/New_York:20270415T203000
DTSTAMP:20260424T115046
CREATED:20250910T214931Z
LAST-MODIFIED:20250910T215306Z
UID:10003243-1807817400-1807821000@thecenterofpeace.org
SUMMARY:A Course In Miracles Study Group
DESCRIPTION:Facilitators: Zulma González\, RScP and Cynthia Banks\, RScP\n\nCLICK TO JOIN THE STUDY GROUP  \nMeeting ID:  215 805 2506\nPasscode: LOVE
URL:https://thecenterofpeace.org/events/a-course-in-miracles-study-group/2027-04-15/
LOCATION:VIRTUAL\, PA\, United States
CATEGORIES:A Course In Miracles,Care Circles,EVENT CALENDAR,Study Groups
ATTACH;FMTTYPE=image/png:https://thecenterofpeace.org/wp-content/uploads/2025/09/A-Course-of-Miracles-1.png
ORGANIZER;CN="Zulma Gonzalez%2C RScP":MAILTO:miracles@thecenterofpeace.org
END:VEVENT
BEGIN:VEVENT
DTSTART;TZID=America/New_York:20270422T193000
DTEND;TZID=America/New_York:20270422T203000
DTSTAMP:20260424T115046
CREATED:20250910T214931Z
LAST-MODIFIED:20250910T215306Z
UID:10003244-1808422200-1808425800@thecenterofpeace.org
SUMMARY:A Course In Miracles Study Group
DESCRIPTION:Facilitators: Zulma González\, RScP and Cynthia Banks\, RScP\n\nCLICK TO JOIN THE STUDY GROUP  \nMeeting ID:  215 805 2506\nPasscode: LOVE
URL:https://thecenterofpeace.org/events/a-course-in-miracles-study-group/2027-04-22/
LOCATION:VIRTUAL\, PA\, United States
CATEGORIES:A Course In Miracles,Care Circles,EVENT CALENDAR,Study Groups
ATTACH;FMTTYPE=image/png:https://thecenterofpeace.org/wp-content/uploads/2025/09/A-Course-of-Miracles-1.png
ORGANIZER;CN="Zulma Gonzalez%2C RScP":MAILTO:miracles@thecenterofpeace.org
END:VEVENT
BEGIN:VEVENT
DTSTART;TZID=America/New_York:20270428T190000
DTEND;TZID=America/New_York:20270428T203000
DTSTAMP:20260424T115046
CREATED:20250913T024612Z
LAST-MODIFIED:20250913T034012Z
UID:10003500-1808938800-1808944200@thecenterofpeace.org
SUMMARY:Spiritual Living Circle Study Group
DESCRIPTION:JOIN SLC NOW \n\n\nMeeting ID:  215 805 2506\nPasscode: LOVE
URL:https://thecenterofpeace.org/events/spiritual-living-circle/2027-04-28/
LOCATION:VIRTUAL\, PA\, United States
CATEGORIES:Care Circles,EVENT CALENDAR,Spiritual Living Circle,Study Groups
ATTACH;FMTTYPE=image/png:https://thecenterofpeace.org/wp-content/uploads/2025/09/Spiritual-Living-Circle-1920-x-1080-2.png
ORGANIZER;CN="Zulma Gonzalez%2C RScP":MAILTO:miracles@thecenterofpeace.org
END:VEVENT
BEGIN:VEVENT
DTSTART;TZID=America/New_York:20270429T193000
DTEND;TZID=America/New_York:20270429T203000
DTSTAMP:20260424T115046
CREATED:20250910T214931Z
LAST-MODIFIED:20250910T215306Z
UID:10003245-1809027000-1809030600@thecenterofpeace.org
SUMMARY:A Course In Miracles Study Group
DESCRIPTION:Facilitators: Zulma González\, RScP and Cynthia Banks\, RScP\n\nCLICK TO JOIN THE STUDY GROUP  \nMeeting ID:  215 805 2506\nPasscode: LOVE
URL:https://thecenterofpeace.org/events/a-course-in-miracles-study-group/2027-04-29/
LOCATION:VIRTUAL\, PA\, United States
CATEGORIES:A Course In Miracles,Care Circles,EVENT CALENDAR,Study Groups
ATTACH;FMTTYPE=image/png:https://thecenterofpeace.org/wp-content/uploads/2025/09/A-Course-of-Miracles-1.png
ORGANIZER;CN="Zulma Gonzalez%2C RScP":MAILTO:miracles@thecenterofpeace.org
END:VEVENT
BEGIN:VEVENT
DTSTART;TZID=America/New_York:20270506T193000
DTEND;TZID=America/New_York:20270506T203000
DTSTAMP:20260424T115046
CREATED:20250910T214931Z
LAST-MODIFIED:20250910T215306Z
UID:10003246-1809631800-1809635400@thecenterofpeace.org
SUMMARY:A Course In Miracles Study Group
DESCRIPTION:Facilitators: Zulma González\, RScP and Cynthia Banks\, RScP\n\nCLICK TO JOIN THE STUDY GROUP  \nMeeting ID:  215 805 2506\nPasscode: LOVE
URL:https://thecenterofpeace.org/events/a-course-in-miracles-study-group/2027-05-06/
LOCATION:VIRTUAL\, PA\, United States
CATEGORIES:A Course In Miracles,Care Circles,EVENT CALENDAR,Study Groups
ATTACH;FMTTYPE=image/png:https://thecenterofpeace.org/wp-content/uploads/2025/09/A-Course-of-Miracles-1.png
ORGANIZER;CN="Zulma Gonzalez%2C RScP":MAILTO:miracles@thecenterofpeace.org
END:VEVENT
END:VCALENDAR