BEGIN:VCALENDAR
VERSION:2.0
PRODID:-//The Center of Peace, Center for Spiritual Living - ECPv6.15.11//NONSGML v1.0//EN
CALSCALE:GREGORIAN
METHOD:PUBLISH
X-WR-CALNAME:The Center of Peace, Center for Spiritual Living
X-ORIGINAL-URL:https://thecenterofpeace.org
X-WR-CALDESC:Events for The Center of Peace, Center for Spiritual Living
REFRESH-INTERVAL;VALUE=DURATION:PT1H
X-Robots-Tag:noindex
X-PUBLISHED-TTL:PT1H
BEGIN:VTIMEZONE
TZID:America/New_York
BEGIN:DAYLIGHT
TZOFFSETFROM:-0500
TZOFFSETTO:-0400
TZNAME:EDT
DTSTART:20250309T070000
END:DAYLIGHT
BEGIN:STANDARD
TZOFFSETFROM:-0400
TZOFFSETTO:-0500
TZNAME:EST
DTSTART:20251102T060000
END:STANDARD
BEGIN:DAYLIGHT
TZOFFSETFROM:-0500
TZOFFSETTO:-0400
TZNAME:EDT
DTSTART:20260308T070000
END:DAYLIGHT
BEGIN:STANDARD
TZOFFSETFROM:-0400
TZOFFSETTO:-0500
TZNAME:EST
DTSTART:20261101T060000
END:STANDARD
BEGIN:DAYLIGHT
TZOFFSETFROM:-0500
TZOFFSETTO:-0400
TZNAME:EDT
DTSTART:20270314T070000
END:DAYLIGHT
BEGIN:STANDARD
TZOFFSETFROM:-0400
TZOFFSETTO:-0500
TZNAME:EST
DTSTART:20271107T060000
END:STANDARD
END:VTIMEZONE
BEGIN:VEVENT
DTSTART;TZID=America/New_York:20260604T193000
DTEND;TZID=America/New_York:20260604T203000
DTSTAMP:20260423T161730
CREATED:20250910T214931Z
LAST-MODIFIED:20250910T215306Z
UID:10003198-1780601400-1780605000@thecenterofpeace.org
SUMMARY:A Course In Miracles Study Group
DESCRIPTION:Facilitators: Zulma González\, RScP and Cynthia Banks\, RScP\n\nCLICK TO JOIN THE STUDY GROUP  \nMeeting ID:  215 805 2506\nPasscode: LOVE
URL:https://thecenterofpeace.org/events/a-course-in-miracles-study-group/2026-06-04/
LOCATION:VIRTUAL\, PA\, United States
CATEGORIES:A Course In Miracles,Care Circles,EVENT CALENDAR,Study Groups
ATTACH;FMTTYPE=image/png:https://thecenterofpeace.org/wp-content/uploads/2025/09/A-Course-of-Miracles-1.png
ORGANIZER;CN="Zulma Gonzalez%2C RScP":MAILTO:miracles@thecenterofpeace.org
END:VEVENT
BEGIN:VEVENT
DTSTART;TZID=America/New_York:20260611T193000
DTEND;TZID=America/New_York:20260611T203000
DTSTAMP:20260423T161730
CREATED:20250910T214931Z
LAST-MODIFIED:20250910T215306Z
UID:10003199-1781206200-1781209800@thecenterofpeace.org
SUMMARY:A Course In Miracles Study Group
DESCRIPTION:Facilitators: Zulma González\, RScP and Cynthia Banks\, RScP\n\nCLICK TO JOIN THE STUDY GROUP  \nMeeting ID:  215 805 2506\nPasscode: LOVE
URL:https://thecenterofpeace.org/events/a-course-in-miracles-study-group/2026-06-11/
LOCATION:VIRTUAL\, PA\, United States
CATEGORIES:A Course In Miracles,Care Circles,EVENT CALENDAR,Study Groups
ATTACH;FMTTYPE=image/png:https://thecenterofpeace.org/wp-content/uploads/2025/09/A-Course-of-Miracles-1.png
ORGANIZER;CN="Zulma Gonzalez%2C RScP":MAILTO:miracles@thecenterofpeace.org
END:VEVENT
BEGIN:VEVENT
DTSTART;TZID=America/New_York:20260618T193000
DTEND;TZID=America/New_York:20260618T203000
DTSTAMP:20260423T161730
CREATED:20250910T214931Z
LAST-MODIFIED:20250910T215306Z
UID:10003200-1781811000-1781814600@thecenterofpeace.org
SUMMARY:A Course In Miracles Study Group
DESCRIPTION:Facilitators: Zulma González\, RScP and Cynthia Banks\, RScP\n\nCLICK TO JOIN THE STUDY GROUP  \nMeeting ID:  215 805 2506\nPasscode: LOVE
URL:https://thecenterofpeace.org/events/a-course-in-miracles-study-group/2026-06-18/
LOCATION:VIRTUAL\, PA\, United States
CATEGORIES:A Course In Miracles,Care Circles,EVENT CALENDAR,Study Groups
ATTACH;FMTTYPE=image/png:https://thecenterofpeace.org/wp-content/uploads/2025/09/A-Course-of-Miracles-1.png
ORGANIZER;CN="Zulma Gonzalez%2C RScP":MAILTO:miracles@thecenterofpeace.org
END:VEVENT
BEGIN:VEVENT
DTSTART;TZID=America/New_York:20260624T190000
DTEND;TZID=America/New_York:20260624T203000
DTSTAMP:20260423T161730
CREATED:20250913T024612Z
LAST-MODIFIED:20250913T034012Z
UID:10003490-1782327600-1782333000@thecenterofpeace.org
SUMMARY:Spiritual Living Circle Study Group
DESCRIPTION:JOIN SLC NOW \n\n\nMeeting ID:  215 805 2506\nPasscode: LOVE
URL:https://thecenterofpeace.org/events/spiritual-living-circle/2026-06-24/
LOCATION:VIRTUAL\, PA\, United States
CATEGORIES:Care Circles,EVENT CALENDAR,Spiritual Living Circle,Study Groups
ATTACH;FMTTYPE=image/png:https://thecenterofpeace.org/wp-content/uploads/2025/09/Spiritual-Living-Circle-1920-x-1080-2.png
ORGANIZER;CN="Zulma Gonzalez%2C RScP":MAILTO:miracles@thecenterofpeace.org
END:VEVENT
BEGIN:VEVENT
DTSTART;TZID=America/New_York:20260625T193000
DTEND;TZID=America/New_York:20260625T203000
DTSTAMP:20260423T161730
CREATED:20250910T214931Z
LAST-MODIFIED:20250910T215306Z
UID:10003201-1782415800-1782419400@thecenterofpeace.org
SUMMARY:A Course In Miracles Study Group
DESCRIPTION:Facilitators: Zulma González\, RScP and Cynthia Banks\, RScP\n\nCLICK TO JOIN THE STUDY GROUP  \nMeeting ID:  215 805 2506\nPasscode: LOVE
URL:https://thecenterofpeace.org/events/a-course-in-miracles-study-group/2026-06-25/
LOCATION:VIRTUAL\, PA\, United States
CATEGORIES:A Course In Miracles,Care Circles,EVENT CALENDAR,Study Groups
ATTACH;FMTTYPE=image/png:https://thecenterofpeace.org/wp-content/uploads/2025/09/A-Course-of-Miracles-1.png
ORGANIZER;CN="Zulma Gonzalez%2C RScP":MAILTO:miracles@thecenterofpeace.org
END:VEVENT
END:VCALENDAR