BEGIN:VCALENDAR
VERSION:2.0
PRODID:-//The Center of Peace, Center for Spiritual Living - ECPv6.15.11//NONSGML v1.0//EN
CALSCALE:GREGORIAN
METHOD:PUBLISH
X-WR-CALNAME:The Center of Peace, Center for Spiritual Living
X-ORIGINAL-URL:https://thecenterofpeace.org
X-WR-CALDESC:Events for The Center of Peace, Center for Spiritual Living
REFRESH-INTERVAL;VALUE=DURATION:PT1H
X-Robots-Tag:noindex
X-PUBLISHED-TTL:PT1H
BEGIN:VTIMEZONE
TZID:America/New_York
BEGIN:DAYLIGHT
TZOFFSETFROM:-0500
TZOFFSETTO:-0400
TZNAME:EDT
DTSTART:20240310T070000
END:DAYLIGHT
BEGIN:STANDARD
TZOFFSETFROM:-0400
TZOFFSETTO:-0500
TZNAME:EST
DTSTART:20241103T060000
END:STANDARD
BEGIN:DAYLIGHT
TZOFFSETFROM:-0500
TZOFFSETTO:-0400
TZNAME:EDT
DTSTART:20250309T070000
END:DAYLIGHT
BEGIN:STANDARD
TZOFFSETFROM:-0400
TZOFFSETTO:-0500
TZNAME:EST
DTSTART:20251102T060000
END:STANDARD
BEGIN:DAYLIGHT
TZOFFSETFROM:-0500
TZOFFSETTO:-0400
TZNAME:EDT
DTSTART:20260308T070000
END:DAYLIGHT
BEGIN:STANDARD
TZOFFSETFROM:-0400
TZOFFSETTO:-0500
TZNAME:EST
DTSTART:20261101T060000
END:STANDARD
END:VTIMEZONE
BEGIN:VEVENT
DTSTART;TZID=America/New_York:20251130T110000
DTEND;TZID=America/New_York:20251130T123000
DTSTAMP:20260423T194542
CREATED:20250702T172738Z
LAST-MODIFIED:20251027T142118Z
UID:10002955-1764500400-1764505800@thecenterofpeace.org
SUMMARY:Sunday Celebration Services (November 2025)
DESCRIPTION:Sunday Celebration Services – LIVE\n\n\n\nJoin us to experience our dynamic Sunday Celebration Services (and bring your entire family!)\nas we celebrate the Divinity Within. \nWe are located at: \n5712-14 Greene Street\, Philadelphia\, PA 19144\n(near Greene & Chelten Sts.) \n\n\nThe location is wheelchair accessible and there’s plenty of space for everyone to enjoy themselves.\n\n\nThere will be lots of love\, hugs\, and available parking. Oh\, did we mention hugs??\n\n—————————-\n\nUNABLE TO ATTEND IN-PERSON?\n\nWatch us live on our Facebook page or YouTube channel:\n\n\n\n\n\n\n\n\n\n\n\n\n\n\n\n– OR –
URL:https://thecenterofpeace.org/events/sunday-celebration-services-november-2025-2/2025-11-30/
LOCATION:TCP Home – Greene Street\, 5712-14 Greene Street\, Philadelphia\, PA\, 19144\, United States
CATEGORIES:EVENT CALENDAR,Sunday Celebration Service
ATTACH;FMTTYPE=image/png:https://thecenterofpeace.org/wp-content/uploads/2025/07/November-2025-Theme-Image-1920-x-1080.png
END:VEVENT
BEGIN:VEVENT
DTSTART;TZID=America/New_York:20251203T200000
DTEND;TZID=America/New_York:20251203T210000
DTSTAMP:20260423T194542
CREATED:20250416T032854Z
LAST-MODIFIED:20250416T032854Z
UID:10002865-1764792000-1764795600@thecenterofpeace.org
SUMMARY:Virtual Meditation with Calista
DESCRIPTION:Take this mid-week breather and join us in Calista’s Virtual Meditation every Wednesday evening. \nJoin Calista every Wednesday evening at 8pm on Microsoft Teams for a virtual meditation. Connect with your inner wisdom and bring forth that sense of clarity and stillness. Learning to dance with your thoughts versus fighting the impulses. \n\nMake a promise to yourself this week…try a 30-minute meditation and learn to observe your thinking.\nAllow yourself to unwind and enter into more clarity.\nFocus on your breath and learn to feel the rhythm of your body.\n\n  \nJoin Now \n  \nIf you already have Microsoft Teams on your computer or mobile device: Click here to join the meeting \nIf you do not have Microsoft Teams downloaded onto your computer or mobile device: Join on the web\, then enter the Meeting ID and Passcode below. \nMeeting ID: 299 382 379 670 | Passcode: McCeLN \nDownload Teams | Learn More | Meeting options
URL:https://thecenterofpeace.org/events/virtual-meditation-with-calista/2025-12-03/
LOCATION:PA
CATEGORIES:EVENT CALENDAR
ATTACH;FMTTYPE=image/png:https://thecenterofpeace.org/wp-content/uploads/2024/02/Screenshot-2024-02-03-124350.png
END:VEVENT
BEGIN:VEVENT
DTSTART;TZID=America/New_York:20251204T193000
DTEND;TZID=America/New_York:20251204T203000
DTSTAMP:20260423T194542
CREATED:20250910T214931Z
LAST-MODIFIED:20250910T215306Z
UID:10003172-1764876600-1764880200@thecenterofpeace.org
SUMMARY:A Course In Miracles Study Group
DESCRIPTION:Facilitators: Zulma González\, RScP and Cynthia Banks\, RScP\n\nCLICK TO JOIN THE STUDY GROUP  \nMeeting ID:  215 805 2506\nPasscode: LOVE
URL:https://thecenterofpeace.org/events/a-course-in-miracles-study-group/2025-12-04/
LOCATION:VIRTUAL\, PA\, United States
CATEGORIES:A Course In Miracles,Care Circles,EVENT CALENDAR,Study Groups
ATTACH;FMTTYPE=image/png:https://thecenterofpeace.org/wp-content/uploads/2025/09/A-Course-of-Miracles-1.png
ORGANIZER;CN="Zulma Gonzalez%2C RScP":MAILTO:miracles@thecenterofpeace.org
END:VEVENT
BEGIN:VEVENT
DTSTART;TZID=America/New_York:20251206T150000
DTEND;TZID=America/New_York:20251206T190000
DTSTAMP:20260423T194542
CREATED:20251027T235224Z
LAST-MODIFIED:20251119T222727Z
UID:10003568-1765033200-1765047600@thecenterofpeace.org
SUMMARY:Potluck & Line Dance Party 2025
DESCRIPTION:Get ready for a soul-stirring\, foot-stomping\, flavor-packed celebration that brings the community together like never before! \nWe’re turning up the heat with a Potluck Dinner that’s more than just a meal — it’s a culinary showdown! Bring your best dish and enter the contest to earn the coveted title of “TCP Superlative” in our upcoming TCP Cookbook. That’s right — your recipe could be immortalized and celebrated by food lovers everywhere! \n🔥 Think your dish has what it takes?\nBring it! Serve it!! Win it!!!\nLet the flavors speak and the competition begin! \nPotluck Contest Categories:\n• Appetizers\n• Soups\n• Salads\n• Main Dishes\n• Side Dishes\n• Vegan\n• Vegetarian\n• Gluten-Free\n• Desserts \n  \nENTER YOUR CULINARY DELIGHT HERE! \n  \nBut wait — we’re just getting started… \n🎶 Line Dancing Extravaganza!\nWe’ve got a live instructor ready to lead you through all your favorite moves: \nBoots on the Ground\nThe Wobble\nSoul Train Line\nThe Tamia Dance\n…and so much more! \nWhether you’re a seasoned stepper or just love to groove\, this is your moment to shine. The music will be pumping\, the energy will be electric\, and the dance floor will be calling your name! \n🎉 PLUS:\nA 50/50 Raffle with a chance to win big\nA room full of joy\, laughter\, and community spirit\nSurprises that’ll keep you smiling all night long \n  \n  \nPURCHASE 50/50 RAFFLE TICKETS HERE! \n  \n💥 Don’t miss out — this is THE party of the season!\nTag your crew\, grab your dish\, and let’s make memories. \n👉 RSVP now\, share the event\, and get ready to eat\, dance\, and celebrate! \nRSVP BY NOVEMBER 30TH! \nRSVP HERE! \n\nLine Dance/Potluck FAQ \nWhat are the categories for the potluck?\nAppetizers\, Soups\, Salads\, Main Dishes\, Side Dishes\, Vegan\, Vegetarian\, Gluten-Free\, Desserts. \nDo I need to provide my ingredient list?\nYes! An ingredient list is provided for those who have food allergies\, intolerances and dietary restrictions. Please submit your ingredient list to fundraising@thecenterofpeace.org by Sunday\, December 1\, 2025. \nDo I need to provide my recipe?\nNo. We just need the ingredient list for now. You can submit your recipe for the cookbook at a later date. \nWhat is the latest date to submit my dish for the potluck?\nThe deadline is November 30\, 2025. \nHow do I earn the coveted “TCP Superlative” designation for the upcoming cookbook?\nEach dish will be voted on by the attendees of the potluck only. Each dish will stand on it’s own and be rated in the following categories: Flavor\, Appearance\, Texture\, Aroma on a scale of 0-5. 0=Poor\, 1=Below Average\, 2=Average\, 3=Good\, 4=Very Good\, and 5=Excellent for a maximum score of 20. Any dish scoring 18 and above will earn the designation as a “TCP Superlative”. \nDo I need to know all the dances?\nNo\, you do not. We will have someone leading you through the steps of each dance. And remember\, even if you have two left feet and miss every step\, its all about letting loose and having fun! \nDo you need volunteers for the event?\nYes\, we do! If you are interested\, please send an email to: Fundraising@thecenterofpeace.org \nCan I make more than one dish for the potluck? And do I need to pay a separate entry fee for each dish?\nYes\, you can make more than one dish for the potluck.  Your $20 entry fee for your first dish will cover all of your entries.  Please note each dish must be entered separately.  After your initial entry\, please use the “custom” designation on the drop-down menu and enter $0. Please email: fundraising@thecenterofpeace.org if you have any questions. 
URL:https://thecenterofpeace.org/events/potluck-line-dance-party-2025/
LOCATION:TCP Home – Greene Street\, 5712-14 Greene Street\, Philadelphia\, PA\, 19144\, United States
CATEGORIES:Care Circles,EVENT CALENDAR,Fundraising CC
ATTACH;FMTTYPE=image/png:https://thecenterofpeace.org/wp-content/uploads/2025/10/Potluck-Fundraising-Flyer-1920-x-1080-QR.png
ORGANIZER;CN="Fundraising Care Circle":MAILTO:fundraising@thecenterofpeace.org
END:VEVENT
END:VCALENDAR