BEGIN:VCALENDAR
VERSION:2.0
PRODID:-//The Center of Peace, Center for Spiritual Living - ECPv6.15.11//NONSGML v1.0//EN
CALSCALE:GREGORIAN
METHOD:PUBLISH
X-ORIGINAL-URL:https://thecenterofpeace.org
X-WR-CALDESC:Events for The Center of Peace, Center for Spiritual Living
REFRESH-INTERVAL;VALUE=DURATION:PT1H
X-Robots-Tag:noindex
X-PUBLISHED-TTL:PT1H
BEGIN:VTIMEZONE
TZID:America/New_York
BEGIN:DAYLIGHT
TZOFFSETFROM:-0500
TZOFFSETTO:-0400
TZNAME:EDT
DTSTART:20250309T070000
END:DAYLIGHT
BEGIN:STANDARD
TZOFFSETFROM:-0400
TZOFFSETTO:-0500
TZNAME:EST
DTSTART:20251102T060000
END:STANDARD
BEGIN:DAYLIGHT
TZOFFSETFROM:-0500
TZOFFSETTO:-0400
TZNAME:EDT
DTSTART:20260308T070000
END:DAYLIGHT
BEGIN:STANDARD
TZOFFSETFROM:-0400
TZOFFSETTO:-0500
TZNAME:EST
DTSTART:20261101T060000
END:STANDARD
BEGIN:DAYLIGHT
TZOFFSETFROM:-0500
TZOFFSETTO:-0400
TZNAME:EDT
DTSTART:20270314T070000
END:DAYLIGHT
BEGIN:STANDARD
TZOFFSETFROM:-0400
TZOFFSETTO:-0500
TZNAME:EST
DTSTART:20271107T060000
END:STANDARD
END:VTIMEZONE
BEGIN:VEVENT
DTSTART;TZID=America/New_York:20260125T110000
DTEND;TZID=America/New_York:20260125T123000
DTSTAMP:20260423T194548
CREATED:20260126T172637Z
LAST-MODIFIED:20260126T172711Z
UID:10003677-1769338800-1769344200@thecenterofpeace.org
SUMMARY:Sunday Celebration Services (January 2026)
DESCRIPTION:Sunday Celebration Services – LIVE\n\n\n\nJoin us to experience our dynamic Sunday Celebration Services (and bring your entire family!)\nas we celebrate the Divinity Within. \nWe are located at: \n5712-14 Greene Street\, Philadelphia\, PA 19144\n(near Greene & Chelten Sts.) \n\n\nThe location is wheelchair accessible and there’s plenty of space for everyone to enjoy themselves.\n\n\nThere will be lots of love\, hugs\, and available parking. Oh\, did we mention hugs??\n\n—————————-\n\nUNABLE TO ATTEND IN-PERSON?\n\nWatch us live on our Facebook page or YouTube channel:\n\n\n\n\n\n\n\n\n\n\n\n\n\n\n\n– OR –
URL:https://thecenterofpeace.org/events/sunday-celebration-services-january-2026/2026-01-25/
LOCATION:TCP Home – Greene Street\, 5712-14 Greene Street\, Philadelphia\, PA\, 19144\, United States
CATEGORIES:EVENT CALENDAR,Sunday Celebration Service
ATTACH;FMTTYPE=image/png:https://thecenterofpeace.org/wp-content/uploads/2025/12/4_January-2026-Theme-Image-1920-x-1080.png
ORGANIZER;CN="TCP Marketing (Ayenda Lambert)":MAILTO:marketing@thecenterofpeace.org
END:VEVENT
BEGIN:VEVENT
DTSTART;TZID=America/New_York:20260126T183000
DTEND;TZID=America/New_York:20260126T210000
DTSTAMP:20260423T194548
CREATED:20251201T030308Z
LAST-MODIFIED:20251201T034108Z
UID:10003575-1769452200-1769461200@thecenterofpeace.org
SUMMARY:WINTER 2026 - Consciousness - The Mystical Path
DESCRIPTION:The Mystical Path offers the student a journey into Oneness. This course provides an opportunity to study the perspective of a mystic to expand our awareness of the Divine Presence in life.  \nStudents will identify the common\, timeless truths of mystics\, and how these truths relate to the principles\, practices\, and teachings of the Science of Mind. They will explore their own beliefs and experiences with the intention to discover their own mystical perspective. Students will be invited into a greater understanding of the growth of consciousness and learn how the principle of Oneness has a direct impact on the life they live.  \nLastly\, they will present an end-of-course creative project to signify the embodiment of learning that took place during the course. \nThe Mystical Path includes seven (7) modules: \n\nModule One: Choosing a Mystical Path\n\nModule Two: The Consciousness of a Mystic\n\nModule Three: The Nature of Suffering\n\nModule Four: The Mystery of Life\n\nModule Five: The Wholeness of Life\n\nModule Six: Mystical Living\n\nModule Seven: One Expanding Love\n\nWhen: Mondays from 6:30-9pm\, beginning Jan 26 through March 9\, 2026 (7 wks) \nFacilitators: Helen Moore\, RScP\, Susan Saunders\, RScP \nInvestment: $240 \nRequired Textbooks:  \n\nThe Game of Life (Science of Mind Archives: Scovel Shinn\, Florence)\nThe Game of Life by Florence Scovel Shinn | Science of Mind Archives Shop\nThe Impact of Awakening (3rd Edition: Excerpts from the Teachings of Adyashanti)\, Open Gate Sangha; 3rd Edition (September 20\, 2013)\, ISBN13: 978-1937195250 or Amazon Kindle version\n\nRegistration Deadline: January 19\, 2026 \nREGISTER NOW \n  \nQuestions: Please email the Education Care Circle at education@thecenterofpeace.org or contact 215-385-0313 \nPLEASE NOTE: You must pay the registration fee prior to the class start date. If tuition is not paid in full you cannot take any additional courses
URL:https://thecenterofpeace.org/events/winter-2026-consciousness-the-mystical-path/
LOCATION:VIRTUAL\, PA\, United States
CATEGORIES:Care Circles,Education Care Circle,EVENT CALENDAR
ATTACH;FMTTYPE=image/png:https://thecenterofpeace.org/wp-content/uploads/2025/11/The-Mystical-Path-1920-x-1080.png
ORGANIZER;CN="Education Care Circle":MAILTO:education@thecenterofpeace.org
END:VEVENT
BEGIN:VEVENT
DTSTART;TZID=America/New_York:20260128T190000
DTEND;TZID=America/New_York:20260128T203000
DTSTAMP:20260423T194548
CREATED:20250913T024612Z
LAST-MODIFIED:20250913T034012Z
UID:10003485-1769626800-1769632200@thecenterofpeace.org
SUMMARY:Spiritual Living Circle Study Group
DESCRIPTION:JOIN SLC NOW \n\n\nMeeting ID:  215 805 2506\nPasscode: LOVE
URL:https://thecenterofpeace.org/events/spiritual-living-circle/2026-01-28/
LOCATION:VIRTUAL\, PA\, United States
CATEGORIES:Care Circles,EVENT CALENDAR,Spiritual Living Circle,Study Groups
ATTACH;FMTTYPE=image/png:https://thecenterofpeace.org/wp-content/uploads/2025/09/Spiritual-Living-Circle-1920-x-1080-2.png
ORGANIZER;CN="Zulma Gonzalez%2C RScP":MAILTO:miracles@thecenterofpeace.org
END:VEVENT
BEGIN:VEVENT
DTSTART;TZID=America/New_York:20260128T200000
DTEND;TZID=America/New_York:20260128T210000
DTSTAMP:20260423T194548
CREATED:20260120T000513Z
LAST-MODIFIED:20260120T000757Z
UID:10003621-1769630400-1769634000@thecenterofpeace.org
SUMMARY:Virtual Meditation with Calista
DESCRIPTION:Take this mid-week breather and join us in Calista’s Virtual Meditation every Wednesday evening. \nJoin Calista every Wednesday evening at 8pm on Microsoft Teams for a virtual meditation. Connect with your inner wisdom and bring forth that sense of clarity and stillness. Learning to dance with your thoughts versus fighting the impulses. \n\nMake a promise to yourself this week…try a 30-minute meditation and learn to observe your thinking.\nAllow yourself to unwind and enter into more clarity.\nFocus on your breath and learn to feel the rhythm of your body.\n\n  \nJoin Now \n  \nIf you already have Microsoft Teams on your computer or mobile device: Click here to join the meeting \nIf you do not have Microsoft Teams downloaded onto your computer or mobile device: Join on the web\, then enter the Meeting ID and Passcode below. \nMeeting ID: 299 382 379 670 | Passcode: McCeLN \nDownload Teams | Learn More | Meeting options
URL:https://thecenterofpeace.org/events/virtual-meditation-with-calista-2/2026-01-28/
LOCATION:VIRTUAL\, PA\, United States
CATEGORIES:EVENT CALENDAR
ATTACH;FMTTYPE=image/png:https://thecenterofpeace.org/wp-content/uploads/2024/02/Screenshot-2024-02-03-124350.png
ORGANIZER;CN="Serenity Care Circle":MAILTO:serenity@thecenterofpeace.org
END:VEVENT
BEGIN:VEVENT
DTSTART;TZID=America/New_York:20260129T193000
DTEND;TZID=America/New_York:20260129T203000
DTSTAMP:20260423T194548
CREATED:20250910T214931Z
LAST-MODIFIED:20250910T215306Z
UID:10003180-1769715000-1769718600@thecenterofpeace.org
SUMMARY:A Course In Miracles Study Group
DESCRIPTION:Facilitators: Zulma González\, RScP and Cynthia Banks\, RScP\n\nCLICK TO JOIN THE STUDY GROUP  \nMeeting ID:  215 805 2506\nPasscode: LOVE
URL:https://thecenterofpeace.org/events/a-course-in-miracles-study-group/2026-01-29/
LOCATION:VIRTUAL\, PA\, United States
CATEGORIES:A Course In Miracles,Care Circles,EVENT CALENDAR,Study Groups
ATTACH;FMTTYPE=image/png:https://thecenterofpeace.org/wp-content/uploads/2025/09/A-Course-of-Miracles-1.png
ORGANIZER;CN="Zulma Gonzalez%2C RScP":MAILTO:miracles@thecenterofpeace.org
END:VEVENT
END:VCALENDAR