BEGIN:VCALENDAR
VERSION:2.0
PRODID:-//The Center of Peace, Center for Spiritual Living - ECPv6.15.11//NONSGML v1.0//EN
CALSCALE:GREGORIAN
METHOD:PUBLISH
X-WR-CALNAME:The Center of Peace, Center for Spiritual Living
X-ORIGINAL-URL:https://thecenterofpeace.org
X-WR-CALDESC:Events for The Center of Peace, Center for Spiritual Living
REFRESH-INTERVAL;VALUE=DURATION:PT1H
X-Robots-Tag:noindex
X-PUBLISHED-TTL:PT1H
BEGIN:VTIMEZONE
TZID:America/New_York
BEGIN:DAYLIGHT
TZOFFSETFROM:-0500
TZOFFSETTO:-0400
TZNAME:EDT
DTSTART:20250309T070000
END:DAYLIGHT
BEGIN:STANDARD
TZOFFSETFROM:-0400
TZOFFSETTO:-0500
TZNAME:EST
DTSTART:20251102T060000
END:STANDARD
BEGIN:DAYLIGHT
TZOFFSETFROM:-0500
TZOFFSETTO:-0400
TZNAME:EDT
DTSTART:20260308T070000
END:DAYLIGHT
BEGIN:STANDARD
TZOFFSETFROM:-0400
TZOFFSETTO:-0500
TZNAME:EST
DTSTART:20261101T060000
END:STANDARD
BEGIN:DAYLIGHT
TZOFFSETFROM:-0500
TZOFFSETTO:-0400
TZNAME:EDT
DTSTART:20270314T070000
END:DAYLIGHT
BEGIN:STANDARD
TZOFFSETFROM:-0400
TZOFFSETTO:-0500
TZNAME:EST
DTSTART:20271107T060000
END:STANDARD
END:VTIMEZONE
BEGIN:VEVENT
DTSTART;TZID=America/New_York:20260419T100000
DTEND;TZID=America/New_York:20260419T130000
DTSTAMP:20260423T145958
CREATED:20260324T215202Z
LAST-MODIFIED:20260325T124329Z
UID:10003724-1776592800-1776603600@thecenterofpeace.org
SUMMARY:Spring and Summer Clothing Drive 2026
DESCRIPTION:During the month of April\, The Social Justice Care Circle will be collecting Spring and Summer clothing and shoes for men and women at The Behavioral Wellness Center at Girard.   \nWe are asking you to donate new or slightly worn and clean clothing/shoes for men and women to wear during the approaching spring and summer seasons. As you review and thin out your wardrobe\, please remember our brothers and sisters at The Behavioral Wellness Center\, who are deeply grateful for our past donations.  \n\nClothing and shoes for men and women should be new or slightly worn and clean.\n\n\nDonations should be in a large plastic bag or in a large shopping bag. \n\n\nPlease bring your donations to The Center of Peace on Sundays\, before 11am or after 1pm. \n\n\nDonations will be received on the following Sundays:  April 5\, 12\, 19\, and 26. \n\n\nAll donations will be removed after service every Sunday.\n\nIf you have questions regarding this event\, contact Donna A Brown – socialjustice@thecenterofpeace.org / 267-476-4751.  \nThank you for your continued support.  
URL:https://thecenterofpeace.org/events/spring-and-summer-clothing-drive-2026/2026-04-19/
LOCATION:TCP Home – Greene Street\, 5712-14 Greene Street\, Philadelphia\, PA\, 19144\, United States
CATEGORIES:Care Circles,EVENT CALENDAR,Social Justice
ATTACH;FMTTYPE=image/png:https://thecenterofpeace.org/wp-content/uploads/2026/03/SpringSummer-Clothing-Drive-2026-1920-x-1080-1.png
ORGANIZER;CN="Social Justice Care Circle":MAILTO:socialjustice@thecenterofpeace.org
END:VEVENT
BEGIN:VEVENT
DTSTART;TZID=America/New_York:20260419T110000
DTEND;TZID=America/New_York:20260419T123000
DTSTAMP:20260423T145958
CREATED:20260321T125429Z
LAST-MODIFIED:20260325T002303Z
UID:10003716-1776596400-1776601800@thecenterofpeace.org
SUMMARY:Sunday Celebration Services (April 2026)
DESCRIPTION:Sunday Celebration Services – LIVE\n\n\n\nJoin us to experience our dynamic Sunday Celebration Services (and bring your entire family!)\nas we celebrate the Divinity Within. \nWe are located at: \n5712-14 Greene Street\, Philadelphia\, PA 19144\n(near Greene & Chelten Sts.) \n\n\nThe location is wheelchair accessible and there’s plenty of space for everyone to enjoy themselves.\n\n\nThere will be lots of love\, hugs\, and available parking. Oh\, did we mention hugs??\n\n—————————-\n\nUNABLE TO ATTEND IN-PERSON?\n\nWatch us live on our Facebook page or YouTube channel:\n\n\n\n\n\n\n\n\n\n\n\n\n\n\n\n– OR –
URL:https://thecenterofpeace.org/events/sunday-celebration-services-april-2026/2026-04-19/
LOCATION:TCP Home – Greene Street\, 5712-14 Greene Street\, Philadelphia\, PA\, 19144\, United States
CATEGORIES:EVENT CALENDAR,Sunday Celebration Service
ATTACH;FMTTYPE=image/png:https://thecenterofpeace.org/wp-content/uploads/2026/03/2_April-2026-Theme-Image-1920-x-1080.png
ORGANIZER;CN="TCP Marketing (Ayenda Lambert)":MAILTO:marketing@thecenterofpeace.org
END:VEVENT
BEGIN:VEVENT
DTSTART;TZID=America/New_York:20260422T190000
DTEND;TZID=America/New_York:20260422T203000
DTSTAMP:20260423T145958
CREATED:20250913T024612Z
LAST-MODIFIED:20250913T034012Z
UID:10003488-1776884400-1776889800@thecenterofpeace.org
SUMMARY:Spiritual Living Circle Study Group
DESCRIPTION:JOIN SLC NOW \n\n\nMeeting ID:  215 805 2506\nPasscode: LOVE
URL:https://thecenterofpeace.org/events/spiritual-living-circle/2026-04-22/
LOCATION:VIRTUAL\, PA\, United States
CATEGORIES:Care Circles,EVENT CALENDAR,Spiritual Living Circle,Study Groups
ATTACH;FMTTYPE=image/png:https://thecenterofpeace.org/wp-content/uploads/2025/09/Spiritual-Living-Circle-1920-x-1080-2.png
ORGANIZER;CN="Zulma Gonzalez%2C RScP":MAILTO:miracles@thecenterofpeace.org
END:VEVENT
BEGIN:VEVENT
DTSTART;TZID=America/New_York:20260422T200000
DTEND;TZID=America/New_York:20260422T210000
DTSTAMP:20260423T145958
CREATED:20260120T000513Z
LAST-MODIFIED:20260120T000757Z
UID:10003633-1776888000-1776891600@thecenterofpeace.org
SUMMARY:Virtual Meditation with Calista
DESCRIPTION:Take this mid-week breather and join us in Calista’s Virtual Meditation every Wednesday evening. \nJoin Calista every Wednesday evening at 8pm on Microsoft Teams for a virtual meditation. Connect with your inner wisdom and bring forth that sense of clarity and stillness. Learning to dance with your thoughts versus fighting the impulses. \n\nMake a promise to yourself this week…try a 30-minute meditation and learn to observe your thinking.\nAllow yourself to unwind and enter into more clarity.\nFocus on your breath and learn to feel the rhythm of your body.\n\n  \nJoin Now \n  \nIf you already have Microsoft Teams on your computer or mobile device: Click here to join the meeting \nIf you do not have Microsoft Teams downloaded onto your computer or mobile device: Join on the web\, then enter the Meeting ID and Passcode below. \nMeeting ID: 299 382 379 670 | Passcode: McCeLN \nDownload Teams | Learn More | Meeting options
URL:https://thecenterofpeace.org/events/virtual-meditation-with-calista-2/2026-04-22/
LOCATION:VIRTUAL\, PA\, United States
CATEGORIES:EVENT CALENDAR
ATTACH;FMTTYPE=image/png:https://thecenterofpeace.org/wp-content/uploads/2024/02/Screenshot-2024-02-03-124350.png
ORGANIZER;CN="Serenity Care Circle":MAILTO:serenity@thecenterofpeace.org
END:VEVENT
BEGIN:VEVENT
DTSTART;TZID=America/New_York:20260423T193000
DTEND;TZID=America/New_York:20260423T203000
DTSTAMP:20260423T145958
CREATED:20250910T214931Z
LAST-MODIFIED:20250910T215306Z
UID:10003192-1776972600-1776976200@thecenterofpeace.org
SUMMARY:A Course In Miracles Study Group
DESCRIPTION:Facilitators: Zulma González\, RScP and Cynthia Banks\, RScP\n\nCLICK TO JOIN THE STUDY GROUP  \nMeeting ID:  215 805 2506\nPasscode: LOVE
URL:https://thecenterofpeace.org/events/a-course-in-miracles-study-group/2026-04-23/
LOCATION:VIRTUAL\, PA\, United States
CATEGORIES:A Course In Miracles,Care Circles,EVENT CALENDAR,Study Groups
ATTACH;FMTTYPE=image/png:https://thecenterofpeace.org/wp-content/uploads/2025/09/A-Course-of-Miracles-1.png
ORGANIZER;CN="Zulma Gonzalez%2C RScP":MAILTO:miracles@thecenterofpeace.org
END:VEVENT
END:VCALENDAR