BEGIN:VCALENDAR
VERSION:2.0
PRODID:-//The Center of Peace, Center for Spiritual Living - ECPv6.15.11//NONSGML v1.0//EN
CALSCALE:GREGORIAN
METHOD:PUBLISH
X-WR-CALNAME:The Center of Peace, Center for Spiritual Living
X-ORIGINAL-URL:https://thecenterofpeace.org
X-WR-CALDESC:Events for The Center of Peace, Center for Spiritual Living
REFRESH-INTERVAL;VALUE=DURATION:PT1H
X-Robots-Tag:noindex
X-PUBLISHED-TTL:PT1H
BEGIN:VTIMEZONE
TZID:America/New_York
BEGIN:DAYLIGHT
TZOFFSETFROM:-0500
TZOFFSETTO:-0400
TZNAME:EDT
DTSTART:20250309T070000
END:DAYLIGHT
BEGIN:STANDARD
TZOFFSETFROM:-0400
TZOFFSETTO:-0500
TZNAME:EST
DTSTART:20251102T060000
END:STANDARD
BEGIN:DAYLIGHT
TZOFFSETFROM:-0500
TZOFFSETTO:-0400
TZNAME:EDT
DTSTART:20260308T070000
END:DAYLIGHT
BEGIN:STANDARD
TZOFFSETFROM:-0400
TZOFFSETTO:-0500
TZNAME:EST
DTSTART:20261101T060000
END:STANDARD
BEGIN:DAYLIGHT
TZOFFSETFROM:-0500
TZOFFSETTO:-0400
TZNAME:EDT
DTSTART:20270314T070000
END:DAYLIGHT
BEGIN:STANDARD
TZOFFSETFROM:-0400
TZOFFSETTO:-0500
TZNAME:EST
DTSTART:20271107T060000
END:STANDARD
END:VTIMEZONE
BEGIN:VEVENT
DTSTART;TZID=America/New_York:20260426T123000
DTEND;TZID=America/New_York:20260426T133000
DTSTAMP:20260423T132419
CREATED:20260322T025939Z
LAST-MODIFIED:20260322T031036Z
UID:10003721-1777206600-1777210200@thecenterofpeace.org
SUMMARY:Voter Registration Campaign (April 2026)
DESCRIPTION:At The Center of Peace\, we believe every voice carries power. Voting is one way we express our values\, show up for our community\, and participate in shaping the future we wish to see. The upcoming Pennsylvania (PA) General Primary is Tuesday\, May 19. \nIf you need to register to vote or update your information\, we invite you to stop by after service and take this simple but meaningful step. When we vote\, our voices are heard\, and we help create a world that reflects compassion\, justice\, and possibility for all. \nStop by any Sunday in April: 5th\, 12\, 19\, & 26 \nWatching online? Register at: www.vote.pa.gov/register ** \nOut of state: Visit your state’s voter registration site. \n** Must be registered at least fifteen (15) days before election day. \nQuestions? Contact Tonya Skief at tskief.tcop@gmail.com or 267-625-6939
URL:https://thecenterofpeace.org/events/voter-registration-campaign-april-2026/2026-04-26/
LOCATION:TCP Home – Greene Street\, 5712-14 Greene Street\, Philadelphia\, PA\, 19144\, United States
CATEGORIES:Care Circles,Social Justice
ATTACH;FMTTYPE=image/png:https://thecenterofpeace.org/wp-content/uploads/2026/03/Voter-Registration-Campaign-2026.png
ORGANIZER;CN="Social Justice Care Circle":MAILTO:socialjustice@thecenterofpeace.org
END:VEVENT
END:VCALENDAR