BEGIN:VCALENDAR
VERSION:2.0
PRODID:-//The Center of Peace, Center for Spiritual Living - ECPv6.15.11//NONSGML v1.0//EN
CALSCALE:GREGORIAN
METHOD:PUBLISH
X-ORIGINAL-URL:https://thecenterofpeace.org
X-WR-CALDESC:Events for The Center of Peace, Center for Spiritual Living
REFRESH-INTERVAL;VALUE=DURATION:PT1H
X-Robots-Tag:noindex
X-PUBLISHED-TTL:PT1H
BEGIN:VTIMEZONE
TZID:America/New_York
BEGIN:DAYLIGHT
TZOFFSETFROM:-0500
TZOFFSETTO:-0400
TZNAME:EDT
DTSTART:20250309T070000
END:DAYLIGHT
BEGIN:STANDARD
TZOFFSETFROM:-0400
TZOFFSETTO:-0500
TZNAME:EST
DTSTART:20251102T060000
END:STANDARD
BEGIN:DAYLIGHT
TZOFFSETFROM:-0500
TZOFFSETTO:-0400
TZNAME:EDT
DTSTART:20260308T070000
END:DAYLIGHT
BEGIN:STANDARD
TZOFFSETFROM:-0400
TZOFFSETTO:-0500
TZNAME:EST
DTSTART:20261101T060000
END:STANDARD
BEGIN:DAYLIGHT
TZOFFSETFROM:-0500
TZOFFSETTO:-0400
TZNAME:EDT
DTSTART:20270314T070000
END:DAYLIGHT
BEGIN:STANDARD
TZOFFSETFROM:-0400
TZOFFSETTO:-0500
TZNAME:EST
DTSTART:20271107T060000
END:STANDARD
END:VTIMEZONE
BEGIN:VEVENT
DTSTART;TZID=America/New_York:20260222T103000
DTEND;TZID=America/New_York:20260222T130000
DTSTAMP:20260423T180146
CREATED:20260113T212425Z
LAST-MODIFIED:20260113T212707Z
UID:10003579-1771756200-1771765200@thecenterofpeace.org
SUMMARY:Membership Ceremony (Winter 2026)
DESCRIPTION:The New Member Ceremony is held during the next Sunday service\, February 22\, 2026\, to welcome new members and honor the gifts they bring to The Center of Peace. NOTE: New members should arrive at the TCP by 10:30am on the day of the ceremony. \nFor more information\, please contact Patricia Graddy at 919-741-7545 or Deborah Ford at or 267-240-0549 or email them at  membership@thecenterofpeace.org.
URL:https://thecenterofpeace.org/events/membership-ceremony-winter-2026/
LOCATION:TCP Home – Greene Street\, 5712-14 Greene Street\, Philadelphia\, PA\, 19144\, United States
CATEGORIES:Care Circles,EVENT CALENDAR,Membership
ATTACH;FMTTYPE=image/png:https://thecenterofpeace.org/wp-content/uploads/2026/01/ONLINE.png
ORGANIZER;CN="Membership Care Circle":MAILTO:membership@thecenterofpeace.org
END:VEVENT
BEGIN:VEVENT
DTSTART;TZID=America/New_York:20260222T110000
DTEND;TZID=America/New_York:20260222T123000
DTSTAMP:20260423T180146
CREATED:20260126T172911Z
LAST-MODIFIED:20260126T172911Z
UID:10003685-1771758000-1771763400@thecenterofpeace.org
SUMMARY:Sunday Celebration Services (February 2026)
DESCRIPTION:Sunday Celebration Services – LIVE\n\n\n\nJoin us to experience our dynamic Sunday Celebration Services (and bring your entire family!)\nas we celebrate the Divinity Within. \nWe are located at: \n5712-14 Greene Street\, Philadelphia\, PA 19144\n(near Greene & Chelten Sts.) \n\n\nThe location is wheelchair accessible and there’s plenty of space for everyone to enjoy themselves.\n\n\nThere will be lots of love\, hugs\, and available parking. Oh\, did we mention hugs??\n\n—————————-\n\nUNABLE TO ATTEND IN-PERSON?\n\nWatch us live on our Facebook page or YouTube channel:\n\n\n\n\n\n\n\n\n\n\n\n\n\n\n\n– OR –
URL:https://thecenterofpeace.org/events/sunday-celebration-services-february-2026/2026-02-22/
LOCATION:TCP Home – Greene Street\, 5712-14 Greene Street\, Philadelphia\, PA\, 19144\, United States
CATEGORIES:EVENT CALENDAR,Sunday Celebration Service
ATTACH;FMTTYPE=image/png:https://thecenterofpeace.org/wp-content/uploads/2026/01/2_February-2026-Theme-Image-1920-x-1080.png
ORGANIZER;CN="TCP Marketing (Ayenda Lambert)":MAILTO:marketing@thecenterofpeace.org
END:VEVENT
BEGIN:VEVENT
DTSTART;TZID=America/New_York:20260222T123000
DTEND;TZID=America/New_York:20260222T133000
DTSTAMP:20260423T180146
CREATED:20260225T163000Z
LAST-MODIFIED:20260226T003331Z
UID:10003704-1771763400-1771767000@thecenterofpeace.org
SUMMARY:Winter Coat Drive 2026
DESCRIPTION:The Social Justice Care Circle is now collecting warm outerwear for male and female inmates to wear when released from the Montgomery County Correctional Facility in Eagleville\, PA. If they entered the prison wearing a T-shirt and shorts\, that is how they will be dressed when they are released. What they wear in\, they wear out upon release. \nPlease join us in our effort to provide warm outerwear for them when they are released. \nMale and female new\, clean\, and slightly worn winter coats\, jackets\, and sweaters. \nPlease place your item in a large plastic bag or shopping bag. \nBring it to The Center of Peace (TCP) on one of the following Sundays only: \n\nSunday\, February 15\nSunday\, February 22\nSunday\, March 1\n\nDonations will be delivered to the Montgomery County Correctional Facility in Eagleville\, PA by the Social Justice Care Circle. If you have any questions regarding this winter coat drive\, contact:\nSousan Robinson — Email: krisou000@gmail.com Ph#: 267-228-7934 \nThank you for your support\, participation\, and prayers.
URL:https://thecenterofpeace.org/events/winter-coat-drive-2026/2026-02-22/
LOCATION:TCP Home – Greene Street\, 5712-14 Greene Street\, Philadelphia\, PA\, 19144\, United States
CATEGORIES:Care Circles,EVENT CALENDAR,Social Justice
ATTACH;FMTTYPE=image/png:https://thecenterofpeace.org/wp-content/uploads/2026/02/Winter-Coat-Drive-2026-1920-x-1080-1.png
ORGANIZER;CN="Social Justice Care Circle":MAILTO:socialjustice@thecenterofpeace.org
END:VEVENT
BEGIN:VEVENT
DTSTART;VALUE=DATE:20260223
DTEND;VALUE=DATE:20260404
DTSTAMP:20260423T180146
CREATED:20260211T184109Z
LAST-MODIFIED:20260212T002034Z
UID:10003692-1771804800-1775260799@thecenterofpeace.org
SUMMARY:40-Day Experience - Spring 2026
DESCRIPTION:Whether this is your very first time or you’ve journeyed with us before\, you are invited to step into a sacred rhythm of daily spiritual practice. For 40 days\, we come together—each in our own space\, yet united in intention—to awaken to the Peace that already lives within us. \nThrough prayer\, quiet contemplation\, meditation\, reflective journaling\, and sharing\, we create space for clarity\, calm\, and inner expansion. This simple\, consistent practice opens us to new possibilities\, deeper awareness\, and a lived experience of Peace Now. \nThe Center of Peace is within\, and the door to Peace is always open. We are delighted to walk this path with you. \n——————————— \nWhen/Where: Daily on Zoom at 7:00 am -OR- 6:00 pm\, beginning February 23 through April 3 (6 weeks) \nFacilitator(s): Rev. Twana Malone and Helen Moore\, RScP\, Tricia Graddy RScP\, Zulma Gonzalez RScP\, Patricia Watson\, RScP\, Emerita. \nInvestment: $40. This can be paid in $1 daily\, $10 per every 10 days\, or $40 for the entire program. An initial investment of $1.00 is required to register. NOTE:  When making your payment\, please specify that the money is for the “40-Day Meditation\, Know Peace\, Know Justice”\n \nRequired Reading: None. \nPrerequisite: None. \nREGISTER BY: February 22\, 2026 \nYOUR PATH BEGINS HERE!
URL:https://thecenterofpeace.org/events/40-day-experience-spring-2026/
LOCATION:VIRTUAL\, PA\, United States
CATEGORIES:EVENT CALENDAR
ATTACH;FMTTYPE=image/png:https://thecenterofpeace.org/wp-content/uploads/2026/02/Spring-2026-40-Day-for-Peace.png
END:VEVENT
BEGIN:VEVENT
DTSTART;TZID=America/New_York:20260225T190000
DTEND;TZID=America/New_York:20260225T203000
DTSTAMP:20260423T180146
CREATED:20250913T024612Z
LAST-MODIFIED:20250913T034012Z
UID:10003486-1772046000-1772051400@thecenterofpeace.org
SUMMARY:Spiritual Living Circle Study Group
DESCRIPTION:JOIN SLC NOW \n\n\nMeeting ID:  215 805 2506\nPasscode: LOVE
URL:https://thecenterofpeace.org/events/spiritual-living-circle/2026-02-25/
LOCATION:VIRTUAL\, PA\, United States
CATEGORIES:Care Circles,EVENT CALENDAR,Spiritual Living Circle,Study Groups
ATTACH;FMTTYPE=image/png:https://thecenterofpeace.org/wp-content/uploads/2025/09/Spiritual-Living-Circle-1920-x-1080-2.png
ORGANIZER;CN="Zulma Gonzalez%2C RScP":MAILTO:miracles@thecenterofpeace.org
END:VEVENT
BEGIN:VEVENT
DTSTART;TZID=America/New_York:20260225T200000
DTEND;TZID=America/New_York:20260225T210000
DTSTAMP:20260423T180147
CREATED:20260120T000513Z
LAST-MODIFIED:20260120T000757Z
UID:10003625-1772049600-1772053200@thecenterofpeace.org
SUMMARY:Virtual Meditation with Calista
DESCRIPTION:Take this mid-week breather and join us in Calista’s Virtual Meditation every Wednesday evening. \nJoin Calista every Wednesday evening at 8pm on Microsoft Teams for a virtual meditation. Connect with your inner wisdom and bring forth that sense of clarity and stillness. Learning to dance with your thoughts versus fighting the impulses. \n\nMake a promise to yourself this week…try a 30-minute meditation and learn to observe your thinking.\nAllow yourself to unwind and enter into more clarity.\nFocus on your breath and learn to feel the rhythm of your body.\n\n  \nJoin Now \n  \nIf you already have Microsoft Teams on your computer or mobile device: Click here to join the meeting \nIf you do not have Microsoft Teams downloaded onto your computer or mobile device: Join on the web\, then enter the Meeting ID and Passcode below. \nMeeting ID: 299 382 379 670 | Passcode: McCeLN \nDownload Teams | Learn More | Meeting options
URL:https://thecenterofpeace.org/events/virtual-meditation-with-calista-2/2026-02-25/
LOCATION:VIRTUAL\, PA\, United States
CATEGORIES:EVENT CALENDAR
ATTACH;FMTTYPE=image/png:https://thecenterofpeace.org/wp-content/uploads/2024/02/Screenshot-2024-02-03-124350.png
ORGANIZER;CN="Serenity Care Circle":MAILTO:serenity@thecenterofpeace.org
END:VEVENT
BEGIN:VEVENT
DTSTART;TZID=America/New_York:20260226T193000
DTEND;TZID=America/New_York:20260226T203000
DTSTAMP:20260423T180147
CREATED:20250910T214931Z
LAST-MODIFIED:20250910T215306Z
UID:10003184-1772134200-1772137800@thecenterofpeace.org
SUMMARY:A Course In Miracles Study Group
DESCRIPTION:Facilitators: Zulma González\, RScP and Cynthia Banks\, RScP\n\nCLICK TO JOIN THE STUDY GROUP  \nMeeting ID:  215 805 2506\nPasscode: LOVE
URL:https://thecenterofpeace.org/events/a-course-in-miracles-study-group/2026-02-26/
LOCATION:VIRTUAL\, PA\, United States
CATEGORIES:A Course In Miracles,Care Circles,EVENT CALENDAR,Study Groups
ATTACH;FMTTYPE=image/png:https://thecenterofpeace.org/wp-content/uploads/2025/09/A-Course-of-Miracles-1.png
ORGANIZER;CN="Zulma Gonzalez%2C RScP":MAILTO:miracles@thecenterofpeace.org
END:VEVENT
END:VCALENDAR