BEGIN:VCALENDAR
VERSION:2.0
PRODID:-//The Center of Peace, Center for Spiritual Living - ECPv6.15.11//NONSGML v1.0//EN
CALSCALE:GREGORIAN
METHOD:PUBLISH
X-ORIGINAL-URL:https://thecenterofpeace.org
X-WR-CALDESC:Events for The Center of Peace, Center for Spiritual Living
REFRESH-INTERVAL;VALUE=DURATION:PT1H
X-Robots-Tag:noindex
X-PUBLISHED-TTL:PT1H
BEGIN:VTIMEZONE
TZID:America/New_York
BEGIN:DAYLIGHT
TZOFFSETFROM:-0500
TZOFFSETTO:-0400
TZNAME:EDT
DTSTART:20240310T070000
END:DAYLIGHT
BEGIN:STANDARD
TZOFFSETFROM:-0400
TZOFFSETTO:-0500
TZNAME:EST
DTSTART:20241103T060000
END:STANDARD
BEGIN:DAYLIGHT
TZOFFSETFROM:-0500
TZOFFSETTO:-0400
TZNAME:EDT
DTSTART:20250309T070000
END:DAYLIGHT
BEGIN:STANDARD
TZOFFSETFROM:-0400
TZOFFSETTO:-0500
TZNAME:EST
DTSTART:20251102T060000
END:STANDARD
BEGIN:DAYLIGHT
TZOFFSETFROM:-0500
TZOFFSETTO:-0400
TZNAME:EDT
DTSTART:20260308T070000
END:DAYLIGHT
BEGIN:STANDARD
TZOFFSETFROM:-0400
TZOFFSETTO:-0500
TZNAME:EST
DTSTART:20261101T060000
END:STANDARD
BEGIN:DAYLIGHT
TZOFFSETFROM:-0500
TZOFFSETTO:-0400
TZNAME:EDT
DTSTART:20270314T070000
END:DAYLIGHT
BEGIN:STANDARD
TZOFFSETFROM:-0400
TZOFFSETTO:-0500
TZNAME:EST
DTSTART:20271107T060000
END:STANDARD
END:VTIMEZONE
BEGIN:VEVENT
DTSTART;TZID=America/New_York:20260419T123000
DTEND;TZID=America/New_York:20260419T133000
DTSTAMP:20260423T163246
CREATED:20260322T025939Z
LAST-MODIFIED:20260322T031036Z
UID:10003720-1776601800-1776605400@thecenterofpeace.org
SUMMARY:Voter Registration Campaign (April 2026)
DESCRIPTION:At The Center of Peace\, we believe every voice carries power. Voting is one way we express our values\, show up for our community\, and participate in shaping the future we wish to see. The upcoming Pennsylvania (PA) General Primary is Tuesday\, May 19. \nIf you need to register to vote or update your information\, we invite you to stop by after service and take this simple but meaningful step. When we vote\, our voices are heard\, and we help create a world that reflects compassion\, justice\, and possibility for all. \nStop by any Sunday in April: 5th\, 12\, 19\, & 26 \nWatching online? Register at: www.vote.pa.gov/register ** \nOut of state: Visit your state’s voter registration site. \n** Must be registered at least fifteen (15) days before election day. \nQuestions? Contact Tonya Skief at tskief.tcop@gmail.com or 267-625-6939
URL:https://thecenterofpeace.org/events/voter-registration-campaign-april-2026/2026-04-19/
LOCATION:TCP Home – Greene Street\, 5712-14 Greene Street\, Philadelphia\, PA\, 19144\, United States
CATEGORIES:Care Circles,Social Justice
ATTACH;FMTTYPE=image/png:https://thecenterofpeace.org/wp-content/uploads/2026/03/Voter-Registration-Campaign-2026.png
ORGANIZER;CN="Social Justice Care Circle":MAILTO:socialjustice@thecenterofpeace.org
END:VEVENT
BEGIN:VEVENT
DTSTART;TZID=America/New_York:20260419T100000
DTEND;TZID=America/New_York:20260419T130000
DTSTAMP:20260423T163246
CREATED:20260324T215202Z
LAST-MODIFIED:20260325T124329Z
UID:10003724-1776592800-1776603600@thecenterofpeace.org
SUMMARY:Spring and Summer Clothing Drive 2026
DESCRIPTION:During the month of April\, The Social Justice Care Circle will be collecting Spring and Summer clothing and shoes for men and women at The Behavioral Wellness Center at Girard.   \nWe are asking you to donate new or slightly worn and clean clothing/shoes for men and women to wear during the approaching spring and summer seasons. As you review and thin out your wardrobe\, please remember our brothers and sisters at The Behavioral Wellness Center\, who are deeply grateful for our past donations.  \n\nClothing and shoes for men and women should be new or slightly worn and clean.\n\n\nDonations should be in a large plastic bag or in a large shopping bag. \n\n\nPlease bring your donations to The Center of Peace on Sundays\, before 11am or after 1pm. \n\n\nDonations will be received on the following Sundays:  April 5\, 12\, 19\, and 26. \n\n\nAll donations will be removed after service every Sunday.\n\nIf you have questions regarding this event\, contact Donna A Brown – socialjustice@thecenterofpeace.org / 267-476-4751.  \nThank you for your continued support.  
URL:https://thecenterofpeace.org/events/spring-and-summer-clothing-drive-2026/2026-04-19/
LOCATION:TCP Home – Greene Street\, 5712-14 Greene Street\, Philadelphia\, PA\, 19144\, United States
CATEGORIES:Care Circles,EVENT CALENDAR,Social Justice
ATTACH;FMTTYPE=image/png:https://thecenterofpeace.org/wp-content/uploads/2026/03/SpringSummer-Clothing-Drive-2026-1920-x-1080-1.png
ORGANIZER;CN="Social Justice Care Circle":MAILTO:socialjustice@thecenterofpeace.org
END:VEVENT
BEGIN:VEVENT
DTSTART;TZID=America/New_York:20260412T123000
DTEND;TZID=America/New_York:20260412T133000
DTSTAMP:20260423T163246
CREATED:20260322T025939Z
LAST-MODIFIED:20260322T031036Z
UID:10003719-1775997000-1776000600@thecenterofpeace.org
SUMMARY:Voter Registration Campaign (April 2026)
DESCRIPTION:At The Center of Peace\, we believe every voice carries power. Voting is one way we express our values\, show up for our community\, and participate in shaping the future we wish to see. The upcoming Pennsylvania (PA) General Primary is Tuesday\, May 19. \nIf you need to register to vote or update your information\, we invite you to stop by after service and take this simple but meaningful step. When we vote\, our voices are heard\, and we help create a world that reflects compassion\, justice\, and possibility for all. \nStop by any Sunday in April: 5th\, 12\, 19\, & 26 \nWatching online? Register at: www.vote.pa.gov/register ** \nOut of state: Visit your state’s voter registration site. \n** Must be registered at least fifteen (15) days before election day. \nQuestions? Contact Tonya Skief at tskief.tcop@gmail.com or 267-625-6939
URL:https://thecenterofpeace.org/events/voter-registration-campaign-april-2026/2026-04-12/
LOCATION:TCP Home – Greene Street\, 5712-14 Greene Street\, Philadelphia\, PA\, 19144\, United States
CATEGORIES:Care Circles,Social Justice
ATTACH;FMTTYPE=image/png:https://thecenterofpeace.org/wp-content/uploads/2026/03/Voter-Registration-Campaign-2026.png
ORGANIZER;CN="Social Justice Care Circle":MAILTO:socialjustice@thecenterofpeace.org
END:VEVENT
BEGIN:VEVENT
DTSTART;TZID=America/New_York:20260412T100000
DTEND;TZID=America/New_York:20260412T130000
DTSTAMP:20260423T163246
CREATED:20260324T215202Z
LAST-MODIFIED:20260325T124329Z
UID:10003723-1775988000-1775998800@thecenterofpeace.org
SUMMARY:Spring and Summer Clothing Drive 2026
DESCRIPTION:During the month of April\, The Social Justice Care Circle will be collecting Spring and Summer clothing and shoes for men and women at The Behavioral Wellness Center at Girard.   \nWe are asking you to donate new or slightly worn and clean clothing/shoes for men and women to wear during the approaching spring and summer seasons. As you review and thin out your wardrobe\, please remember our brothers and sisters at The Behavioral Wellness Center\, who are deeply grateful for our past donations.  \n\nClothing and shoes for men and women should be new or slightly worn and clean.\n\n\nDonations should be in a large plastic bag or in a large shopping bag. \n\n\nPlease bring your donations to The Center of Peace on Sundays\, before 11am or after 1pm. \n\n\nDonations will be received on the following Sundays:  April 5\, 12\, 19\, and 26. \n\n\nAll donations will be removed after service every Sunday.\n\nIf you have questions regarding this event\, contact Donna A Brown – socialjustice@thecenterofpeace.org / 267-476-4751.  \nThank you for your continued support.  
URL:https://thecenterofpeace.org/events/spring-and-summer-clothing-drive-2026/2026-04-12/
LOCATION:TCP Home – Greene Street\, 5712-14 Greene Street\, Philadelphia\, PA\, 19144\, United States
CATEGORIES:Care Circles,EVENT CALENDAR,Social Justice
ATTACH;FMTTYPE=image/png:https://thecenterofpeace.org/wp-content/uploads/2026/03/SpringSummer-Clothing-Drive-2026-1920-x-1080-1.png
ORGANIZER;CN="Social Justice Care Circle":MAILTO:socialjustice@thecenterofpeace.org
END:VEVENT
BEGIN:VEVENT
DTSTART;TZID=America/New_York:20260405T123000
DTEND;TZID=America/New_York:20260405T133000
DTSTAMP:20260423T163246
CREATED:20260322T025939Z
LAST-MODIFIED:20260322T031036Z
UID:10003718-1775392200-1775395800@thecenterofpeace.org
SUMMARY:Voter Registration Campaign (April 2026)
DESCRIPTION:At The Center of Peace\, we believe every voice carries power. Voting is one way we express our values\, show up for our community\, and participate in shaping the future we wish to see. The upcoming Pennsylvania (PA) General Primary is Tuesday\, May 19. \nIf you need to register to vote or update your information\, we invite you to stop by after service and take this simple but meaningful step. When we vote\, our voices are heard\, and we help create a world that reflects compassion\, justice\, and possibility for all. \nStop by any Sunday in April: 5th\, 12\, 19\, & 26 \nWatching online? Register at: www.vote.pa.gov/register ** \nOut of state: Visit your state’s voter registration site. \n** Must be registered at least fifteen (15) days before election day. \nQuestions? Contact Tonya Skief at tskief.tcop@gmail.com or 267-625-6939
URL:https://thecenterofpeace.org/events/voter-registration-campaign-april-2026/2026-04-05/
LOCATION:TCP Home – Greene Street\, 5712-14 Greene Street\, Philadelphia\, PA\, 19144\, United States
CATEGORIES:Care Circles,Social Justice
ATTACH;FMTTYPE=image/png:https://thecenterofpeace.org/wp-content/uploads/2026/03/Voter-Registration-Campaign-2026.png
ORGANIZER;CN="Social Justice Care Circle":MAILTO:socialjustice@thecenterofpeace.org
END:VEVENT
BEGIN:VEVENT
DTSTART;TZID=America/New_York:20260405T100000
DTEND;TZID=America/New_York:20260405T130000
DTSTAMP:20260423T163246
CREATED:20260324T215202Z
LAST-MODIFIED:20260325T124329Z
UID:10003722-1775383200-1775394000@thecenterofpeace.org
SUMMARY:Spring and Summer Clothing Drive 2026
DESCRIPTION:During the month of April\, The Social Justice Care Circle will be collecting Spring and Summer clothing and shoes for men and women at The Behavioral Wellness Center at Girard.   \nWe are asking you to donate new or slightly worn and clean clothing/shoes for men and women to wear during the approaching spring and summer seasons. As you review and thin out your wardrobe\, please remember our brothers and sisters at The Behavioral Wellness Center\, who are deeply grateful for our past donations.  \n\nClothing and shoes for men and women should be new or slightly worn and clean.\n\n\nDonations should be in a large plastic bag or in a large shopping bag. \n\n\nPlease bring your donations to The Center of Peace on Sundays\, before 11am or after 1pm. \n\n\nDonations will be received on the following Sundays:  April 5\, 12\, 19\, and 26. \n\n\nAll donations will be removed after service every Sunday.\n\nIf you have questions regarding this event\, contact Donna A Brown – socialjustice@thecenterofpeace.org / 267-476-4751.  \nThank you for your continued support.  
URL:https://thecenterofpeace.org/events/spring-and-summer-clothing-drive-2026/2026-04-05/
LOCATION:TCP Home – Greene Street\, 5712-14 Greene Street\, Philadelphia\, PA\, 19144\, United States
CATEGORIES:Care Circles,EVENT CALENDAR,Social Justice
ATTACH;FMTTYPE=image/png:https://thecenterofpeace.org/wp-content/uploads/2026/03/SpringSummer-Clothing-Drive-2026-1920-x-1080-1.png
ORGANIZER;CN="Social Justice Care Circle":MAILTO:socialjustice@thecenterofpeace.org
END:VEVENT
BEGIN:VEVENT
DTSTART;TZID=America/New_York:20260301T123000
DTEND;TZID=America/New_York:20260301T133000
DTSTAMP:20260423T163246
CREATED:20260225T163000Z
LAST-MODIFIED:20260226T003331Z
UID:10003705-1772368200-1772371800@thecenterofpeace.org
SUMMARY:Winter Coat Drive 2026
DESCRIPTION:The Social Justice Care Circle is now collecting warm outerwear for male and female inmates to wear when released from the Montgomery County Correctional Facility in Eagleville\, PA. If they entered the prison wearing a T-shirt and shorts\, that is how they will be dressed when they are released. What they wear in\, they wear out upon release. \nPlease join us in our effort to provide warm outerwear for them when they are released. \nMale and female new\, clean\, and slightly worn winter coats\, jackets\, and sweaters. \nPlease place your item in a large plastic bag or shopping bag. \nBring it to The Center of Peace (TCP) on one of the following Sundays only: \n\nSunday\, February 15\nSunday\, February 22\nSunday\, March 1\n\nDonations will be delivered to the Montgomery County Correctional Facility in Eagleville\, PA by the Social Justice Care Circle. If you have any questions regarding this winter coat drive\, contact:\nSousan Robinson — Email: krisou000@gmail.com Ph#: 267-228-7934 \nThank you for your support\, participation\, and prayers.
URL:https://thecenterofpeace.org/events/winter-coat-drive-2026/2026-03-01/
LOCATION:TCP Home – Greene Street\, 5712-14 Greene Street\, Philadelphia\, PA\, 19144\, United States
CATEGORIES:Care Circles,EVENT CALENDAR,Social Justice
ATTACH;FMTTYPE=image/png:https://thecenterofpeace.org/wp-content/uploads/2026/02/Winter-Coat-Drive-2026-1920-x-1080-1.png
ORGANIZER;CN="Social Justice Care Circle":MAILTO:socialjustice@thecenterofpeace.org
END:VEVENT
BEGIN:VEVENT
DTSTART;TZID=America/New_York:20260222T123000
DTEND;TZID=America/New_York:20260222T133000
DTSTAMP:20260423T163246
CREATED:20260225T163000Z
LAST-MODIFIED:20260226T003331Z
UID:10003704-1771763400-1771767000@thecenterofpeace.org
SUMMARY:Winter Coat Drive 2026
DESCRIPTION:The Social Justice Care Circle is now collecting warm outerwear for male and female inmates to wear when released from the Montgomery County Correctional Facility in Eagleville\, PA. If they entered the prison wearing a T-shirt and shorts\, that is how they will be dressed when they are released. What they wear in\, they wear out upon release. \nPlease join us in our effort to provide warm outerwear for them when they are released. \nMale and female new\, clean\, and slightly worn winter coats\, jackets\, and sweaters. \nPlease place your item in a large plastic bag or shopping bag. \nBring it to The Center of Peace (TCP) on one of the following Sundays only: \n\nSunday\, February 15\nSunday\, February 22\nSunday\, March 1\n\nDonations will be delivered to the Montgomery County Correctional Facility in Eagleville\, PA by the Social Justice Care Circle. If you have any questions regarding this winter coat drive\, contact:\nSousan Robinson — Email: krisou000@gmail.com Ph#: 267-228-7934 \nThank you for your support\, participation\, and prayers.
URL:https://thecenterofpeace.org/events/winter-coat-drive-2026/2026-02-22/
LOCATION:TCP Home – Greene Street\, 5712-14 Greene Street\, Philadelphia\, PA\, 19144\, United States
CATEGORIES:Care Circles,EVENT CALENDAR,Social Justice
ATTACH;FMTTYPE=image/png:https://thecenterofpeace.org/wp-content/uploads/2026/02/Winter-Coat-Drive-2026-1920-x-1080-1.png
ORGANIZER;CN="Social Justice Care Circle":MAILTO:socialjustice@thecenterofpeace.org
END:VEVENT
BEGIN:VEVENT
DTSTART;TZID=America/New_York:20260215T123000
DTEND;TZID=America/New_York:20260215T133000
DTSTAMP:20260423T163246
CREATED:20260225T163000Z
LAST-MODIFIED:20260226T003331Z
UID:10003703-1771158600-1771162200@thecenterofpeace.org
SUMMARY:Winter Coat Drive 2026
DESCRIPTION:The Social Justice Care Circle is now collecting warm outerwear for male and female inmates to wear when released from the Montgomery County Correctional Facility in Eagleville\, PA. If they entered the prison wearing a T-shirt and shorts\, that is how they will be dressed when they are released. What they wear in\, they wear out upon release. \nPlease join us in our effort to provide warm outerwear for them when they are released. \nMale and female new\, clean\, and slightly worn winter coats\, jackets\, and sweaters. \nPlease place your item in a large plastic bag or shopping bag. \nBring it to The Center of Peace (TCP) on one of the following Sundays only: \n\nSunday\, February 15\nSunday\, February 22\nSunday\, March 1\n\nDonations will be delivered to the Montgomery County Correctional Facility in Eagleville\, PA by the Social Justice Care Circle. If you have any questions regarding this winter coat drive\, contact:\nSousan Robinson — Email: krisou000@gmail.com Ph#: 267-228-7934 \nThank you for your support\, participation\, and prayers.
URL:https://thecenterofpeace.org/events/winter-coat-drive-2026/2026-02-15/
LOCATION:TCP Home – Greene Street\, 5712-14 Greene Street\, Philadelphia\, PA\, 19144\, United States
CATEGORIES:Care Circles,EVENT CALENDAR,Social Justice
ATTACH;FMTTYPE=image/png:https://thecenterofpeace.org/wp-content/uploads/2026/02/Winter-Coat-Drive-2026-1920-x-1080-1.png
ORGANIZER;CN="Social Justice Care Circle":MAILTO:socialjustice@thecenterofpeace.org
END:VEVENT
BEGIN:VEVENT
DTSTART;TZID=America/New_York:20251120T200000
DTEND;TZID=America/New_York:20251121T060000
DTSTAMP:20260423T163246
CREATED:20251027T192023Z
LAST-MODIFIED:20251027T233814Z
UID:10003567-1763668800-1763704800@thecenterofpeace.org
SUMMARY:Sleeping Out for Love & Justice
DESCRIPTION:We’re Sleeping Out for Love and Justice!\nDonna Brown and Tonya Skief\, from The Center of Peace’s Social Justice Care Circle\, are joining the Covenant House Sleep Out at Phillies Citizens Bank Park on November 20\, 2025\, from 8:00 pm to 6:00 am\, November 21\, 2025 — standing in solidarity with Philadelphia’s homeless youth. \nWe’re not inviting others to sleep out — we’re representing our community in this citywide collaboration. This effort raises both funds and consciousness: a reminder that we are one human family and that every young person deserves warmth\, safety\, and the chance to dream again.  \nEach of us has committed to raising $1\,000 individually (a total of $2\,000 together) to physically participate in the Sleep Out and help Covenant House provide shelter\, counseling\, and hope for youth experiencing homelessness. \nHow You Can Help:\n💜 Donate today at The Center of Peace\, CSL-SJCC by clicking HERE\nScroll down and click on “Roster”\nSelect “Donate” icon\, next to Tonya Skief -OR- Donna Brown\nComplete donation form*** and submit. \n💜 Share this message: Invite others to give.\n💜 Hold the vision: That no young person sleeps outside. \n“Where love leads\, lack cannot follow” \nTogether\, we can be the warmth that changes a life. \n***Payments accepted are VENMO\, PayPal\, major credit cards\, and debit cards via website. All funds go directly to The Covenant House of Philadelphia. Please do not make any payments to The Center of Peace. Contact Tonya Skief at 267-625-6939 or Donna Brown at 267-476-4751 with any questions.
URL:https://thecenterofpeace.org/events/sleeping-out-for-love-justice/
CATEGORIES:Care Circles,EVENT CALENDAR,Social Justice
ATTACH;FMTTYPE=image/png:https://thecenterofpeace.org/wp-content/uploads/2025/10/Sleeping-Out-with-Love-and-Justice-1920-x-1080.png
ORGANIZER;CN="Social Justice Care Circle":MAILTO:socialjustice@thecenterofpeace.org
END:VEVENT
END:VCALENDAR