BEGIN:VCALENDAR
VERSION:2.0
PRODID:-//The Center of Peace, Center for Spiritual Living - ECPv6.15.11//NONSGML v1.0//EN
CALSCALE:GREGORIAN
METHOD:PUBLISH
X-ORIGINAL-URL:https://thecenterofpeace.org
X-WR-CALDESC:Events for The Center of Peace, Center for Spiritual Living
REFRESH-INTERVAL;VALUE=DURATION:PT1H
X-Robots-Tag:noindex
X-PUBLISHED-TTL:PT1H
BEGIN:VTIMEZONE
TZID:America/New_York
BEGIN:DAYLIGHT
TZOFFSETFROM:-0500
TZOFFSETTO:-0400
TZNAME:EDT
DTSTART:20240310T070000
END:DAYLIGHT
BEGIN:STANDARD
TZOFFSETFROM:-0400
TZOFFSETTO:-0500
TZNAME:EST
DTSTART:20241103T060000
END:STANDARD
BEGIN:DAYLIGHT
TZOFFSETFROM:-0500
TZOFFSETTO:-0400
TZNAME:EDT
DTSTART:20250309T070000
END:DAYLIGHT
BEGIN:STANDARD
TZOFFSETFROM:-0400
TZOFFSETTO:-0500
TZNAME:EST
DTSTART:20251102T060000
END:STANDARD
BEGIN:DAYLIGHT
TZOFFSETFROM:-0500
TZOFFSETTO:-0400
TZNAME:EDT
DTSTART:20260308T070000
END:DAYLIGHT
BEGIN:STANDARD
TZOFFSETFROM:-0400
TZOFFSETTO:-0500
TZNAME:EST
DTSTART:20261101T060000
END:STANDARD
END:VTIMEZONE
BEGIN:VEVENT
DTSTART;TZID=America/New_York:20251204T193000
DTEND;TZID=America/New_York:20251204T203000
DTSTAMP:20260423T224101
CREATED:20250910T214931Z
LAST-MODIFIED:20250910T215306Z
UID:10003172-1764876600-1764880200@thecenterofpeace.org
SUMMARY:A Course In Miracles Study Group
DESCRIPTION:Facilitators: Zulma González\, RScP and Cynthia Banks\, RScP\n\nCLICK TO JOIN THE STUDY GROUP  \nMeeting ID:  215 805 2506\nPasscode: LOVE
URL:https://thecenterofpeace.org/events/a-course-in-miracles-study-group/2025-12-04/
LOCATION:VIRTUAL\, PA\, United States
CATEGORIES:A Course In Miracles,Care Circles,EVENT CALENDAR,Study Groups
ATTACH;FMTTYPE=image/png:https://thecenterofpeace.org/wp-content/uploads/2025/09/A-Course-of-Miracles-1.png
ORGANIZER;CN="Zulma Gonzalez%2C RScP":MAILTO:miracles@thecenterofpeace.org
END:VEVENT
BEGIN:VEVENT
DTSTART;TZID=America/New_York:20251127T193000
DTEND;TZID=America/New_York:20251127T203000
DTSTAMP:20260423T224101
CREATED:20250910T214931Z
LAST-MODIFIED:20250910T215306Z
UID:10003171-1764271800-1764275400@thecenterofpeace.org
SUMMARY:A Course In Miracles Study Group
DESCRIPTION:Facilitators: Zulma González\, RScP and Cynthia Banks\, RScP\n\nCLICK TO JOIN THE STUDY GROUP  \nMeeting ID:  215 805 2506\nPasscode: LOVE
URL:https://thecenterofpeace.org/events/a-course-in-miracles-study-group/2025-11-27/
LOCATION:VIRTUAL\, PA\, United States
CATEGORIES:A Course In Miracles,Care Circles,EVENT CALENDAR,Study Groups
ATTACH;FMTTYPE=image/png:https://thecenterofpeace.org/wp-content/uploads/2025/09/A-Course-of-Miracles-1.png
ORGANIZER;CN="Zulma Gonzalez%2C RScP":MAILTO:miracles@thecenterofpeace.org
END:VEVENT
BEGIN:VEVENT
DTSTART;TZID=America/New_York:20251126T190000
DTEND;TZID=America/New_York:20251126T203000
DTSTAMP:20260423T224101
CREATED:20250913T024612Z
LAST-MODIFIED:20250913T034012Z
UID:10003483-1764183600-1764189000@thecenterofpeace.org
SUMMARY:Spiritual Living Circle Study Group
DESCRIPTION:JOIN SLC NOW \n\n\nMeeting ID:  215 805 2506\nPasscode: LOVE
URL:https://thecenterofpeace.org/events/spiritual-living-circle/2025-11-26/
LOCATION:VIRTUAL\, PA\, United States
CATEGORIES:Care Circles,EVENT CALENDAR,Spiritual Living Circle,Study Groups
ATTACH;FMTTYPE=image/png:https://thecenterofpeace.org/wp-content/uploads/2025/09/Spiritual-Living-Circle-1920-x-1080-2.png
ORGANIZER;CN="Zulma Gonzalez%2C RScP":MAILTO:miracles@thecenterofpeace.org
END:VEVENT
BEGIN:VEVENT
DTSTART;TZID=America/New_York:20251120T193000
DTEND;TZID=America/New_York:20251120T203000
DTSTAMP:20260423T224101
CREATED:20250910T214931Z
LAST-MODIFIED:20250910T215306Z
UID:10003170-1763667000-1763670600@thecenterofpeace.org
SUMMARY:A Course In Miracles Study Group
DESCRIPTION:Facilitators: Zulma González\, RScP and Cynthia Banks\, RScP\n\nCLICK TO JOIN THE STUDY GROUP  \nMeeting ID:  215 805 2506\nPasscode: LOVE
URL:https://thecenterofpeace.org/events/a-course-in-miracles-study-group/2025-11-20/
LOCATION:VIRTUAL\, PA\, United States
CATEGORIES:A Course In Miracles,Care Circles,EVENT CALENDAR,Study Groups
ATTACH;FMTTYPE=image/png:https://thecenterofpeace.org/wp-content/uploads/2025/09/A-Course-of-Miracles-1.png
ORGANIZER;CN="Zulma Gonzalez%2C RScP":MAILTO:miracles@thecenterofpeace.org
END:VEVENT
BEGIN:VEVENT
DTSTART;TZID=America/New_York:20251113T193000
DTEND;TZID=America/New_York:20251113T203000
DTSTAMP:20260423T224101
CREATED:20250910T214931Z
LAST-MODIFIED:20250910T215306Z
UID:10003169-1763062200-1763065800@thecenterofpeace.org
SUMMARY:A Course In Miracles Study Group
DESCRIPTION:Facilitators: Zulma González\, RScP and Cynthia Banks\, RScP\n\nCLICK TO JOIN THE STUDY GROUP  \nMeeting ID:  215 805 2506\nPasscode: LOVE
URL:https://thecenterofpeace.org/events/a-course-in-miracles-study-group/2025-11-13/
LOCATION:VIRTUAL\, PA\, United States
CATEGORIES:A Course In Miracles,Care Circles,EVENT CALENDAR,Study Groups
ATTACH;FMTTYPE=image/png:https://thecenterofpeace.org/wp-content/uploads/2025/09/A-Course-of-Miracles-1.png
ORGANIZER;CN="Zulma Gonzalez%2C RScP":MAILTO:miracles@thecenterofpeace.org
END:VEVENT
BEGIN:VEVENT
DTSTART;TZID=America/New_York:20251106T193000
DTEND;TZID=America/New_York:20251106T203000
DTSTAMP:20260423T224101
CREATED:20250910T214931Z
LAST-MODIFIED:20250910T215306Z
UID:10003168-1762457400-1762461000@thecenterofpeace.org
SUMMARY:A Course In Miracles Study Group
DESCRIPTION:Facilitators: Zulma González\, RScP and Cynthia Banks\, RScP\n\nCLICK TO JOIN THE STUDY GROUP  \nMeeting ID:  215 805 2506\nPasscode: LOVE
URL:https://thecenterofpeace.org/events/a-course-in-miracles-study-group/2025-11-06/
LOCATION:VIRTUAL\, PA\, United States
CATEGORIES:A Course In Miracles,Care Circles,EVENT CALENDAR,Study Groups
ATTACH;FMTTYPE=image/png:https://thecenterofpeace.org/wp-content/uploads/2025/09/A-Course-of-Miracles-1.png
ORGANIZER;CN="Zulma Gonzalez%2C RScP":MAILTO:miracles@thecenterofpeace.org
END:VEVENT
BEGIN:VEVENT
DTSTART;TZID=America/New_York:20251105T190000
DTEND;TZID=America/New_York:20251105T200000
DTSTAMP:20260423T224101
CREATED:20251026T213052Z
LAST-MODIFIED:20251028T140608Z
UID:10003565-1762369200-1762372800@thecenterofpeace.org
SUMMARY:Q and A with Rev Twana
DESCRIPTION:If you have any questions about tithing and sharing\, Rev. Twana Malone is here to help! She’ll be spending time with the congregation to answer your questions and provide guidance.\n\n  \n  \nCLICK HERE TO JOIN
URL:https://thecenterofpeace.org/events/q-and-a-with-rev-twana/
LOCATION:VIRTUAL\, PA\, United States
CATEGORIES:EVENT CALENDAR
ATTACH;FMTTYPE=image/png:https://thecenterofpeace.org/wp-content/uploads/2025/10/QA-November-2025-1920-x-1080-1.png
END:VEVENT
BEGIN:VEVENT
DTSTART;TZID=America/New_York:20251030T193000
DTEND;TZID=America/New_York:20251030T203000
DTSTAMP:20260423T224101
CREATED:20250910T214931Z
LAST-MODIFIED:20250910T215306Z
UID:10003167-1761852600-1761856200@thecenterofpeace.org
SUMMARY:A Course In Miracles Study Group
DESCRIPTION:Facilitators: Zulma González\, RScP and Cynthia Banks\, RScP\n\nCLICK TO JOIN THE STUDY GROUP  \nMeeting ID:  215 805 2506\nPasscode: LOVE
URL:https://thecenterofpeace.org/events/a-course-in-miracles-study-group/2025-10-30/
LOCATION:VIRTUAL\, PA\, United States
CATEGORIES:A Course In Miracles,Care Circles,EVENT CALENDAR,Study Groups
ATTACH;FMTTYPE=image/png:https://thecenterofpeace.org/wp-content/uploads/2025/09/A-Course-of-Miracles-1.png
ORGANIZER;CN="Zulma Gonzalez%2C RScP":MAILTO:miracles@thecenterofpeace.org
END:VEVENT
BEGIN:VEVENT
DTSTART;TZID=America/New_York:20251029T190000
DTEND;TZID=America/New_York:20251029T203000
DTSTAMP:20260423T224101
CREATED:20250924T010454Z
LAST-MODIFIED:20250924T011951Z
UID:10003542-1761764400-1761769800@thecenterofpeace.org
SUMMARY:Completing the Circle 2025 - Online Experience
DESCRIPTION:Completing the Circle is how The Center of Peace receives feedback from the congregation on how we are experiencing or various ministries. \nOur next small circle on Wednesday\, October 29\, 2025 from 7-8:30pm\, will be centered on our Online Experience. If you attend Sunday Service online or watch any of the recordings online\, please join us to share your experiences. \nThis small circle will be held online only. Please register as soon as possible. A thank you gift card will be given to each participant! \nRSVP HERE
URL:https://thecenterofpeace.org/events/completing-the-circle-2025-online-experience/
LOCATION:VIRTUAL\, PA\, United States
CATEGORIES:Completing The Circle,EVENT CALENDAR
ATTACH;FMTTYPE=image/png:https://thecenterofpeace.org/wp-content/uploads/2025/09/CTC-1920-x-1080.png
ORGANIZER;CN="Completing The Circle CC":MAILTO:completingthecircle@thecenterofpeace.org
END:VEVENT
BEGIN:VEVENT
DTSTART;TZID=America/New_York:20251023T193000
DTEND;TZID=America/New_York:20251023T203000
DTSTAMP:20260423T224101
CREATED:20250910T214931Z
LAST-MODIFIED:20250910T215306Z
UID:10003166-1761247800-1761251400@thecenterofpeace.org
SUMMARY:A Course In Miracles Study Group
DESCRIPTION:Facilitators: Zulma González\, RScP and Cynthia Banks\, RScP\n\nCLICK TO JOIN THE STUDY GROUP  \nMeeting ID:  215 805 2506\nPasscode: LOVE
URL:https://thecenterofpeace.org/events/a-course-in-miracles-study-group/2025-10-23/
LOCATION:VIRTUAL\, PA\, United States
CATEGORIES:A Course In Miracles,Care Circles,EVENT CALENDAR,Study Groups
ATTACH;FMTTYPE=image/png:https://thecenterofpeace.org/wp-content/uploads/2025/09/A-Course-of-Miracles-1.png
ORGANIZER;CN="Zulma Gonzalez%2C RScP":MAILTO:miracles@thecenterofpeace.org
END:VEVENT
BEGIN:VEVENT
DTSTART;TZID=America/New_York:20251022T190000
DTEND;TZID=America/New_York:20251022T203000
DTSTAMP:20260423T224101
CREATED:20250913T024612Z
LAST-MODIFIED:20250913T034012Z
UID:10003482-1761159600-1761165000@thecenterofpeace.org
SUMMARY:Spiritual Living Circle Study Group
DESCRIPTION:JOIN SLC NOW \n\n\nMeeting ID:  215 805 2506\nPasscode: LOVE
URL:https://thecenterofpeace.org/events/spiritual-living-circle/2025-10-22/
LOCATION:VIRTUAL\, PA\, United States
CATEGORIES:Care Circles,EVENT CALENDAR,Spiritual Living Circle,Study Groups
ATTACH;FMTTYPE=image/png:https://thecenterofpeace.org/wp-content/uploads/2025/09/Spiritual-Living-Circle-1920-x-1080-2.png
ORGANIZER;CN="Zulma Gonzalez%2C RScP":MAILTO:miracles@thecenterofpeace.org
END:VEVENT
BEGIN:VEVENT
DTSTART;TZID=America/New_York:20251016T193000
DTEND;TZID=America/New_York:20251016T203000
DTSTAMP:20260423T224101
CREATED:20250910T214931Z
LAST-MODIFIED:20250910T215306Z
UID:10003165-1760643000-1760646600@thecenterofpeace.org
SUMMARY:A Course In Miracles Study Group
DESCRIPTION:Facilitators: Zulma González\, RScP and Cynthia Banks\, RScP\n\nCLICK TO JOIN THE STUDY GROUP  \nMeeting ID:  215 805 2506\nPasscode: LOVE
URL:https://thecenterofpeace.org/events/a-course-in-miracles-study-group/2025-10-16/
LOCATION:VIRTUAL\, PA\, United States
CATEGORIES:A Course In Miracles,Care Circles,EVENT CALENDAR,Study Groups
ATTACH;FMTTYPE=image/png:https://thecenterofpeace.org/wp-content/uploads/2025/09/A-Course-of-Miracles-1.png
ORGANIZER;CN="Zulma Gonzalez%2C RScP":MAILTO:miracles@thecenterofpeace.org
END:VEVENT
BEGIN:VEVENT
DTSTART;TZID=America/New_York:20251009T193000
DTEND;TZID=America/New_York:20251009T203000
DTSTAMP:20260423T224101
CREATED:20250910T214931Z
LAST-MODIFIED:20250910T215306Z
UID:10003164-1760038200-1760041800@thecenterofpeace.org
SUMMARY:A Course In Miracles Study Group
DESCRIPTION:Facilitators: Zulma González\, RScP and Cynthia Banks\, RScP\n\nCLICK TO JOIN THE STUDY GROUP  \nMeeting ID:  215 805 2506\nPasscode: LOVE
URL:https://thecenterofpeace.org/events/a-course-in-miracles-study-group/2025-10-09/
LOCATION:VIRTUAL\, PA\, United States
CATEGORIES:A Course In Miracles,Care Circles,EVENT CALENDAR,Study Groups
ATTACH;FMTTYPE=image/png:https://thecenterofpeace.org/wp-content/uploads/2025/09/A-Course-of-Miracles-1.png
ORGANIZER;CN="Zulma Gonzalez%2C RScP":MAILTO:miracles@thecenterofpeace.org
END:VEVENT
BEGIN:VEVENT
DTSTART;TZID=America/New_York:20251009T190000
DTEND;TZID=America/New_York:20251009T200000
DTSTAMP:20260423T224101
CREATED:20250910T135430Z
LAST-MODIFIED:20250915T130416Z
UID:10003153-1760036400-1760040000@thecenterofpeace.org
SUMMARY:Bi-Annual Meeting 2025
DESCRIPTION:Get ready for TCP’s upcoming bi-annual meeting on Thursday\, October 9 at 7pm. \nThis important virtual event allows our Board of Trustees to share the latest updates on the\nbusiness side of our spiritual community. \nIt’s your chance to stay informed and get engaged! \n  \nJOIN MEETING NOW
URL:https://thecenterofpeace.org/events/bi-annual-meeting-2025/
LOCATION:VIRTUAL\, PA\, United States
CATEGORIES:EVENT CALENDAR,TCP Board of Trustees
ATTACH;FMTTYPE=image/png:https://thecenterofpeace.org/wp-content/uploads/2025/09/Bi-Annual-Meeting-2025-1920-x-1080-2.png
ORGANIZER;CN="TCP Board of Trustees":MAILTO:TCPboard@thecenterofpeace.org
END:VEVENT
BEGIN:VEVENT
DTSTART;TZID=America/New_York:20251007T180000
DTEND;TZID=America/New_York:20251007T203000
DTSTAMP:20260423T224101
CREATED:20250804T191827Z
LAST-MODIFIED:20250924T013118Z
UID:10003131-1759860000-1759869000@thecenterofpeace.org
SUMMARY:FALL 2025 - Journey of the Soul
DESCRIPTION:Journey of the Soul offers the Principles of Science of Mind with the emphasis on daily meditation\, emotional healing\, practical application\, self-love\, soul presence\, and life direction.  \n  \nCombining the integrative principles and techniques from spiritual psychology with the power of Science of Mind offers a dynamic training opportunity for students.  \n  \nJourney of the Soul includes six modules: \n\nModule One: The Soul\nModule Two: Identity as Soul\nModule Three: Growing Expression of the Soul\nModule Four: Healing the Feeling\nModule Five: Soul Expression in the Body and Life\nModule Six: Soul Purpose\n\n  \nWhen: Tuesdays at 6-8:30pm\, beginning October 7 through November 11 (6 weeks) \n  \nFacilitator(s): Rita Naylor\, RScP\, Deborah Ford\, RScP/Emerita  \n  \nInvestment: $240 ($200 tuition; $40 registration fee) \n  \nRequired Reading: \n\nThe Magic of the Soul\, Peak Publications\, Harbula\, Patrick J. – ISBN-13:9780971556508\n\n  \nPrerequisite: Foundations of Science of Mind \n  \nQuestions: Please email the Education Care Circle at education@thecenterofpeace.org or contact 215-385-0313. \n  \n  \nREGISTER NOW \n  \n  \nPLEASE NOTE: REGISTER BY SEPTEMBER 30\, 2025. You must pay the registration fee prior to the class start date. Credit for this course is not issued until tuition has been paid in full. If tuition is not paid in full you cannot take any additional courses.
URL:https://thecenterofpeace.org/events/fall-2025-journey-of-the-soul/
LOCATION:VIRTUAL\, PA\, United States
CATEGORIES:Care Circles,Education Care Circle,EVENT CALENDAR
ATTACH;FMTTYPE=image/png:https://thecenterofpeace.org/wp-content/uploads/2025/08/Journey-of-the-Soul.png
ORGANIZER;CN="Education Care Circle":MAILTO:education@thecenterofpeace.org
END:VEVENT
BEGIN:VEVENT
DTSTART;TZID=America/New_York:20251004T110000
DTEND;TZID=America/New_York:20251004T130000
DTSTAMP:20260423T224101
CREATED:20250813T023126Z
LAST-MODIFIED:20250813T031516Z
UID:10003132-1759575600-1759582800@thecenterofpeace.org
SUMMARY:FALL 2025: Consciousness - The Art and Science of Spiritual Mind Treatment
DESCRIPTION:The Art and Science of Spiritual Mind Treatment. This course explores the principles and practices of Science of Mind with an emphasis on the use of daily Spiritual Mind Treatment. Combining the principles of Science of Mind and the practice of Spiritual Mind Treatment offers a dynamic training opportunity for students to engage in Intentional Manifestation\, and allows them to heal\, overcome challenges\, and change the conditions of their lives and the lives of others. \nThe Art and Science of Spiritual Mind Treatment includes Eight Modules:\n Module One: Getting Started\n Module Two: Introduction to Spiritual Mind Treatment\n Module Three: Overview of Spiritual Mind Treatment\n Module Four: The Mystical Foundation of Spiritual Mind Treatment\n Module Five: Declaring Your Good – Realizing Your Truth\n Module Six: Making It Real\n Module Seven: Accept and Let Go\n Module Eight: Spiritual Mind Treatment as Spiritual Practice \nWhen: Saturdays from 11:00am-1:00pm EST\, beginning October 4 through November 29 (8 weeks) \nFacilitator(s): Kutia Thompson\, RScP and Patrcia Watson\, RScP/Emerita \nInvestment: $240 \nRequired Reading:\nThe page numbers for the required readings\, quotes\, and passages come from the following International Standard Book Number (ISBN) versions. Chapter references assist users who have a different version of the required text.  \nKindle users are encouraged to use the search feature to locate the required reading: \n—“The Science of Mind”\, textbook by Ernest Holmes\, 1938 Edition ISBN-13: 9780874779219\n—“5 Steps to Freedom: An Introduction to Spiritual Mind Treatment”. Waterhouse\, John B. ISBN-13: 978-0875168425 \nNote: Many classes require “The Science of Mind” by Ernest Holmes. There are multiple editions of The Science of Mind. It is recommended that students purchase the paperback edition by Tarcher-Putnam. Other editions may have different content and/or page numbering. \n–“Treat Yourself to Life”\, Barker\, Raymond C.\nISBN-13: 978-0875167008 \nPrerequisite: Foundations of Science of Mind.  \nQuestions: Please email the Education Care Circle at education@thecenterofpeace.org or contact 215-385-0313. \nREGISTER NOW  \n  \nPLEASE NOTE:  \nThe registration deadline is September 24\, 2025.  \nAlso\, you must pay the registration fee prior to the class start date. Credit for this course is not issued until tuition has been paid in full. If tuition is not paid in full you cannot take any additional courses.  \nNo class on November 18th. \n  \n 
URL:https://thecenterofpeace.org/events/fall-2025-spiritual-mind-treatment/
LOCATION:VIRTUAL\, PA\, United States
CATEGORIES:Care Circles,Education Care Circle
ATTACH;FMTTYPE=image/png:https://thecenterofpeace.org/wp-content/uploads/2025/08/SMT.png
END:VEVENT
BEGIN:VEVENT
DTSTART;TZID=America/New_York:20251002T193000
DTEND;TZID=America/New_York:20251002T203000
DTSTAMP:20260423T224101
CREATED:20250910T214931Z
LAST-MODIFIED:20250910T215306Z
UID:10003163-1759433400-1759437000@thecenterofpeace.org
SUMMARY:A Course In Miracles Study Group
DESCRIPTION:Facilitators: Zulma González\, RScP and Cynthia Banks\, RScP\n\nCLICK TO JOIN THE STUDY GROUP  \nMeeting ID:  215 805 2506\nPasscode: LOVE
URL:https://thecenterofpeace.org/events/a-course-in-miracles-study-group/2025-10-02/
LOCATION:VIRTUAL\, PA\, United States
CATEGORIES:A Course In Miracles,Care Circles,EVENT CALENDAR,Study Groups
ATTACH;FMTTYPE=image/png:https://thecenterofpeace.org/wp-content/uploads/2025/09/A-Course-of-Miracles-1.png
ORGANIZER;CN="Zulma Gonzalez%2C RScP":MAILTO:miracles@thecenterofpeace.org
END:VEVENT
BEGIN:VEVENT
DTSTART;TZID=America/New_York:20250925T193000
DTEND;TZID=America/New_York:20250925T203000
DTSTAMP:20260423T224101
CREATED:20250910T214931Z
LAST-MODIFIED:20250910T215306Z
UID:10003162-1758828600-1758832200@thecenterofpeace.org
SUMMARY:A Course In Miracles Study Group
DESCRIPTION:Facilitators: Zulma González\, RScP and Cynthia Banks\, RScP\n\nCLICK TO JOIN THE STUDY GROUP  \nMeeting ID:  215 805 2506\nPasscode: LOVE
URL:https://thecenterofpeace.org/events/a-course-in-miracles-study-group/2025-09-25/
LOCATION:VIRTUAL\, PA\, United States
CATEGORIES:A Course In Miracles,Care Circles,EVENT CALENDAR,Study Groups
ATTACH;FMTTYPE=image/png:https://thecenterofpeace.org/wp-content/uploads/2025/09/A-Course-of-Miracles-1.png
ORGANIZER;CN="Zulma Gonzalez%2C RScP":MAILTO:miracles@thecenterofpeace.org
END:VEVENT
BEGIN:VEVENT
DTSTART;TZID=America/New_York:20250924T190000
DTEND;TZID=America/New_York:20250924T203000
DTSTAMP:20260423T224101
CREATED:20250913T024612Z
LAST-MODIFIED:20250913T034012Z
UID:10003481-1758740400-1758745800@thecenterofpeace.org
SUMMARY:Spiritual Living Circle Study Group
DESCRIPTION:JOIN SLC NOW \n\n\nMeeting ID:  215 805 2506\nPasscode: LOVE
URL:https://thecenterofpeace.org/events/spiritual-living-circle/2025-09-24/
LOCATION:VIRTUAL\, PA\, United States
CATEGORIES:Care Circles,EVENT CALENDAR,Spiritual Living Circle,Study Groups
ATTACH;FMTTYPE=image/png:https://thecenterofpeace.org/wp-content/uploads/2025/09/Spiritual-Living-Circle-1920-x-1080-2.png
ORGANIZER;CN="Zulma Gonzalez%2C RScP":MAILTO:miracles@thecenterofpeace.org
END:VEVENT
BEGIN:VEVENT
DTSTART;VALUE=DATE:20250922
DTEND;VALUE=DATE:20251101
DTSTAMP:20260423T224101
CREATED:20250825T182617Z
LAST-MODIFIED:20250913T021155Z
UID:10003137-1758499200-1761955199@thecenterofpeace.org
SUMMARY:40-Days - Powerfully Creating Abundance
DESCRIPTION:REGISTER NOW
URL:https://thecenterofpeace.org/events/40-days-powerfully-creating-abundance-2025/
LOCATION:VIRTUAL\, PA\, United States
CATEGORIES:EVENT CALENDAR
ATTACH;FMTTYPE=image/png:https://thecenterofpeace.org/wp-content/uploads/2025/08/Powerfully-Creating-Abundance-40-Days.png
END:VEVENT
BEGIN:VEVENT
DTSTART;TZID=America/New_York:20250918T193000
DTEND;TZID=America/New_York:20250918T203000
DTSTAMP:20260423T224101
CREATED:20250910T214931Z
LAST-MODIFIED:20250910T215306Z
UID:10003161-1758223800-1758227400@thecenterofpeace.org
SUMMARY:A Course In Miracles Study Group
DESCRIPTION:Facilitators: Zulma González\, RScP and Cynthia Banks\, RScP\n\nCLICK TO JOIN THE STUDY GROUP  \nMeeting ID:  215 805 2506\nPasscode: LOVE
URL:https://thecenterofpeace.org/events/a-course-in-miracles-study-group/2025-09-18/
LOCATION:VIRTUAL\, PA\, United States
CATEGORIES:A Course In Miracles,Care Circles,EVENT CALENDAR,Study Groups
ATTACH;FMTTYPE=image/png:https://thecenterofpeace.org/wp-content/uploads/2025/09/A-Course-of-Miracles-1.png
ORGANIZER;CN="Zulma Gonzalez%2C RScP":MAILTO:miracles@thecenterofpeace.org
END:VEVENT
BEGIN:VEVENT
DTSTART;TZID=America/New_York:20250916T183000
DTEND;TZID=America/New_York:20250916T203000
DTSTAMP:20260423T224101
CREATED:20250804T175630Z
LAST-MODIFIED:20250924T012821Z
UID:10003130-1758047400-1758054600@thecenterofpeace.org
SUMMARY:FALL 2025 - Consciousness-Revealing Wholeness
DESCRIPTION:This class offers students an essential application of Science of Mind Principles and Practices\, exploring the profound interrelationship between Spirit\, Mind\, and Body. Students will explore the depths of Science of Mind teachings to understand how the principles can be practically applied to align and harmonize the spiritual\, mental\, and physical aspects of their being. Through this exploration\, students will discover the power of integrating science and spirituality\, leading to a deeper understanding of their own wholeness and facilitating a transformative journey of self-discovery and spiritual growth. \n  \nWhen: Tuesdays at 6:30 – 8:30 pm\, beginning September 16 through October 28 (7 weeks) \n  \nFacilitators: Betty Boyd\, RScP and Susan Saunders\, RScP \n\nInvestment: $240 ($200\, Tuition; $40\, Registration fee) \n\nRequired Reading:  \n\n“Mind Over Medicine” by Dr. Lissa Rankin\n“The Science of Mind” by Ernest Holmes \n\n  \nPrerequisite: Foundations of Science of Mind \n  \nQuestions: Please email the Education Care Circle at education@thecenterofpeace.org or contact 215-385-0313. \n  \nREGISTER NOW \n  \nPlease note: REGISTER BY SEPTEMBER 9\, 2025. You must pay the registration fee prior to the class start date. Credit for this course is not issued until tuition has been paid in full. If tuition is not paid in full you cannot take any additional courses.
URL:https://thecenterofpeace.org/events/fall-2025-consciousness-revealing-wholeness/
LOCATION:VIRTUAL\, PA\, United States
CATEGORIES:Care Circles,Education Care Circle,EVENT CALENDAR
ATTACH;FMTTYPE=image/png:https://thecenterofpeace.org/wp-content/uploads/2025/08/Revealing-Wholeness.png
ORGANIZER;CN="Education Care Circle":MAILTO:education@thecenterofpeace.org
END:VEVENT
BEGIN:VEVENT
DTSTART;TZID=America/New_York:20250911T193000
DTEND;TZID=America/New_York:20250911T203000
DTSTAMP:20260423T224101
CREATED:20250910T214931Z
LAST-MODIFIED:20250910T215306Z
UID:10003160-1757619000-1757622600@thecenterofpeace.org
SUMMARY:A Course In Miracles Study Group
DESCRIPTION:Facilitators: Zulma González\, RScP and Cynthia Banks\, RScP\n\nCLICK TO JOIN THE STUDY GROUP  \nMeeting ID:  215 805 2506\nPasscode: LOVE
URL:https://thecenterofpeace.org/events/a-course-in-miracles-study-group/2025-09-11/
LOCATION:VIRTUAL\, PA\, United States
CATEGORIES:A Course In Miracles,Care Circles,EVENT CALENDAR,Study Groups
ATTACH;FMTTYPE=image/png:https://thecenterofpeace.org/wp-content/uploads/2025/09/A-Course-of-Miracles-1.png
ORGANIZER;CN="Zulma Gonzalez%2C RScP":MAILTO:miracles@thecenterofpeace.org
END:VEVENT
END:VCALENDAR